Workbook
Name Logo: INDEX(Tables!$F$18:$F$22,MATCH(Tables!$H$2,Tables!$D$18:$D$22,0))

Sheet Tables
A1: Workbook Lock Configuration | D1: BMP Type | F1: Revision Date: | H1: 46266 | K1: 1 | L1: Lookup Table | M1: Baldwin County | N1: Hoover | O1: Jefferson | P1: Mobile | Q1: Montgomery | R1: Prattville
A2: Lock Date: | B2: =EDATE(H$1,B3) -> 46661 | F2: Select City: | H2: Prattville | K2: =K1+1 -> 2 | L2: (WQ) | M2: 1 | N2: 1.1 | O2: 1.1 | P2: 1.2 | Q2: 1.1 | R2: 1.1
A3: Active Months: | B3: 13 | D3: Detention Pond | F3: Entity Name: | H3: =HLOOKUP($H$2,$M$1:$R$14,13) -> the City of Prattville | K3: =K2+1 -> 3 | L3: (2-yr) | M3: 6.02 | N3: 4.11 | O3: 4.14 | P3: 5.7 | Q3: 4.24 | R3: 4.21
A4: Override LockD and Time: | D4: Retention Pond | F4: Entity Type: | H4: =HLOOKUP($H$2,$M$1:$R$14,10) -> City | K4: =K3+1 -> 4 | L4: (5-yr) | M4: 7.68 | N4: 5.01 | O4: 5.06 | P4: 7.21 | Q4: 5.3 | R4: 5.24
A5: Admin Unlock Code: | B5: bds958hc | D5: Underground Detention | K5: =K4+1 -> 5 | L5: (10-yr) | M5: 9.26 | N5: 5.87 | O5: 5.91 | P5: 8.63 | Q5: 6.24 | R5: 6.17
A6: Computed Lock Date and Time: | B6: =IF(ISBLANK($B$4),$B$2,$B$4) -> 46661 | D6: Bioretention Area | K6: =K5+1 -> 6 | L6: (25-yr) | M6: 11.7 | N6: 7.21 | O6: 7.26 | P6: 10.8 | Q6: 7.64 | R6: 7.55
A7: Accepted Flag: | B7: =IF(License!$F$2="I ACCEPT",TRUE,FALSE) -> FALSE | D7: Hydrodynamic Separator | K7: =K6+1 -> 7 | L7: (50-yr) | M7: 13.9 | N7: 8.37 | O7: 8.48 | P7: 12.7 | Q7: 8.8 | R7: 8.7
A8: Gate OK: | B8: =OR(License!$F$4=B5, AND(B7=TRUE, NOW()<B6)) -> FALSE | D8: Permeable Pavement | K8: =K7+1 -> 8 | L8: (100-yr) | M8: 16.3 | N8: 9.65 | O8: 9.83 | P8: 14.8 | Q8: 10 | R8: 9.93
D9: Other | K9: =K8+1 -> 9 | L9: Effective Date: | M9: 40574 | N9: 1 February 2020 | O9: 1 October 2020 | P9: 1 October 2015 | Q9: 1 October 2015 | R9: 1 July 2018
K10: =K9+1 -> 10 | L10: Type: | M10: County | N10: City | O10: County | P10: City | Q10: City | R10: City
B11: Acceptance Table | K11: =K10+1 -> 11 | L11: Maintenance Agreement: | M11: O&M Plan | N11: Covenant | O11: O&M Agreement | P11: O&M Agreement | Q11: O&M Agreement | R11: O&M Agreement
B12: Selection Required | K12: =K11+1 -> 12 | L12: Agreement Type: | M12: Drainage Rights | N12: a Release Agreement | O12: a Release Agreement | P12: a Release Agreement | Q12: a Spillage Agreement | R12: a Release Agreement
B13: I ACCEPT | K13: =K12+1 -> 13 | L13: Entity: | M13: Baldwin County | N13: the City of Hoover | O13: Jefferson County | P13: the City of Mobile | Q13: the City of Montgomery | R13: the City of Prattville
B14: I DO NOT ACCEPT | K14: =K13+1 -> 14 | L14: Insp Report Due: | M14: 31 December | N14: 31 December | P14: 31 December | Q14: 30 Septbember | R14: 1 September
H17: Current Logo
D18: Hoover
D19: Jefferson
D20: Mobile
D21: Montgomery
D22: Prattville

Sheet License
C1: END USER LICENSE AGREEMENT (EULA) | N1: Effective Date: | O1: =Tables!$H$1 -> 46266
A2: =IF(OR(F2="I ACCEPT",F2="I DO NOT ACCEPT"),1,2) -> 2 | E2: Acceptance (required): | F2: Selection Required | N2: Expiration Date: | O2: =Tables!$B$6 -> 46661
A3: =IF(F3="Workbook is Locked and Unavailable",2,1) -> 2 | E3: Current Status: | F3: =IF(Tables!$B$8,"Workbook is Active","Workbook is Locked and Unavailable") -> Workbook is Locked and Unavailable
E4: Administrator Code (Hidden):
E6: IMPORTANT - READ BEFORE USE: | F6: This workbook and its embedded logic, validators, and scripts (collectively, the "Tool") are proprietary to Hydro, LLC ("Licensor").
F7: ="By clicking I ACCEPT, you represent that you are (a) preparing a post-construction submittal for "&Tables!$H$3&" and/or" -> By clicking I ACCEPT, you represent that you are (a) preparing a post-construction submittal for the City of Prattville and/or
F8: maintaining internal records for that submittal; and (b) you have authority to bind your organization ("User"). If you are not
F9: authorized, do not use the Tool.
D11: 1 | E11: Limited License
F12: Licensor grants the User a non-exclusive, non-transferable, non-sublicensable, revocable license to use the Tool soley to prepare
F13: ="and submit post-construction application materials to "&Tables!$H$3&" and for the User's internal recordkeeping for those" -> and submit post-construction application materials to the City of Prattville and for the User's internal recordkeeping for those
F14: submissions. All other uses, including redistribution, public posting, training, or use for other agencies, are prohibited unless
F15: agreed in writing.
D16: 2 | E16: Ownership; No Work-for-Hire
F17: The Tool is licensed, not sold. Licensor retains all right, title, and interest in and to the Tool, including all formulas, code,
F18: templates, and documentation. The Tool is not a work made for hire and no implied licenses are granted.
D19: 3 | E19: Restrictions
F20: The User shall not and shall not permit others to: (a) copy, modify, decompile, or reverse-engineer the Tool; (b) remove proprietary
F21: notices, logos, or watermarks; (c) bypass or disable protections; or (d) redistribute the Tool to third parties (other than submitting filled
F22: ="forms to the "&Tables!$H$4&" as intended. The "&Tables!$H$4&" may host and distribute the unmodified Tool to prospective submitters for" -> forms to the City as intended. The City may host and distribute the unmodified Tool to prospective submitters for
F23: the permitted purpose.
D24: 4 | E24: Suspension and Termination
F25: Licensor may suspend immediately if the Tool is misused, compromised, or used in a manner creating security, legal, or reputational risk.
F26: Upon expiration/termination, User shall stop using the Tool, but may retain archive copies of completed submissions an records
F27: created during the Term.
D28: 5 | E28: Public Records Acknowledgment
F29: ="Outputs and application materials generated with the Tool may be public records of "&Tables!$H$3&"; the Tool itself" -> Outputs and application materials generated with the Tool may be public records of the City of Prattville; the Tool itself
F30: (including templates, code, logic) remains Licensor's proprietary material and is not a public record merely by being used to creat submittions.
D31: 6 | E31: No Professional Services; User Responsibility
F32: ="The Tool is a convenience aid and does not constitute engineering, legal or compliance advice. The "&Tables!$H$3&"'s standards and" -> The Tool is a convenience aid and does not constitute engineering, legal or compliance advice. The the City of Prattville's standards and
F33: regulations control. User is solely responsible for the accuracy and completeness of all data and deliverables.
D34: 7 | E34: Disclaimers; Limitation of Liability
F35: The Tool is provided "AS IS". Licensor disclaims all warranties, express or implied (including merchantability, fitness for a particular
F36: purpose, and non-infringement.) To the Maximum extent permitted by law, Licensor will not be liable for indirect, incidental,
F37: special, consequential, or punitive damages.
D38: 8 | E38: Injunctive Relief
F39: Unathorized use, copying, or distribution of the Tool will cause irreparable harm for which monetary damages are inadequate;
F40: Licensor may seek injunctive relief in addition to other remedies.
D41: 9 | E41: Feedback
F42: Suggestions or feedback may be used by Licensor without restriction or obligation.
...

Sheet Instructions
B2: General Instructions
B4: 1 | C4: Complete the form with the required information.
B6: =B4+1 -> 2 | C6: Field Types
I7: Enter data as applicable.
I9: This is a required field. Once a number or text is entered, the green highlight will be removed.
I12: This is a required field. Place an "X" in the appropriate box and the green highlight will be removed. In some cases, the selection is optional. Once an option is completed, additional fields will be highlighted green and in some fields the green highlight will be removed.
I17: Indicates an error. Only one can be selected.
I19: This is a calculated field. Once the required information is entered, the orange highlight will be removed.

Sheet Form 5A - HOA
N1: Form 5A - Home Owners Association (HOA) Escrow Account / Maintenance Request Form
A6: Home Owners Association (HOA) Information: | AD6: Date:
E7: Development:
E8: HOA Name: | AD8: Phone:
E9: Address: | AD9: Fax:
E10: City: | X10: State: | AF10: Zip Code:
B12: HOA Board Members Name | K12: Title | R12: Phone | X12: Email
AL13: =IF(ISBLANK(B13),1,2) -> 1
AL14: =IF(ISBLANK(B14),1,2) -> 1
AL15: =IF(ISBLANK(B15),1,2) -> 1
AL16: =IF(ISBLANK(B16),1,2) -> 1
AL17: =IF(ISBLANK(B17),1,2) -> 1
A19: Escrow Account: | U19: Required Attachment: | W19: Annual Escrow Account Disclosure Statement
H21: Financial Institution:
H22: Contact: | AD22: Phone:
H23: Address: | AD23: Fax:
H24: City: | AF24: State:
H25: Email: | AF25: Zip Code:
C26: For escrow payment schedule information, please contact the Public Works Department at (334) 595-0888.
A28: Fund Request from Escrow Account for Maintenance:
H30: Required Attachments: | K30: Engineer's Estimate | R30: or | V30: Contractor's Bid | AL30: =IF(AND(ISBLANK(J30),ISBLANK(U30)),1,2) -> 1 | AM30: =IF(ISBLANK(J30),1,IF(ISBLANK(U30),2,3)) -> 1
B32: BMP ID | F32: BMP Type | P32: Summary of Maintenance | AE32: Amount Requested
AL33: =IF(ISBLANK(B33),1,2) -> 1
AL34: =IF(ISBLANK(B34),1,2) -> 1
AL35: =IF(ISBLANK(B35),1,2) -> 1
AL36: =IF(ISBLANK(B36),1,2) -> 1
AL37: =IF(ISBLANK(B37),1,2) -> 1
AC38: Total Amount Requested: | AE38: =SUM(AE33:AJ37) -> 0
A40: Request by:
E41: HOA Name:
E42: Contact: | AD42: Phone:
E43: Address: | AD43: Fax:
E44: City: | X44: State: | AF44: Zip Code:
E45: Email:
E48: Signature: | Y48: Date:
B51: =Tables!$H$1 -> 46266 | R51: Page 1 of 1
