Workbook
Name _Hlk68675965: 'Form 3H - As-built'!#REF!
Name Logo: INDEX(Tables!$F$32:$F$38,MATCH(Tables!$F$14,Tables!$E$32:$E$38,0))
Name Material: Tables!$D$2:$D$10
Name Shape: Tables!$F$2:$F$9

Sheet Tables
A1: Workbook Lock Configuration | D1: Material | F1: Shape | H1: Type | J1: Design Response | K1: 1 | L1: Lookup Table | M1: Baldwin County | N1: Hoover | O1: Jefferson | P1: Lee County | Q1: Mobile | R1: Montgomery | S1: Prattville
A2: Lock Date: | B2: =EDATE(F$13,B3) -> 46661 | D2: Concrete | F2: Rectangle | H2: Combination | J2: Parcel No. is not been provided | K2: 2 | L2: (WQ) | M2: 1 | N2: 1.1 | O2: 1.1 | P2: 1.1 | Q2: 1.2 | R2: 1.1 | S2: 1.1
A3: Active Months: | B3: 13 | D3: Metal | F3: Round | H3: Grate | J3: Inlet capacity is not provided | K3: 3 | L3: (2-yr) | M3: 6.02 | N3: 4.11 | O3: 4.14 | P3: 4.12 | Q3: 5.7 | R3: 4.24 | S3: 4.21
A4: Override LockD and Time: | D4: Other | F4: Square | H4: Pedestal | J4: Inlet is not privately maintained | K4: 4 | L4: (5-yr) | M4: 7.68 | N4: 5.01 | O4: 5.06 | P4: 5.05 | Q4: 7.21 | R4: 5.3 | S4: 5.24
A5: Admin Unlock Code: | B5: bds958hc | F5: Other | H5: Type S (Single Wing) | J5: Inlet is not accesiable for maintenance | K5: 5 | L5: (10-yr) | M5: 9.26 | N5: 5.87 | O5: 5.91 | P5: 5.83 | Q5: 8.63 | R5: 6.24 | S5: 6.17
A6: Computed Lock Date and Time: | B6: =IF(ISBLANK($B$4),$B$2,$B$4) -> 46661 | H6: Type S (Double Wing) | J6: Treatment Flow Rate is not provided | K6: 6 | L6: (25-yr) | M6: 11.7 | N6: 7.21 | O6: 7.26 | P6: 6.91 | Q6: 10.8 | R6: 7.64 | S6: 7.55
A7: Accepted Flag: | B7: =IF(License!$F$2="I ACCEPT",TRUE,FALSE) -> FALSE | H7: Other | J7: Bypass flow rate is not provided | K7: 7 | L7: (50-yr) | M7: 13.9 | N7: 8.37 | O7: 8.48 | P7: 7.75 | Q7: 12.7 | R7: 8.8 | S7: 8.7
A8: Gate OK: | B8: =OR(License!$F$4=B5, AND(B7=TRUE, NOW()<B6)) -> FALSE | J8: Latitude and/or Longitude has been entered as text. Change to a number. | K8: 8 | L8: (100-yr) | M8: 16.3 | N8: 9.65 | O8: 9.83 | P8: 8.6 | Q8: 14.8 | R8: 10 | S8: 9.93
J9: Latitude and/or Longitude not provided | K9: 9 | L9: Effective Date: | M9: 40574 | N9: 1 February 2020 | O9: 1 October 2020 | Q9: 1 October 2015 | R9: 1 October 2015 | S9: 1 July 2018
J10: Rim EL. is not provided | K10: 10 | L10: Type: | M10: County | N10: City | O10: County | P10: County | Q10: City | R10: City | S10: City
B11: Acceptance Table | J11: Sump EL. is not provided | K11: 11 | L11: Maintenance Agreement: | M11: O&M Plan | N11: Covenant | O11: O&M Agreement | Q11: O&M Agreement | R11: O&M Agreement | S11: O&M Agreement
B12: Selection Required | J12: Outlete Pipe Invert EL. is not provided | K12: 12 | L12: Permit Type: | Q12: Engineering or Building No. | R12: ENG No.
B13: I ACCEPT | D13: Revision Date: | F13: 46266 | J13: Diameter or width x length is not provided | K13: 13 | L13: Max Velocity: | M13: 6 | N13: 5 | O13: 5 | P13: 6 | Q13: 5 | R13: 6 | S13: 6
B14: I DO NOT ACCEPT | D14: Select City: | F14: Prattville | K14: 14 | L14: Insp Report Due: | M14: 31 December | Q14: 31 December | R14: 30 Septbember | S14: 1 September
D15: (WQ) | F15: =HLOOKUP($F$14,$M$1:$S$15,2) -> 1.1 | G15: =TEXT(F15,"0.00") -> 1.10 | K15: 15 | L15: Storms: | M15: 2, 5, 10, 25, 50, and 100 | N15: 2, 5, 10, and 25 | O15: 2, 5, 10, 25, 50, and 100 | P15: 2, 5, 10, 25, 50, and 100 | Q15: 2, 5, 10, and 25 | R15: 2, 5, 10, and 25 | S15: 2, 5, 10, and 25
D16: (2-yr) | F16: =HLOOKUP($F$14,$M$1:$S$15,3) -> 4.21 | K16: 16 | L16: Entity: | M16: Baldwin County | N16: the City of Hoover | O16: Jefferson County | P16: Lee County | Q16: the City of Mobile | R16: the City of Montgomery | S16: the City of Prattville
A17: Manufactrurer | B17: Inspections | D17: (5-yr) | F17: =HLOOKUP($F$14,$M$1:$S$15,4) -> 5.24
A18: Advanced Drainage Systems | B18: Weekly | D18: (10-yr) | F18: =HLOOKUP($F$14,$M$1:$S$15,5) -> 6.17
A19: Contech | B19: Semi-Monthly | D19: (25-yr) | F19: =HLOOKUP($F$14,$M$1:$S$15,6) -> 7.55
A20: Filtrexx | B20: Monthly | D20: (50-yr) | F20: =HLOOKUP($F$14,$M$1:$S$15,7) -> 8.7
A21: Frog Creek Partners | B21: Quarterly | D21: (100-yr) | F21: =HLOOKUP($F$14,$M$1:$S$15,8) -> 9.93
A22: Revel Environmental Manufacturing, Inc. | B22: Semi-Annual | D22: Effective Date: | F22: =HLOOKUP($F$14,$M$1:$S$15,9) -> 1 July 2018
A23: SOP Technologies | B23: Annual | D23: Entity Type: | F23: =HLOOKUP($F$14,$M$1:$S$15,10) -> City
A24: Other | B24: Other | D24: Maintenance Agreement: | F24: =HLOOKUP($F$14,$M$1:$S$15,11) -> O&M Agreement
D25: Permit Type: | F25: =HLOOKUP($F$14,$M$1:$S$15,12) -> 0
D26: Max Velocity: | F26: =HLOOKUP($F$14,$M$1:$S$15,13) -> 6
D27: Insp Report Due: | F27: =HLOOKUP($F$14,$M$1:$S$15,14) -> 1 September
D28: Storms: | F28: =HLOOKUP($F$14,$M$1:$S$15,15) -> 2, 5, 10, and 25
D29: Entity: | F29: =HLOOKUP($F$14,$M$1:$S$24,16) -> the City of Prattville
H31: Current Logo
E32: Baldwin County
E33: Hoover
E34: Jefferson
E35: Lee County | F35: #VALUE!
E36: Mobile
E37: Montgomery
E38: Prattville

Sheet License
C1: END USER LICENSE AGREEMENT (EULA) | N1: Effective Date: | O1: =Tables!F13 -> 46266
A2: =IF(OR(F2="I ACCEPT",F2="I DO NOT ACCEPT"),1,2) -> 2 | E2: Acceptance (required): | F2: Selection Required | N2: Expiration Date: | O2: =Tables!B6 -> 46661
A3: =IF(F3="Workbook is Locked and Unavailable",2,1) -> 2 | E3: Current Status: | F3: =IF(Tables!$B$8,"Workbook is Active","Workbook is Locked and Unavailable") -> Workbook is Locked and Unavailable
E4: Administrator Code (Hidden):
E6: IMPORTANT - READ BEFORE USE: | F6: This workbook and its embedded logic, validators, and scripts (collectively, the "Tool") are proprietary to Hydro, LLC ("Licensor").
F7: ="By clicking I ACCEPT above, you represent that you are (a) preparing a post-construction submittal for "&Tables!$F$29&" and/or" -> By clicking I ACCEPT above, you represent that you are (a) preparing a post-construction submittal for the City of Prattville and/or
F8: maintaining internal records for that submittal; and (b) you have authority to bind your organization ("User"). If you are not
F9: authorized, do not use the Tool.
D11: 1 | E11: Limited License
F12: Licensor grants the User a non-exclusive, non-transferable, non-sublicensable, revocable license to use the Tool soley to prepare
F13: ="and submit post-construction application materials to "&Tables!$F$29&" and for the User's internal recordkeeping for those" -> and submit post-construction application materials to the City of Prattville and for the User's internal recordkeeping for those
F14: submissions. All other uses, including redistribution, public posting, training, or use for other agencies, are prohibited unless
F15: agreed in writing.
D16: 2 | E16: Ownership; No Work-for-Hire
F17: The Tool is licensed, not sold. Licensor retains all right, title, and interest in and to the Tool, including all formulas, code,
F18: templates, and documentation. The Tool is not a work made for hire and no implied licenses are granted.
D19: 3 | E19: Restrictions
F20: The User shall not and shall not permit others to: (a) copy, modify, decompile, or reverse-engineer the Tool; (b) remove proprietary
F21: notices, logos, or watermarks; (c) bypass or disable protections; or (d) redistribute the Tool to third parties (other than submitting filled
F22: ="forms to the "&Tables!$F$23&" as intended. The "&Tables!$F$23&" may host and distribute the unmodified Tool to prospective submitters for" -> forms to the City as intended. The City may host and distribute the unmodified Tool to prospective submitters for
F23: the permitted purpose.
D24: 4 | E24: Suspension and Termination
F25: Licensor may suspend immediately if the Tool is misused, compromised, or used in a manner creating security, legal, or reputational risk.
F26: Upon expiration/termination, User shall stop using the Tool, but may retain archive copies of completed submissions an records
F27: created during the Term.
D28: 5 | E28: Public Records Acknowledgment
F29: ="Outputs and application materials generated with the Tool may be public records of "&Tables!$F$29&"; the Tool itself" -> Outputs and application materials generated with the Tool may be public records of the City of Prattville; the Tool itself
F30: (including templates, code, logic) remains Licensor's proprietary material and is not a public record merely by being used to creat submittions.
D31: 6 | E31: No Professional Services; User Responsibility
F32: ="The Tool is a convenience aid and does not constitute engineering, legal or compliance advice. The "&Tables!$F$29&"'s standards and" -> The Tool is a convenience aid and does not constitute engineering, legal or compliance advice. The the City of Prattville's standards and
F33: regulations control. User is solely responsible for the accuracy and completeness of all data and deliverables.
D34: 7 | E34: Disclaimers; Limitation of Liability
F35: The Tool is provided "AS IS". Licensor disclaims all warranties, express or implied (including merchantability, fitness for a particular
F36: purpose, and non-infringement.) To the Maximum extent permitted by law, Licensor will not be liable for indirect, incidental,
F37: special, consequential, or punitive damages.
D38: 8 | E38: Injunctive Relief
F39: Unathorized use, copying, or distribution of the Tool will cause irreparable harm for which monetary damages are inadequate;
F40: Licensor may seek injunctive relief in addition to other remedies.
D41: 9 | E41: Feedback
F42: Suggestions or feedback may be used by Licensor without restriction or obligation.
...

Sheet General Instructions
B2: General Instructions
B4: 1 | C4: Complete Design Form with the required design information. Once the Design Form is completed, most of the Design section of the As-built Form will be prepopulated.
B6: =B4+1 -> 2 | C6: Field Types
I7: Enter data as applicable for the proposed design.
I9: This is a required field. Once a number or text is entered, the green highlight will be removed.
I12: This is a required field. Place an "X" in the appropriate box and the green highlight will be removed. In some cases, the selection is optional. Once an option is completed, additional fields will be highlighted green and in some fields the green highlight will be removed.
D17: Yes | G17: No | I17: Select either "Yes" or "No" by placing an "X" in the appropriate box. Once an "X" is entered, the green highlight will be removed.
I20: If a field is highlighted yellow after a number is entered, the yellow highlight may indicate an error and/or concern. Once the error and/or concern is resolved, the yellow highlight will be removed. All yellow highlighted cells shall be resolved or an explanitation provided prior to completing the form.
I25: This is a calculated field. Once the required information is entered, the orange highlight will be removed.
C28: Select | I28: Use the drop down list to select an orifice or weir.
C30: Shape | I30: Use the drop down list to select a shape.
C32: Material | I32: Use the drop down list to select a material.
B34: =B6+1 -> 3 | C34: The Supplemental Instructions provide additional guidance and design standards.
B35: =B34+1 -> 4 | C35: Once the Design, As-built, or Inspection Forms are completed, there should be no green, yellow, or orange highlighted fields.
B37: 5 | C37: Automated Review Checks: Once information and data are entered into the form, the form will check the information entered and identify any potential issues or concerns. Prior to printing the form, all automated comments shall be resolved.
B40: 6 | C40: Each Form shall be signed, sealed, and dated by a professional engineer registered in Alabama.

Sheet Form 2H - Design
X1: Form 2H - Inlet Filter Design Form | BO1: =X1 -> Form 2H - Inlet Filter Design Form
B6: Development Information | AB6: Parcel No.: | AS6: Supplemental Instructions
D7: Name: | AD7: Date:
D8: Address: | AD8: BMP ID: | AS8: General design standards and requirements shall be as follows:
E10: Attachments: | H10: Design Drawings | P10: H&H Calculations | Y10: Drainage Basin Maps | AS10: 1 | AT10: A inlet filter shall not be located within a floodplain or floodway;
H12: Manufacturer Data | P12: Maintenance Plan | AS12: =AS10+1 -> 2 | AT12: Installation of an inlet filter shall not adversely impact and/or cause flooding of properties located within, upstream,
F14: Select Area Units: | H14: ac | K14: sq-ft | Z14: Total Area: | AE14: =IF($AM$16=0,"Units?",IF($AM$16=1,"ac",IF($AM$16=2,"sq-ft","Error"))) -> Units? | AL14: =IF(AND(ISBLANK(G14),ISBLANK(J14)),1,2) -> 1 | AM14: =IF(ISBLANK(G14),0,1) -> 0 | AO14: EIA = | AP14: =IF($AM$16=2,AA15/43560,AA15) -> 0 | AQ14: ac | AT14: and/or downstream of the development;
B15: Proposed Impervious Area (PIA) | Z15: Existing Impervious Area (EIA): | AE15: =IF($AM$16=0,"Units?",IF($AM$16=1,"ac",IF($AM$16=2,"sq-ft","Error"))) -> Units? | AM15: =IF(ISBLANK(J14),0,2) -> 0 | AO15: PIA = | AP15: =IF($AM$16=2,J21/43560,J21) -> 0 | AQ15: ac | AS15: =AS12+1 -> 3 | AT15: Inlet filter shall be privately maintained;
I16: Buildings / Structures: | N16: =IF($AM$16=0,"Units?",IF($AM$16=1,"ac",IF($AM$16=2,"sq-ft","Error"))) -> Units? | S16: Additional Impervious Area (AIA) = PIA - EIA | AM16: =SUM(AM14:AM15) -> 0 | AN16: Units Check | AO16: AIA = | AP16: =AP15-AP14 -> 0 | AQ16: ac | AS16: =AS15+1 -> 4 | AT16: A stormwater pathway (i.e. piped storm sewer, overland flow, etc.) within the development shall
I17: Driveways / Sidewalks: | N17: =IF($AM$16=0,"Units?",IF($AM$16=1,"ac",IF($AM$16=2,"sq-ft","Error"))) -> Units? | V17: AIA = | W17: =IF(AL17=1,"0.00",IFERROR(IF($J$21-$AA$15<0,0,$J$21-$AA$15),"")) -> 0 | AA17: =IF($AM$16=0,"Units?",IF($AM$16=1,"ac",IF($AM$16=2,"sq-ft","Error"))) -> Units? | AD17: AIA = | AE17: =AP16 -> 0 | AI17: ac | AL17: =IF(AND(J21=0,ISBLANK(AA15)),0,IF(OR(J21-AA15=0,J21-AA15<0),1,2)) -> 0 | AM17: ac or sq-ft selection | AT17: be provided to convey the discharge resulting from a 100-year, 24-hour storm event in a manner that
I18: Roads: | N18: =IF($AM$16=0,"Units?",IF($AM$16=1,"ac",IF($AM$16=2,"sq-ft","Error"))) -> Units? | S18: Water Quality Volume (WQv): | AT18: will not adversely impact and/or cause flooding of structures within the development;
I19: Parking: | N19: =IF($AM$16=0,"Units?",IF($AM$16=1,"ac",IF($AM$16=2,"sq-ft","Error"))) -> Units? | V19: WQv = | W19: ="AIA acres X "&Tables!G15& " in X 3,630" -> AIA acres X 1.10 in X 3,630 | AS19: =AS16+1 -> 5 | AT19: H&H calculations shall include all the information required to validate information provided on this form i.e. model
I20: Other: | N20: =IF($AM$16=0,"Units?",IF($AM$16=1,"ac",IF($AM$16=2,"sq-ft","Error"))) -> Units? | V20: WQv = | W20: =IF(AL17=1,"0.00",IFERROR(IF($J$21-$AA$15<0,0,$AP$16),"")) -> 0 | AA20: ="acres X "&Tables!G15&" in X 3,630" -> acres X 1.10 in X 3,630 | AL20: Lat | AM20: Long | AN20: Lat & Long | AP20: Lat Text | AQ20: Long Text | AT20: network schematic, existing drainage areas, proposed drainage areas, time of concentration, curve number, pre-development
I21: Total PIA: | J21: =IF(SUM($J$16:$J$20)=0,0,SUM($J$16:$J$20)) -> 0 | N21: =IF($AM$16=0,"Units?",IF($AM$16=1,"ac",IF($AM$16=2,"sq-ft","Error"))) -> Units? | V21: WQv = | W21: =IF(AL17=1,"0",IFERROR(ROUND(IF(AP16*Tables!F15*3630<0,0,AP16*Tables!F15*3630),0),"")) -> 0 | AA21: ft3 | AL21: =IF(ISBLANK(AC25),0,1) -> 0 | AM21: =IF(ISBLANK(AC26),0,1) -> 0 | AN21: =AL21+AM21 -> 0 | AP21: =IF(ISBLANK(AC25),1,IF(ISTEXT(AC25)=TRUE,3,2)) -> 1 | AQ21: =IF(ISBLANK(AC26),1,IF(ISTEXT(AC26)=TRUE,3,2)) -> 1 | AT21: peak discharges, post-development peak discharges, outlet structure geometry, emergency spillway geometry,
AT22: stage-area storage summary, discharge summary, inflow and outflow hydrographs, and outlet velocities.
B23: Catch Basin & Inlet | AS23: =AS19+1 -> 6 | AT23: Provide supporting data from the manufracturer.
E24: Inlet ID: | N24: Inlet Type: | AC24: Inlet Capacity: | AG24: ft3/sec | AN24: Area (ft2) | AO24: Area (ft2) | AP24: Area (ft2)
E25: Material: | N25: Shape: | AB25: Latitude: | AL25: Dia. | AM25: W x L | AN25: Diameter | AO25: W X L | AP25: Use
E26: Diameter: | I26: ft | AB26: Longitude: | AL26: =IF(ISBLANK(F26),1,2) -> 1 | AM26: =IF(AND(ISBLANK(F27),ISBLANK(O27)),1,2) -> 1 | AN26: =(F26/2)^2*3.14 -> 0 | AO26: =F27*O27 -> 0 | AP26: =MAX(AN26:AO26) -> 0
E27: Width: | I27: ft | N27: Length: | R27: ft | AL27: =IF(ISBLANK(F26),0,1) -> 0 | AM27: =IF(OR(ISBLANK(F27),ISBLANK(O27)),0,1) -> 0 | AN27: Sump | AP27: Rim
E28: Sump EL: | I28: ft | N28: Rim EL.: | R28: ft | AB28: Privately maintained? | AD28: Yes | AG28: No | AM28: =SUM(AL27:AM27) -> 0 | AN28: =IF(ISBLANK(F28),2,1) -> 2 | AO28: =IF(OR(ISBLANK(F28),ISBLANK(O28)),1,2) -> 1 | AP28: =IF(ISBLANK(O28),2,1) -> 2
F30: Shape | J30: Diameter | O30: Inv. EL | AB30: Accessible for maintenance? | AD30: Yes | AG30: No | AM30: Outlet pipe inv.
E31: Outlet Pipe: | M31: in | R31: ft | AL31: =IF(ISBLANK(F31),1,2) -> 1 | AM31: =IF(ISBLANK(O31),2,1) -> 2 | AO31: =IF(AND(ISBLANK(AC28),ISBLANK(AF28)),1,2) -> 1 | AP31: =IF(ISBLANK(AF28),1,2) -> 1 | AQ31: =AO31+AP31 -> 2
E32: Inlet Pipe 1: | M32: in | R32: ft | AL32: =IF(ISBLANK(F32),1,2) -> 1 | AO32: =IF(AND(ISBLANK(AC30),ISBLANK(AF30)),1,2) -> 1 | AP32: =IF(ISBLANK(AF30),1,2) -> 1 | AQ32: =AO32+AP32 -> 2
E33: Inlet Pipe 2: | M33: in | R33: ft | AL33: =IF(ISBLANK(F33),1,2) -> 1
E34: Inlet Pipe 3: | M34: in | R34: ft | AL34: =IF(ISBLANK(F34),1,2) -> 1
E35: Inlet Pipe 4: | M35: in | R35: ft | AL35: =IF(ISBLANK(F35),1,2) -> 1
B37: Inlet Filter
F38: Manufacturer: | AL38: =IF(G38="Other",2,1) -> 1
F39: Product Name: | W39: Model No.:
J40: Treatment Capabilities: | AB40: Treatment Flow Rate: | AF40: ft3/sec
M41: Total Suspended Solids | AB41: TSS Filtration Efficiency: | AF41: % | AM41: =IF(ISBLANK(AC41),1,2) -> 1
AB42: Solids Storage Capacity: | AF42: ft3 | AM42: =IF(ISBLANK(AC42),1,2) -> 1
M43: Trash and Debris
M45: Hydrocarbons Oil Removal | AB45: Oil Retention: | AF45: oz | AM45: =IF(ISBLANK(AC45),1,2) -> 1
J47: Adjustable Overflow Bypass: | M47: Yes | P47: No | AB47: Bypass Flow Rate: | AF47: ft3/sec | AM47: =IF(ISBLANK(AC47),1,2) -> 1 | AO47: =IF(AND(ISBLANK(L47),ISBLANK(O47)),1,2) -> 1 | AP47: =IF(ISBLANK(O47),1,2) -> 1 | AQ47: =AO47+AP47 -> 2
J49: Frame Material: | AL49: =IF(ISBLANK(AC40),1,2) -> 1
C51: Manufacturer Recommended Inspection Frequency
N52: After 24-hour Rainfal Amount: | R52: in
N53: Routine Inspections: | AL53: =IF(O53="Other",2,1) -> 1
...

Sheet Form 3H - As-built
W1: Form 3H - Inlet Filter As-Built Certification Form | BI1: =W1 -> Form 3H - Inlet Filter As-Built Certification Form
A6: Development Information | AC6: Parcel No.: | AD6: ='Form 2H - Design'!AC6 -> 0 | AM6: =LEN(AD6) -> 1 | AQ6: Supplemental Instructions
D7: Name: | E7: ='Form 2H - Design'!$E$7 -> 0 | AE7: Date:
D8: Address: | E8: ='Form 2H - Design'!$E$8 -> 0 | AE8: BMP ID: | AF8: ='Form 2H - Design'!AE8 -> 0 | AQ8: 1 | AR8: The developer / owner shall retain the services of a professional land surveyor to:
B10: Attachments: | H10: As-built Survey | O10: As-built H&H Calculations | Z10: =Tables!F24 -> O&M Agreement | AI10: Photos | AR10: a. | AS10: Perform a field survey of the constructed inlet filter; and,
A12: Catch Basin Inlet Filter | AR12: b. | AS12: Develop an as-built drawing.
B13: Design | U13: As-Built | AQ13: 2 | AR13: As-built drawing, at a minimum, shall include the following:
B15: Catch Basin & Inlet | M15: Inlet ID: | N15: ='Form 2H - Design'!F24 -> 0 | U15: Catch Basin & Inlet | AF15: Inlet ID: | AR15: a. | AS15: Site features to include but not limited to roads, rights-of-way, property lines, driveways, buildings,
E16: Material: | F16: ='Form 2H - Design'!F25 -> 0 | M16: Shape: | N16: ='Form 2H - Design'!O25 -> 0 | X16: Material: | AF16: Shape: | AN16: Area (ft2) | AS16: parking areas, fences, retaining walls, dumpster pads, etc.
E17: Diameter: | F17: ='Form 2H - Design'!F26 -> 0 | I17: ft | X17: Diameter: | AB17: ft | AM17: =IF(ISBLANK(Y17),1,2) -> 1 | AN17: =(Y17/2)^2*3.14 -> 0 | AR17: b. | AS17: Storm sewers showing pipes, inlets, junction boxes, outlets, outlet protection, and invert elevations
E18: Width: | F18: ='Form 2H - Design'!F27 -> 0 | I18: ft | M18: Length: | N18: ='Form 2H - Design'!O27 -> 0 | Q18: ft | X18: Width: | AB18: ft | AF18: Length: | AJ18: ft | AM18: =IF(AND(ISBLANK(Y18),ISBLANK(AG18)),1,2) -> 1 | AR18: c. | AS18: Location of the inlet filter, rim elevation, sump elevation, inlet and outlet pipe elevations
E19: Sump EL: | F19: ='Form 2H - Design'!F28 -> 0 | I19: ft | M19: Rim EL.: | N19: ='Form 2H - Design'!O28 -> 0 | Q19: ft | X19: Sump EL: | AB19: ft | AF19: Rim EL.: | AJ19: ft | AR19: d. | AS19: The as-built drawing shall bear the date, seal, and signature of the professional land surveyor.
F20: Shape | J20: Diameter | O20: Inv. EL | Y20: Shape | AC20: Diameter | AH20: Inv. EL | AQ20: 3 | AR20: The developer shall retain the services of a professional engineer to:
E21: Outlet Pipe: | F21: ='Form 2H - Design'!F31 -> 0 | J21: ='Form 2H - Design'!J31 -> 0 | M21: in | O21: ='Form 2H - Design'!O31 -> 0 | R21: ft | X21: Outlet Pipe: | AF21: in | AK21: ft | AM21: =IF(ISBLANK(Y21),1,2) -> 1 | AR21: a. | AS21: Use the as-built drawing to complete Form 3H – Inlet Filter As-built Certification Form;
E22: Inlet Pipe 1: | F22: ='Form 2H - Design'!F32 -> 0 | J22: ='Form 2H - Design'!J32 -> 0 | M22: in | O22: ='Form 2H - Design'!O32 -> 0 | R22: ft | X22: Inlet Pipe 1: | AF22: in | AK22: ft | AM22: =IF(ISBLANK(Y22),1,2) -> 1 | AR22: b. | AS22: Provide ALL required attachments:
E23: Inlet Pipe 2: | F23: ='Form 2H - Design'!F33 -> 0 | J23: ='Form 2H - Design'!J33 -> 0 | M23: in | O23: ='Form 2H - Design'!O33 -> 0 | R23: ft | X23: Inlet Pipe 2: | AF23: in | AK23: ft | AM23: =IF(ISBLANK(Y23),1,2) -> 1 | AS23: • | AT23: As-Built Survey Drawing(s)
E24: Inlet Pipe 3: | F24: ='Form 2H - Design'!F34 -> 0 | J24: ='Form 2H - Design'!J34 -> 0 | M24: in | O24: ='Form 2H - Design'!O34 -> 0 | R24: ft | X24: Inlet Pipe 3: | AF24: in | AK24: ft | AM24: =IF(ISBLANK(Y24),1,2) -> 1 | AS24: • | AT24: H&H Calculations
E25: Inlet Pipe 4: | F25: ='Form 2H - Design'!F35 -> 0 | J25: ='Form 2H - Design'!J35 -> 0 | M25: in | O25: ='Form 2H - Design'!O35 -> 0 | R25: ft | X25: Inlet Pipe 4: | AF25: in | AK25: ft | AM25: =IF(ISBLANK(Y25),1,2) -> 1 | AS25: • | AT25: Photographs with date and captions
E26: Latitude: | F26: ='Form 2H - Design'!AC25 -> 0 | M26: Longitude: | N26: =-'Form 2H - Design'!AC26 -> 0 | X26: Latitude: | AF26: Longitude: | AM26: =IF(ISBLANK(Y26),1,2) -> 1 | AN26: Lat Text | AO26: =IF(ISBLANK(Y26),1,IF(ISTEXT(Y26)=TRUE,3,2)) -> 1 | AS26: • | AT26: =Tables!F24 -> O&M Agreement
AM27: =IF(ISBLANK(AG26),1,2) -> 1 | AN27: Long Text | AO27: =IF(ISBLANK(AG26),1,IF(ISTEXT(AG26)=TRUE,3,2)) -> 1 | AQ27: 4 | AR27: Photographs, at a minimum, shall include the following:
B28: Inlet Filter | U28: Inlet Filter | AR28: a. | AS28: General overview of inlet filter
E29: Manufacturer: | F29: ='Form 2H - Design'!G38 -> 0 | X29: Manufacturer: | AM29: =IF(AND(ISBLANK(Y29),ISBLANK(Y30)),1,2) -> 1 | AR29: b. | AS29: Catch basin where the inlet filter is installed
F30: ='Form 2H - Design'!U38 -> 0 | AM30: =IF(F29="Other",2,1) -> 1 | AN30: =IF(Y29="Other",2,1) -> 1 | AQ30: 5 | AR30: ="Form 3H – Inlet Filter As-built Certification Form shall be approved by the "&Tables!F23&" prior to:" -> Form 3H – Inlet Filter As-built Certification Form shall be approved by the City prior to:
E31: Product Name: | F31: ='Form 2H - Design'!G39 -> 0 | X31: Product Name: | AR31: a. | AS31: The issuance of a Certificate of Occupancy; and/or,
E32: Model No.: | F32: ='Form 2H - Design'!X39 -> 0 | X32: Model No.: | AR32: b. | AS32: Prior to approval of the Final Plat.
M34: Adjustable Overflow Bypass: | N34: ='Form 2H - Design'!L47 -> 0 | O34: Yes | Q34: ='Form 2H - Design'!O47 -> 0 | R34: No | AF34: Adjustable Overflow Bypass: | AH34: Yes | AK34: No | AM34: =IF(AND(ISBLANK(AG34),ISBLANK(AJ34)),1,2) -> 1 | AN34: =IF(ISBLANK(AJ34),1,2) -> 1
M36: Treatment Flow Rate: | N36: ='Form 2H - Design'!AC40 -> 0 | Q36: ft3/s | AF36: Treatment / Design Flow Rate: | AJ36: ft3/s | AM36: =IF(ISBLANK(AG36),1,2) -> 1
M37: Bypass Flow Rate: | N37: ='Form 2H - Design'!AC47 -> 0 | Q37: ft3/s | AF37: Allowable Peak Inline Flow Rate: | AJ37: ft3/s | AM37: =IF(ISBLANK(AG37),1,2) -> 1
B39: Manufacturer Recommended Inspection Frequency | U39: Manufacturer Recommended Inspection Frequency
M40: After 24-hour Rainfal Amount: | N40: ='Form 2H - Design'!O52 -> 0 | Q40: in | AF40: After 24-hour Rainfal Amount: | AJ40: in
M41: Routine Inspections: | N41: ='Form 2H - Design'!O53 -> 0 | AF41: Routine Inspections:
B43: Owner's Information
E44: Company:
E45: Address:
E46: City: | Y46: State: | AG46: Zip Code:
E47: Contact Name: | Y47: Title:
E48: Email: | AD48: Phone:
B54: =Tables!$F$13 -> 46266 | R54: Page 1 of 2
C55: Name: | D55: =IF(ISBLANK($E$7),"",$E$7) -> 0 | AF55: Date: | AG55: =$AF$7 -> 0
AF56: BMP ID: | AG56: =IF(ISBLANK($AF$8),"",$AF$8) -> 0
...
