Workbook
Name _Hlk16666466: 'Form 2F.1 - Design'!$AW$30
Name Logo: INDEX(Tables!$F$40:$F$46,MATCH(Tables!$F$14,Tables!$E$40:$E$46,0))
Name Material: Tables!$D$2:$D$10
Name Shape: Tables!$F$2:$F$10

Sheet Tables
A1: Workbook Lock Configuration | D1: Material | F1: Shape | H1: Type | J1: Design Response | K1: 1 | L1: Lookup Table | M1: Baldwin County | N1: Hoover | O1: Jefferson | P1: Lee County | Q1: Mobile | R1: Montgomery | S1: Prattville
A2: Lock Date: | B2: =EDATE(F$13,B3) -> 46661 | D2: Concrete | F2: Arch | H2: Select: | J2: Parcel No. has not been provided | K2: =K1+1 -> 2 | L2: (WQ) | M2: 1 | N2: 1.1 | O2: 1.1 | P2: 1.1 | Q2: 1.2 | R2: 1.1 | S2: 1.1
A3: Active Months: | B3: 13 | D3: Earthen | F3: Elliptical | H3: Orifice: | J3: Pre Total not compeleted | K3: =K2+1 -> 3 | L3: (2-yr) | M3: 6.02 | N3: 4.11 | O3: 4.14 | P3: 4.12 | Q3: 5.7 | R3: 4.24 | S3: 4.21
A4: Override LockD and Time: | D4: Geotextile | F4: Rectangle | H4: Weir: | J4: Post Total not completed | K4: =K3+1 -> 4 | L4: (5-yr) | M4: 7.68 | N4: 5.01 | O4: 5.06 | P4: 5.05 | Q4: 7.21 | R4: 5.3 | S4: 5.24
A5: Admin Unlock Code: | B5: bds958hc | D5: HDPE | F5: Round | J5: Emergency Spillway Section not completed | K5: =K4+1 -> 5 | L5: (10-yr) | M5: 9.26 | N5: 5.87 | O5: 5.91 | P5: 5.83 | Q5: 8.63 | R5: 6.24 | S5: 6.17
A6: Computed Lock Date and Time: | B6: =IF(ISBLANK($B$4),$B$2,$B$4) -> 46661 | D6: HDPP | F6: Square | J6: Total Post Q > Pre Q | K6: =K5+1 -> 6 | L6: (25-yr) | M6: 11.7 | N6: 7.21 | O6: 7.26 | P6: 6.91 | Q6: 10.8 | R6: 7.64 | S6: 7.55
A7: Accepted Flag: | B7: =IF(License!$F$2="I ACCEPT",TRUE,FALSE) -> FALSE | D7: Metal | F7: Trapezoid | J7: ="Velocity > "&F26&" ft/s" -> Velocity > 6 ft/s | K7: =K6+1 -> 7 | L7: (50-yr) | M7: 13.9 | N7: 8.37 | O7: 8.48 | P7: 7.75 | Q7: 12.7 | R7: 8.8 | S7: 8.7
A8: Gate OK: | B8: =OR(License!$F$4=B5, AND(B7=TRUE, NOW()<B6)) -> FALSE | D8: PVC | F8: T-shape | H8: Outlet Protection | J8: Max Stage for 2, 5, 10, 25, and/or 50-year storm > emergency spillway crest elevation | K8: =K7+1 -> 8 | L8: (100-yr) | M8: 16.3 | N8: 9.65 | O8: 9.83 | P8: 8.6 | Q8: 14.8 | R8: 10 | S8: 9.93
D9: Riprap | F9: V-notch | H9: Riprap apron | J9: Latitude and/or Longitude not provided | K9: =K8+1 -> 9 | L9: Effective Date: | M9: 40574 | N9: 1 February 2020 | O9: 1 October 2020 | Q9: 1 October 2015 | R9: 1 October 2015 | S9: 1 July 2018
D10: Other | F10: Other | H10: Concrete flume with baffles | J10: Latitude and/or Longitude has been entered as text. Change to a number. | K10: =K9+1 -> 10 | L10: Type: | M10: County | N10: City | O10: County | P10: County | Q10: City | R10: City | S10: City
B11: Acceptance Table | H11: Concrete box with chambers | J11: WQv Required > WQv Provided | K11: =K10+1 -> 11 | L11: Maintenance Agreement: | M11: O&M Plan | N11: Covenant | O11: O&M Agreement | Q11: O&M Agreement | R11: O&M Agreement | S11: O&M Agreement
B12: Selection Required | H12: Concrete box with baffles | J12: As-Built does not match Design, provide a reason in the Comments section | K12: =K11+1 -> 12 | L12: Permit Type: | Q12: Engineering or Building No. | R12: ENG No.
B13: I ACCEPT | D13: Revision Date: | F13: 46266 | H13: Pre-manufactured product | J13: Drainage area exceeds the recommended 5.0 acre maximum | K13: =K12+1 -> 13 | L13: Max Velocity: | M13: 6 | N13: 5 | O13: 5 | P13: 6 | Q13: 5 | R13: 6 | S13: 6
B14: I DO NOT ACCEPT | D14: Select City: | F14: Prattville | H14: Other | J14: Land slope exceeds the recommended 2% maximum | K14: =K13+1 -> 14 | L14: Insp Report Due: | M14: 31 December | Q14: 31 December | R14: 30 Septbember | S14: 1 September
D15: (WQ) | F15: =HLOOKUP($F$14,$M$1:$S$23,2) -> 1.1 | G15: =TEXT(F15,"0.00") -> 1.10 | J15: Drain time exceeds the recommended 48 hours | K15: =K14+1 -> 15 | L15: Storms: | M15: 2, 5, 10, 25, 50, and 100 | N15: 2, 5, 10, 25, 50, and 100 | O15: 2, 5, 10, 25, 50, and 100 | P15: 2, 5, 10, 25, 50, and 100 | Q15: 2, 5, 10, 25, 50, and 100 | R15: 2, 5, 10, 25, 50, and 100 | S15: 2, 5, 10, 25, 50, and 100
D16: (2-yr) | F16: =HLOOKUP($F$14,$M$1:$S$23,3) -> 4.21 | J16: Drain time exceeds the recommended 12 hours | K16: =K15+1 -> 16 | L16: No. Storms: | M16: 6 | N16: 6 | O16: 6 | P16: 6 | Q16: 6 | R16: 6 | S16: 6
D17: (5-yr) | F17: =HLOOKUP($F$14,$M$1:$S$23,4) -> 5.24 | J17: Total Post Q is < -0.50 ft3/s of Pre Q | K17: =K16+1 -> 17 | L17: Known Flooding Req: | M17: No | N17: No | O17: No | P17: No | Q17: No | R17: No | S17: No
D18: (10-yr) | F18: =HLOOKUP($F$14,$M$1:$S$23,5) -> 6.17 | H18: Riprap Class | J18: =F25&" has not been provided" -> 0 has not been provided | K18: =K17+1 -> 18 | L18: Known Flooding Storm: | M18: 25 | N18: 25 | O18: 25 | P18: 25 | Q18: 2 | R18: 25 | S18: 25
D19: (25-yr) | F19: =HLOOKUP($F$14,$M$1:$S$23,6) -> 7.55 | H19: 1 | J19: ="Known flooding: "&'Form 2F.1 - Design'!AS153&"-yr discharge > "&'Form 2F.1 - Design'!AR153&"-yr discharge" -> Known flooding: 25, 50, and 100-yr discharge > 25-yr discharge | K19: =K18+1 -> 19 | L19: Known Flooding Storm <: | M19: =VLOOKUP(M18,$K$27:$L$32,2) -> 25, 50, and 100 | N19: =VLOOKUP(N18,$K$27:$L$32,2) -> 25, 50, and 100 | O19: =VLOOKUP(O18,$K$27:$L$32,2) -> 25, 50, and 100 | P19: =VLOOKUP(P18,$K$27:$L$32,2) -> 25, 50, and 100 | Q19: =VLOOKUP(Q18,$K$27:$L$32,2) -> 2, 5, 10, 25, 50, and 100 | R19: =VLOOKUP(R18,$K$27:$L$32,2) -> 25, 50, and 100 | S19: =VLOOKUP(S18,$K$27:$L$32,2) -> 25, 50, and 100
D20: (50-yr) | F20: =HLOOKUP($F$14,$M$1:$S$23,7) -> 8.7 | H20: 2 | J20: ="Drains to adjacent property: "&'Form 2F.1 - Design'!AS153&"-yr discharge > "&'Form 2F.1 - Design'!AR153&"-yr discharge" -> Drains to adjacent property: 25, 50, and 100-yr discharge > 25-yr discharge | K20: =K19+1 -> 20 | L20: Adj Property Req: | M20: No | N20: No | O20: No | P20: No | Q20: Yes | R20: Yes | S20: Yes
D21: (100-yr) | F21: =HLOOKUP($F$14,$M$1:$S$23,8) -> 9.93 | H21: 3 | J21: All required photographs are not provided | K21: =K20+1 -> 21 | L21: Adj Property Storm: | M21: 25 | N21: 25 | O21: 25 | P21: 25 | Q21: 2 | R21: 25 | S21: 25
D22: Effective Date: | F22: =HLOOKUP($F$14,$M$1:$S$23,9) -> 1 July 2018 | H22: 4 | J22: Outlet protection section not completed | K22: =K21+1 -> 22 | L22: Adj Property Storm<: | M22: =VLOOKUP(M21,$K$27:$L$32,2) -> 25, 50, and 100 | N22: =VLOOKUP(N21,$K$27:$L$32,2) -> 25, 50, and 100 | O22: =VLOOKUP(O21,$K$27:$L$32,2) -> 25, 50, and 100 | P22: =VLOOKUP(P21,$K$27:$L$32,2) -> 25, 50, and 100 | Q22: =VLOOKUP(Q21,$K$27:$L$32,2) -> 2, 5, 10, 25, 50, and 100 | R22: =VLOOKUP(R21,$K$27:$L$32,2) -> 25, 50, and 100 | S22: =VLOOKUP(S21,$K$27:$L$32,2) -> 25, 50, and 100
D23: Entity Type: | F23: =HLOOKUP($F$14,$M$1:$S$23,10) -> City | H23: 5 | J23: ="For Class "&'Form 2F.1 - Design'!AR124&" Riprap, the minimum depth is "&'Form 2F.1 - Design'!AS124&"0-feet" -> #N/A | K23: =K22+1 -> 23 | L23: Agreement Type: | M23: Drainage Rights | N23: Release Agreement | O23: Release Agreement | P23: Release Agreement | Q23: Release Agreement | R23: Spillage Agreement | S23: Release Agreement
D24: Maintenance Agreement: | F24: =HLOOKUP($F$14,$M$1:$S$23,11) -> O&M Agreement | J24: Hydrologic Soil Groups C and D are not appropriate for permeable pavements | K24: 24 | L24: Entity: | M24: Baldwin County | N24: the City of Hoover | O24: Jefferson County | P24: Lee County | Q24: the City of Mobile | R24: the City of Montgomery | S24: the City of Prattville
D25: Permit Type: | F25: =HLOOKUP($F$14,$M$1:$S$23,12) -> 0 | J25: Soils should have a minimum infiltration rate of 0.50-in/hr
D26: Max Velocity: | F26: =HLOOKUP($F$14,$M$1:$S$23,13) -> 6 | J26: Water table should be a minimum of 2-ft below permeable pavement base | K26: Known or Adj Storm | L26: Requirements
D27: Insp Report Due: | F27: =HLOOKUP($F$14,$M$1:$S$23,14) -> 1 September | K27: 2 | L27: 2, 5, 10, 25, 50, and 100
D28: Storms: | F28: =HLOOKUP($F$14,$M$1:$S$23,15) -> 2, 5, 10, 25, 50, and 100 | K28: 5 | L28: 5, 10, 25, 50, and 100
D29: Known Flooding Req: | F29: =HLOOKUP($F$14,$M$1:$S$23,17) -> No | K29: 10 | L29: 10, 25, 50, and 100
D30: Known Flooding Storm: | F30: =HLOOKUP($F$14,$M$1:$S$23,19) -> 25, 50, and 100 | K30: 25 | L30: 25, 50, and 100
D31: Known Flooding Storm <: | F31: =HLOOKUP($F$14,$M$1:$S$23,18) -> 25 | K31: 50 | L31: 50 and 100
D32: Adj Property Req: | F32: =HLOOKUP($F$14,$M$1:$S$23,20) -> Yes | K32: 100 | L32: 100
D33: Adj Property Storm: | F33: =HLOOKUP($F$14,$M$1:$S$23,21) -> 25
D34: Adj Property Storm<: | F34: =HLOOKUP($F$14,$M$1:$S$23,22) -> 25, 50, and 100
D35: Known or Adj Design Storm: | F35: =MIN(F31,F34) -> 25 | L35: Question
D36: Known or Adj Design Storm<: | F36: =VLOOKUP(F35,$K$27:$L$32,2) -> 25, 50, and 100 | L36: Yes
D37: Agreement Type: | F37: =HLOOKUP($F$14,$M$1:$S$23,23) -> Release Agreement | L37: No
D38: Entity: | F38: =HLOOKUP($F$14,$M$1:$S$24,24) -> the City of Prattville
H39: Current Logo
E40: Baldwin County
...

Sheet License
C1: END USER LICENSE AGREEMENT (EULA) | N1: Effective Date: | O1: =Tables!F13 -> 46266
A2: =IF(OR(F2="I ACCEPT",F2="I DO NOT ACCEPT"),1,2) -> 2 | E2: Acceptance (required): | F2: Selection Required | N2: Expiration Date: | O2: =Tables!B6 -> 46661
A3: =IF(F3="Workbook is Locked and Unavailable",2,1) -> 2 | E3: Current Status: | F3: =IF(Tables!$B$8,"Workbook is Active","Workbook is Locked and Unavailable") -> Workbook is Locked and Unavailable
E4: Administrator Code (Hidden):
E6: IMPORTANT - READ BEFORE USE: | F6: This workbook and its embedded logic, validators, and scripts (collectively, the "Tool") are proprietary to Hydro, LLC ("Licensor").
F7: ="By clicking I ACCEPT above, you represent that you are (a) preparing a post-construction submittal for "&Tables!$F$38&" and/or" -> By clicking I ACCEPT above, you represent that you are (a) preparing a post-construction submittal for the City of Prattville and/or
F8: maintaining internal records for that submittal; and (b) you have authority to bind your organization ("User"). If you are not
F9: authorized, do not use the Tool.
D11: 1 | E11: Limited License
F12: Licensor grants the User a non-exclusive, non-transferable, non-sublicensable, revocable license to use the Tool soley to prepare
F13: ="and submit post-construction application materials to "&Tables!$F$38&" and for the User's internal recordkeeping for those" -> and submit post-construction application materials to the City of Prattville and for the User's internal recordkeeping for those
F14: submissions. All other uses, including redistribution, public posting, training, or use for other agencies, are prohibited unless
F15: agreed in writing.
D16: 2 | E16: Ownership; No Work-for-Hire
F17: The Tool is licensed, not sold. Licensor retains all right, title, and interest in and to the Tool, including all formulas, code,
F18: templates, and documentation. The Tool is not a work made for hire and no implied licenses are granted.
D19: 3 | E19: Restrictions
F20: The User shall not and shall not permit others to: (a) copy, modify, decompile, or reverse-engineer the Tool; (b) remove proprietary
F21: notices, logos, or watermarks; (c) bypass or disable protections; or (d) redistribute the Tool to third parties (other than submitting filled
F22: ="forms to the "&Tables!$F$23&" as intended. The "&Tables!$F$23&" may host and distribute the unmodified Tool to prospective submitters for" -> forms to the City as intended. The City may host and distribute the unmodified Tool to prospective submitters for
F23: the permitted purpose.
D24: 4 | E24: Suspension and Termination
F25: Licensor may suspend immediately if the Tool is misused, compromised, or used in a manner creating security, legal, or reputational risk.
F26: Upon expiration/termination, User shall stop using the Tool, but may retain archive copies of completed submissions an records
F27: created during the Term.
D28: 5 | E28: Public Records Acknowledgment
F29: ="Outputs and application materials generated with the Tool may be public records of "&Tables!$F$38&"; the Tool itself" -> Outputs and application materials generated with the Tool may be public records of the City of Prattville; the Tool itself
F30: (including templates, code, logic) remains Licensor's proprietary material and is not a public record merely by being used to creat submittions.
D31: 6 | E31: No Professional Services; User Responsibility
F32: ="The Tool is a convenience aid and does not constitute engineering, legal or compliance advice. The "&Tables!$F$38&"'s standards and" -> The Tool is a convenience aid and does not constitute engineering, legal or compliance advice. The the City of Prattville's standards and
F33: regulations control. User is solely responsible for the accuracy and completeness of all data and deliverables.
D34: 7 | E34: Disclaimers; Limitation of Liability
F35: The Tool is provided "AS IS". Licensor disclaims all warranties, express or implied (including merchantability, fitness for a particular
F36: purpose, and non-infringement.) To the Maximum extent permitted by law, Licensor will not be liable for indirect, incidental,
F37: special, consequential, or punitive damages.
D38: 8 | E38: Injunctive Relief
F39: Unathorized use, copying, or distribution of the Tool will cause irreparable harm for which monetary damages are inadequate;
F40: Licensor may seek injunctive relief in addition to other remedies.
D41: 9 | E41: Feedback
F42: Suggestions or feedback may be used by Licensor without restriction or obligation.
...

Sheet General Instructions
B2: General Instructions
B4: 1 | C4: Complete Design Form with the required design information. Once the Design Form is completed, most of the Design section of the As-built Form will be prepopulated.
B6: =B4+1 -> 2 | C6: Field Types
I7: Enter data as applicable for the proposed design.
I9: This is a required field. Once a number or text is entered, the green highlight will be removed.
I12: This is a required field. Place an "X" in the appropriate box and the green highlight will be removed. In some cases, the selection is optional. Once an option is completed, additional fields will be highlighted green and in some fields the green highlight will be removed.
D17: Yes | G17: No | I17: Select either "Yes" or "No" by placing an "X" in the appropriate box. Once an "X" is entered, the green highlight will be removed.
I20: If a field is highlighted yellow after a number is entered, the yellow highlight may indicate an error and/or concern. Once the error and/or concern is resolved, the yellow highlight will be removed. All yellow highlighted cells shall be resolved or an explanitation provided prior to completing the form.
I25: This is a calculated field. Once the required information is entered, the orange highlight will be removed.
C28: Select | I28: Use the drop down list to select an orifice or weir.
C30: Shape | I30: Use the drop down list to select a shape.
C32: Material | I32: Use the drop down list to select a material.
B34: =B6+1 -> 3 | C34: The Supplemental Instructions provide additional guidance and design standards.
B35: =B34+1 -> 4 | C35: Once the Design, As-built, or Inspection Forms are completed, there should be no green, yellow, or orange highlighted fields.
B37: 5 | C37: Automated Review Checks: Once information and data are entered into the form, the form will check the information entered and identify any potential issues or concerns. Prior to printing the form, all automated comments shall be resolved.
B40: 6 | C40: Printing the form may require some adjustments to the print settings for the printer being used.

Sheet Form 2F.1 - Design
T1: Form 2F.1 - Permeable Pavement Design Form | BL1: =T1 -> Form 2F.1 - Permeable Pavement Design Form
B6: Development Information | AB6: Parcel No.: | AV6: Supplemental Instructions
D7: Name: | AD7: Date:
D8: Address: | AD8: BMP ID: | AV8: General design standards and requirements shall be as follows:
AV9: 1 | AW9: Permeable pavement cannot be constructed within the floodway
E10: Attachments: | G10: Design Drawings | N10: H&H Calculations | U10: Drainage Basin Maps | AD10: =" "&Tables!F37 -> Release Agreement | AV10: =AV9+1 -> 2 | AW10: Installation of permeable pavement shall not adversely impact and/or cause flooding of
G12: Soils Data | N12: Maintenance Plan | AW12: properties located within, upstream, and/or downstream of the development
AV13: =AV10+1 -> 3 | AW13: The calculation methodology shall utilize the Natural Resources Conservation Service (NRCS) Urban
F14: Select Area Units: | H14: ac | K14: sq-ft | Z14: Total Area: | AE14: =IF($AM$16=0,"Units?",IF($AM$16=1,"ac",IF($AM$16=2,"sq-ft","Error"))) -> Units? | AL14: =IF(AND(ISBLANK(G14),ISBLANK(J14)),1,2) -> 1 | AM14: =IF(ISBLANK(G14),0,1) -> 0 | AO14: EIA = | AP14: =IF($AM$16=2,AA15/43560,AA15) -> 0 | AQ14: ac | AW14: ="Hydrology for Small Watersheds Technical Release 55 (TR-55) or equivalent as approved by the "&Tables!$F$23&" Engineer" -> Hydrology for Small Watersheds Technical Release 55 (TR-55) or equivalent as approved by the City Engineer
B15: Proposed Impervious Area (PIA) | Z15: Existing Impervious Area (EIA): | AE15: =IF($AM$16=0,"Units?",IF($AM$16=1,"ac",IF($AM$16=2,"sq-ft","Error"))) -> Units? | AM15: =IF(ISBLANK(J14),0,2) -> 0 | AO15: PIA = | AP15: =IF($AM$16=2,J21/43560,J21) -> 0 | AQ15: ac | AV15: =AV13+1 -> 4 | AW15: All applicable developments shall be responsible for ensuring that post-development hydrology mimics
I16: Buildings / Structures: | N16: =IF($AM$16=0,"Units?",IF($AM$16=1,"ac",IF($AM$16=2,"sq-ft","Error"))) -> Units? | S16: Additional Impervious Area (AIA) = PIA - EIA | AM16: =SUM(AM14:AM15) -> 0 | AN16: Units Check | AO16: AIA = | AP16: =AP15-AP14 -> 0 | AQ16: ac | AW16: ="pre-development hydrology for the "&Tables!F28&"-year, 24-your rainfall depths" -> pre-development hydrology for the 2, 5, 10, 25, 50, and 100-year, 24-your rainfall depths
I17: Driveways / Sidewalks: | N17: =IF($AM$16=0,"Units?",IF($AM$16=1,"ac",IF($AM$16=2,"sq-ft","Error"))) -> Units? | V17: AIA = | W17: =IF(AL17=1,"0.00",IFERROR(IF($J$21-$AA$15<0,0,$J$21-$AA$15),"")) -> 0 | AA17: =IF($AM$16=0,"Units?",IF($AM$16=1,"ac",IF($AM$16=2,"sq-ft","Error"))) -> Units? | AD17: AIA = | AE17: =AP16 -> 0 | AI17: ac | AL17: =IF(AND(J21=0,ISBLANK(AA15)),0,IF(OR(J21-AA15=0,J21-AA15<0),1,2)) -> 0 | AM17: ac or sq-ft selection | AV17: =AV15+1 -> 5 | AW17: If a proposed development discharges onto an adjacent property, the proposed development shall:
I18: Roads: | N18: =IF($AM$16=0,"Units?",IF($AM$16=1,"ac",IF($AM$16=2,"sq-ft","Error"))) -> Units? | S18: Water Quality Volume (WQv): | AW18: a. | AX18: ="Obtain "&Tables!F37&" for the adjacent property" -> Obtain Release Agreement for the adjacent property
I19: Parking: | N19: =IF($AM$16=0,"Units?",IF($AM$16=1,"ac",IF($AM$16=2,"sq-ft","Error"))) -> Units? | V19: WQv = | W19: ="AIA acres X "&Tables!G15& " in X 3,630" -> AIA acres X 1.10 in X 3,630 | AW19: b. | AX19: ="If "&Tables!F37&" cannot be obtained, size the permeable pavement to attenuate the" -> If Release Agreement cannot be obtained, size the permeable pavement to attenuate the
I20: Other: | N20: =IF($AM$16=0,"Units?",IF($AM$16=1,"ac",IF($AM$16=2,"sq-ft","Error"))) -> Units? | V20: WQv = | W20: =IF(AL17=1,"0.00",IFERROR(IF($J$21-$AA$15<0,0,$AP$16),"")) -> 0 | AA20: ="acres X "&Tables!G15&" in X 3,630" -> acres X 1.10 in X 3,630 | AX20: ="post-development peak discharge for the "&AS153&"-year to be less than the pre-development " -> post-development peak discharge for the 25, 50, and 100-year to be less than the pre-development
I21: Total PIA: | J21: =IF(SUM($J$16:$J$20)=0,0,SUM($J$16:$J$20)) -> 0 | N21: =IF($AM$16=0,"Units?",IF($AM$16=1,"ac",IF($AM$16=2,"sq-ft","Error"))) -> Units? | V21: WQv = | W21: =IF(AL17=1,"0",IFERROR(ROUND(IF(AP16*Tables!F15*3630<0,0,AP16*Tables!F15*3630),0),"")) -> 0 | AA21: ft3 | AX21: ="peak discharge(s) for the "&AR153&"-year storm event(s)" -> peak discharge(s) for the 25-year storm event(s)
AV22: =AV17+1 -> 6 | AW22: A stormwater pathway (i.e. piped storm sewer, overland flow, etc.) within the development shall
B23: Pre-Development | AW23: be provided to convey the discharge resulting from a 100-year, 24-hour storm event in a manner that will not
L24: =IF(ISBLANK(L25),1,2) -> 1 | P24: =IF(ISBLANK(P25),1,2) -> 1 | T24: =IF(ISBLANK(T25),1,2) -> 1 | X24: =IF(ISBLANK(X25),1,2) -> 1 | AB24: =IF(ISBLANK(AB25),1,2) -> 1 | AX24: ="peak discharge for the "&AR153&"-year storm event." -> peak discharge for the 25-year storm event.
J25: Basin ID: | AF25: Pre Total | AW25: adversely impact and/or cause flooding of structures within the development
H26: Drainage Area | I26: =IF($AM$16=0,"Units?",IF($AM$16=1,"(ac):",IF($AM$16=2,"(sq-ft):","Error"))) -> Units? | AV26: =AV22+1 -> 7 | AW26: H&H calculations shall include all the information required to validate information provided on this form i.e. model
J27: Curve Number: | AW27: network, existing drainage areas, proposed drainage areas, time of concentration, curve number, pre-development
J28: Time of Concentration (min): | AL28: =SUM(AL29:AL34) -> 0 | AM28: =SUM(AM29:AM34) -> 0 | AN28: Pre Total | AW28: peak discharges, post-development peak discharges, outlet structure geometry, emergency spillway geometry,
D29: Peak Discharge (ft3/s) | F29: =Tables!$F$16 -> 4.21 | J29: =Tables!$D$16 -> (2-yr) | AL29: =IF(AF29=0,0,1) -> 0 | AM29: =IF(ISBLANK(AF29),0,1) -> 0 | AW29: stage-area storage summary, pond discharge summary, inflow and outflow hydrographs, and outlet velocities.
F30: =Tables!$F$17 -> 5.24 | J30: =Tables!$D$17 -> (5-yr) | AL30: =IF(AF30=0,0,1) -> 0 | AM30: =IF(ISBLANK(AF30),0,1) -> 0 | AV30: =AV26+1 -> 8 | AW30: The latest version of the Alabama Low Impact Development Handbook for the State of Alabama is
F31: =Tables!$F$18 -> 6.17 | J31: =Tables!$D$18 -> (10-yr) | AL31: =IF(AF31=0,0,1) -> 0 | AM31: =IF(ISBLANK(AF31),0,1) -> 0 | AW31: incorporated by reference.
F32: =Tables!$F$19 -> 7.55 | J32: =Tables!$D$19 -> (25-yr) | AL32: =IF(AF32=0,0,1) -> 0 | AM32: =IF(ISBLANK(AF32),0,1) -> 0 | AV32: =AV30+1 -> 9 | AW32: Applicable design requirements include but are not limited to the following:
F33: =Tables!$F$20 -> 8.7 | J33: =Tables!$D$20 -> (50-yr) | AL33: =IF(AF33=0,0,1) -> 0 | AM33: =IF(ISBLANK(AF33),0,1) -> 0 | AW33: a. | AX33: Soils shall have a minimum infiltration rate of 0.5 inches/hour as determined by an
F34: =Tables!$F$21 -> 9.93 | J34: =Tables!$D$21 -> (100-yr) | AL34: =IF(AF34=0,0,1) -> 0 | AM34: =IF(ISBLANK(AF34),0,1) -> 0 | AX34: infiltration test. An underdrain system shall be used when soils have an infiltration rate
AX35: of < 0.5 inches/hour.
B36: Post-Development | AL36: =IF(AND(ISBLANK(P36),ISBLANK(S36),ISBLANK(V36),ISBLANK(Y36)),1,2) -> 1 | AW36: b. | AX36: Permeable pavement systems shall not be designed to infiltrate into soils with high
L37: =IF(ISBLANK(L38),1,2) -> 1 | P37: =IF(ISBLANK(P38),1,2) -> 1 | T37: =IF(ISBLANK(T38),1,2) -> 1 | X37: =IF(ISBLANK(X38),1,2) -> 1 | AB37: =IF(ISBLANK(AB38),1,2) -> 1
J38: Basin ID: | AG38: Post Total | AX38: shrink/swell potential due to a high risk of subsurface and surface movement.
H39: Drainage Area | I39: =IF($AM$16=0,"Units?",IF($AM$16=1,"(ac):",IF($AM$16=2,"(sq-ft):","Error"))) -> Units? | AW39: c. | AX39: The runoff volume captured by the stormwater management system shall drain away
J40: Curve Number: | AX40: from the underlying soil within 24 to 48 hours.
J41: Time of Concentration (min): | AL41: =SUM(AL42:AL47) -> 0 | AM41: =SUM(AM42:AM47) -> 0 | AN41: Post Total | AW41: d. | AX41: The seasonally high-water table shall be a minimum of 2-feet below the permeable pavement base layer
D42: Peak Discharge (ft3/s) | F42: =Tables!$F$16 -> 4.21 | J42: =Tables!$D$16 -> (2-yr) | AL42: =IF(AF42=0,0,1) -> 0 | AM42: =IF(ISBLANK(AF42),0,1) -> 0 | AX42: to allow water to properly water to exfiltrate from the stormwater management system.
F43: =Tables!$F$17 -> 5.24 | J43: =Tables!$D$17 -> (5-yr) | AL43: =IF(AF43=0,0,1) -> 0 | AM43: =IF(ISBLANK(AF43),0,1) -> 0 | AW43: e. | AX43: Slopes greater than 2% are not recommended.
F44: =Tables!$F$18 -> 6.17 | J44: =Tables!$D$18 -> (10-yr) | AL44: =IF(AF44=0,0,1) -> 0 | AM44: =IF(ISBLANK(AF44),0,1) -> 0 | AW44: f. | AX44: Stormwater runoff directed to permeable pavement shall be from impervious surface
F45: =Tables!$F$19 -> 7.55 | J45: =Tables!$D$19 -> (25-yr) | AL45: =IF(AF45=0,0,1) -> 0 | AM45: =IF(ISBLANK(AF45),0,1) -> 0 | AX45: areas. The ratio of impervious surface area to the permeable pavement surface areas
...

Sheet Form 3F - As-built
V1: Form 3F - Permeable Pavement As-Built Certification Form | BL1: =V1 -> Form 3F - Permeable Pavement As-Built Certification Form
A6: Development Information | AC6: Parcel No.: | AD6: ='Form 2F.1 - Design'!AC6 -> 0 | AM6: =LEN(AD6) -> 1 | AU6: Supplemental Instructions
D7: Name: | E7: ='Form 2F.1 - Design'!$E$7 -> 0 | AE7: Date:
D8: Address: | E8: ='Form 2F.1 - Design'!$E$8 -> 0 | AE8: BMP ID: | AF8: ='Form 2F.1 - Design'!AE8 -> 0 | AU8: 1 | AV8: The developer / owner shall retain the services of a professional land surveyor to:
B10: Attachments: | H10: As-built Survey | O10: As-built H&H Calculations | AA10: =Tables!F24 -> O&M Agreement | AI10: Photos | AV10: a. | AW10: Perform a field survey of the constructed permeable pavement; and,
A12: Permeable Pavement | AV12: b. | AW12: Develop an as-built drawing.
A13: Design | T13: As-Built | AU13: 2 | AV13: As-built survey, at a minimum, shall include the following:
M14: Infiltration Rate: | N14: ='Form 2F.1 - Design'!G69 -> 0 | Q14: in/hr | AF14: Infiltration Rate: | AJ14: in/hr | AV14: a. | AW14: Site features to include but not limited to roads, rights-of-way, property lines, driveways, buildings, parking
M15: Water Table Depth: | N15: ='Form 2F.1 - Design'!AF71 -> 0 | Q15: ft | AF15: Water Table Depth: | AJ15: ft | AW15: areas, fences, retaining walls, dumpster pads, etc.
M17: Field Test Performed: | N17: ='Form 2F.1 - Design'!X69 -> 0 | O17: Yes | Q17: ='Form 2F.1 - Design'!AA69 -> 0 | R17: No | AF17: Field Test Performed: | AH17: Yes | AK17: No | AM17: =IF(AND(ISBLANK(AG17),ISBLANK(AJ17)),1,2) -> 1 | AV17: b. | AW17: Storm sewers showing pipes, inlets, junction boxes, outlets, outlet protection, and invert elevations
E18: Pretreatment: | F18: ='Form 2F.1 - Design'!J73 -> 0 | G18: Yes | I18: ='Form 2F.1 - Design'!M73 -> 0 | J18: No | M18: Type: | N18: ='Form 2F.1 - Design'!R73 -> 0 | X18: Pretreatment: | Z18: Yes | AC18: No | AF18: Type: | AM18: =IF(AND(ISBLANK(Y18),ISBLANK(AB18)),1,2) -> 1 | AN18: =IF(ISBLANK(Y18),1,2) -> 1 | AV18: c. | AW18: Location of the permeable pavement, contours, spot elevations, outlet structure, outlet pipe,
AW19: and outlet protection
B20: System Cross Section | J20: Depth | N20: Bottom EL | U20: System Cross Section | AC20: Depth | AG20: Bottom EL | AV20: d. | AW20: Detail of emergency spillway showing elevations and dimensions
H21: Permeable Pavement: | I21: ='Form 2F.1 - Design'!J76 -> 0 | L21: in | N21: ='Form 2F.1 - Design'!O76 -> 0 | Q21: ft | AA21: Permeable Pavement: | AE21: in | AJ21: ft | AU21: 3 | AV21: The developer shall retain the services of a professional engineer to:
H22: Choking Layer: | I22: ='Form 2F.1 - Design'!J77 -> 0 | L22: in | N22: ='Form 2F.1 - Design'!O77 -> 0 | Q22: ft | AA22: Choking Layer: | AE22: in | AJ22: ft | AV22: a. | AW22: Use the as-built survey data to complete Form 3E – Permeable Pavement As-built Certification Form;
H23: Reservoir Layer: | I23: ='Form 2F.1 - Design'!J78 -> 0 | L23: in | N23: ='Form 2F.1 - Design'!O78 -> 0 | Q23: ft | AA23: Reservoir Layer: | AE23: in | AJ23: ft | AV23: b. | AW23: Provide ALL required attachments:
H24: Filter Layer: | I24: ='Form 2F.1 - Design'!J79 -> 0 | L24: in | N24: ='Form 2F.1 - Design'!O79 -> 0 | Q24: ft | AA24: Filter Layer: | AE24: in | AJ24: ft | AW24: • | AX24: As-Built Survey Drawing(s)
H25: Improved Subgrade: | I25: ='Form 2F.1 - Design'!J80 -> 0 | L25: in | N25: ='Form 2F.1 - Design'!O80 -> 0 | Q25: ft | AA25: Improved Subgrade: | AE25: in | AJ25: ft | AW25: • | AX25: H&H Calculations
E27: Geotextile: | F27: ='Form 2F.1 - Design'!J82 -> 0 | G27: Yes | I27: ='Form 2F.1 - Design'!M82 -> 0 | J27: No | M27: Type: | N27: ='Form 2F.1 - Design'!R82 -> 0 | X27: Geotextile: | Z27: Yes | AC27: No | AF27: Type: | AM27: =IF(AND(ISBLANK(Y27),ISBLANK(AB27)),1,2) -> 1 | AN27: =IF(ISBLANK(Y27),1,2) -> 1 | AW27: • | AX27: Photographs
AW28: • | AX28: =Tables!F24 -> O&M Agreement
B29: Underdrain Pipe(s) | I29: ='Form 2F.1 - Design'!AC84 -> 0 | J29: None | U29: Underdrain Pipe(s) | AC29: None | AM29: =IF(ISBLANK(AB29),1,2) -> 1 | AU29: 4 | AV29: Photographs, at a minimum, shall include the following:
E30: Material: | F30: ='Form 2F.1 - Design'!M84 -> 0 | X30: Material: | AM30: =IF(ISBLANK(Y30),1,2) -> 1 | AV30: a. | AW30: Caption identifying the date, location, and description of the photograph
I31: Diameter | N31: Inv. EL | AB31: Diameter | AG31: Inv. EL | AV31: b. | AW31: Permeable pavement system components during construction
H32: Perforated Pipe: | I32: ='Form 2F.1 - Design'!W85 -> 0 | L32: in | N32: ='Form 2F.1 - Design'!M85 -> 0 | Q32: ft | AA32: Perforated Pipe: | AE32: in | AJ32: ft | AV32: c. | AW32: General overview of the permeable pavement
H33: Outlet Pipe: | I33: ='Form 2F.1 - Design'!W86 -> 0 | L33: in | N33: ='Form 2F.1 - Design'!M86 -> 0 | Q33: ft | AA33: Outlet Pipe: | AE33: in | AJ33: ft | AV33: d. | AW33: Outlet pipe discharge location and outlet protection
AV34: e. | AW34: Emergency spillway and discharge location, if applicable
B35: Observation Well(s) | I35: ='Form 2F.1 - Design'!AC88 -> 0 | J35: None | U35: Observation Well(s) | AC35: None | AM35: =IF(ISBLANK(AB35),1,2) -> 1 | AV35: f. | AW35: Location where the permeable pavement discharges into receiving stream, culvert, or channel
E36: Material: | F36: ='Form 2F.1 - Design'!M88 -> 0 | N36: Diameter: | O36: ='Form 2F.1 - Design'!M89 -> 0 | R36: in | X36: Material: | AF36: Diameter: | AJ36: in | AM36: =IF(ISBLANK(Y36),1,2) -> 1 | AU36: 5 | AV36: ="Form 3E – Permeable Pavement As-built Certification Form shall be approved by the "&Tables!F23&" prior to:" -> Form 3E – Permeable Pavement As-built Certification Form shall be approved by the City prior to:
N37: No. Wells: | O37: ='Form 2F.1 - Design'!W89 -> 0 | R37: ea | AF37: No. Wells: | AJ37: ea | AV37: a. | AW37: The issuance of a Certificate of Occupancy; and/or,
AV38: b. | AW38: Prior to approval of the Final Plat.
B39: Overflow Structure | I39: ='Form 2F.1 - Design'!AC91 -> 0 | J39: None | U39: Overflow Structure | AC39: None | AM39: =IF(ISBLANK(AB39),1,2) -> 1
M40: Trash Rack: | N40: ='Form 2F.1 - Design'!AE95 -> 0 | O40: Yes | Q40: ='Form 2F.1 - Design'!AH95 -> 0 | R40: No | AF40: Trash Rack: | AH40: Yes | AK40: No | AM40: =IF(AND(ISBLANK(AG40),ISBLANK(AJ40)),1,2) -> 1
E41: Material: | F41: ='Form 2F.1 - Design'!M91 -> 0 | N41: Shape: | O41: ='Form 2F.1 - Design'!W91 -> 0 | X41: Material: | AG41: Shape: | AM41: =IF(ISBLANK(Y41),1,2) -> 1
E42: Diameter: | F42: ='Form 2F.1 - Design'!M93 -> 0 | I42: in | X42: Diameter: | AB42: in | AM42: =IF(ISBLANK(Y42),1,2) -> 1
E43: Width: | F43: ='Form 2F.1 - Design'!W93 -> 0 | I43: ft | N43: Length: | O43: ='Form 2F.1 - Design'!AF93 -> 0 | R43: ft | X43: Width: | AB43: ft | AG43: Length: | AK43: ft | AM43: =IF(AND(ISBLANK(Y43),ISBLANK(AH43)),1,2) -> 1
E44: Bottom EL: | F44: ='Form 2F.1 - Design'!M95 -> 0 | I44: ft | N44: Top EL: | O44: ='Form 2F.1 - Design'!W95 -> 0 | R44: ft | X44: Bottom EL: | AB44: ft | AG44: Top EL: | AK44: ft
B46: Outlet Pipe | I46: ='Form 2F.1 - Design'!AC97 -> 0 | J46: None | V46: Outlet Pipe | AC46: None | AM46: =IF(ISBLANK(AB46),1,2) -> 1
E47: Material: | F47: ='Form 2F.1 - Design'!M97 -> 0 | N47: Shape: | O47: ='Form 2F.1 - Design'!W97 -> 0 | Y47: Material: | AG47: Shape:
E48: Diameter: | F48: ='Form 2F.1 - Design'!M98 -> 0 | I48: in | N48: Inv. EL: | O48: ='Form 2F.1 - Design'!W98 -> 0 | R48: ft | Y48: Diameter: | AC48: in | AG48: Inv. EL: | AK48: ft | AM48: =IF(ISBLANK(Z48),1,2) -> 1
E49: Rise: | F49: ='Form 2F.1 - Design'!M99 -> 0 | I49: ft | N49: Span: | O49: ='Form 2F.1 - Design'!W99 -> 0 | R49: ft | Y49: Rise: | AC49: ft | AG49: Span: | AK49: ft | AM49: =IF(AND(ISBLANK(Z49),ISBLANK(AH49)),1,2) -> 1
...
