BEGIN:VCALENDAR
VERSION:2.0
PRODID:-//City of Prattville - ECPv6.15.20//NONSGML v1.0//EN
CALSCALE:GREGORIAN
METHOD:PUBLISH
X-WR-CALNAME:City of Prattville
X-ORIGINAL-URL:https://prattvilleal.gov
X-WR-CALDESC:Events for City of Prattville
REFRESH-INTERVAL;VALUE=DURATION:PT1H
X-Robots-Tag:noindex
X-PUBLISHED-TTL:PT1H
BEGIN:VTIMEZONE
TZID:America/Chicago
BEGIN:DAYLIGHT
TZOFFSETFROM:-0600
TZOFFSETTO:-0500
TZNAME:CDT
DTSTART:20270314T080000
END:DAYLIGHT
BEGIN:STANDARD
TZOFFSETFROM:-0500
TZOFFSETTO:-0600
TZNAME:CST
DTSTART:20271107T070000
END:STANDARD
BEGIN:DAYLIGHT
TZOFFSETFROM:-0600
TZOFFSETTO:-0500
TZNAME:CDT
DTSTART:20280312T080000
END:DAYLIGHT
BEGIN:STANDARD
TZOFFSETFROM:-0500
TZOFFSETTO:-0600
TZNAME:CST
DTSTART:20281105T070000
END:STANDARD
BEGIN:DAYLIGHT
TZOFFSETFROM:-0600
TZOFFSETTO:-0500
TZNAME:CDT
DTSTART:20290311T080000
END:DAYLIGHT
BEGIN:STANDARD
TZOFFSETFROM:-0500
TZOFFSETTO:-0600
TZNAME:CST
DTSTART:20291104T070000
END:STANDARD
END:VTIMEZONE
BEGIN:VEVENT
DTSTART;TZID=America/Chicago:20280127T163000
DTEND;TZID=America/Chicago:20280127T173000
DTSTAMP:20260421T210500
CREATED:20260105T151033Z
LAST-MODIFIED:20260105T151033Z
UID:10002513-1832603400-1832607000@prattvilleal.gov
SUMMARY:Historic Preservation Commission Meeting
DESCRIPTION:The Historic Preservation Commission meets on the 4th Thursday of the month in the Council Chambers. \nClick the link below to view agendas\, minutes\, and packets. \nHPC Portal Access
URL:https://prattvilleal.gov/event/historic-preservation-commission-meeting-4-4-2-2-2/2028-01-27/
LOCATION:City Hall Council Chambers\, Council Chamber | 101 West Main Street | Prattville
CATEGORIES:Government Meetings
GEO:32.4591716;-86.4732051
X-APPLE-STRUCTURED-LOCATION;VALUE=URI;X-ADDRESS=City Hall Council Chambers Council Chamber | 101 West Main Street | Prattville;X-APPLE-RADIUS=500;X-TITLE=Council Chamber | 101 West Main Street | Prattville:geo:-86.4732051,32.4591716
END:VEVENT
BEGIN:VEVENT
DTSTART;TZID=America/Chicago:20280201T180000
DTEND;TZID=America/Chicago:20280201T193000
DTSTAMP:20260421T210500
CREATED:20231213T142354Z
LAST-MODIFIED:20250827T215919Z
UID:10001814-1833040800-1833046200@prattvilleal.gov
SUMMARY:City Council Meeting
DESCRIPTION:
URL:https://prattvilleal.gov/event/city-council-meeting-1-tuesday/2028-02-01/
LOCATION:City Hall Council Chambers\, Council Chamber | 101 West Main Street | Prattville
CATEGORIES:Government Meetings
ORGANIZER;CN="City Clerk":MAILTO:cityclerk@prattvilleal.gov
GEO:32.4591716;-86.4732051
X-APPLE-STRUCTURED-LOCATION;VALUE=URI;X-ADDRESS=City Hall Council Chambers Council Chamber | 101 West Main Street | Prattville;X-APPLE-RADIUS=500;X-TITLE=Council Chamber | 101 West Main Street | Prattville:geo:-86.4732051,32.4591716
END:VEVENT
BEGIN:VEVENT
DTSTART;TZID=America/Chicago:20280208T160000
DTEND;TZID=America/Chicago:20280208T170000
DTSTAMP:20260421T210500
CREATED:20250103T201946Z
LAST-MODIFIED:20250828T162414Z
UID:10001015-1833638400-1833642000@prattvilleal.gov
SUMMARY:Board of Zoning Adjustments Meeting
DESCRIPTION:The Board of Zoning Adjustments (BZA) meets on the 2nd Tuesday of the month in the Council Chambers. \nClick the link below to view agendas\, minutes\, and packets. \nBZA Public Portal Access
URL:https://prattvilleal.gov/event/board-of-zoning-adjustments-meeting-2/2028-02-08/
LOCATION:City Hall Council Chambers\, Council Chamber | 101 West Main Street | Prattville
CATEGORIES:Government Meetings
GEO:32.4591716;-86.4732051
X-APPLE-STRUCTURED-LOCATION;VALUE=URI;X-ADDRESS=City Hall Council Chambers Council Chamber | 101 West Main Street | Prattville;X-APPLE-RADIUS=500;X-TITLE=Council Chamber | 101 West Main Street | Prattville:geo:-86.4732051,32.4591716
END:VEVENT
BEGIN:VEVENT
DTSTART;TZID=America/Chicago:20280215T180000
DTEND;TZID=America/Chicago:20280215T193000
DTSTAMP:20260421T210500
CREATED:20231213T143009Z
LAST-MODIFIED:20250827T220001Z
UID:10001874-1834250400-1834255800@prattvilleal.gov
SUMMARY:City Council Meeting
DESCRIPTION:
URL:https://prattvilleal.gov/event/city-council-meeting-3rd-tuesday/2028-02-15/
LOCATION:City Hall Council Chambers\, Council Chamber | 101 West Main Street | Prattville
CATEGORIES:Government Meetings
ORGANIZER;CN="City Clerk":MAILTO:cityclerk@prattvilleal.gov
GEO:32.4591716;-86.4732051
X-APPLE-STRUCTURED-LOCATION;VALUE=URI;X-ADDRESS=City Hall Council Chambers Council Chamber | 101 West Main Street | Prattville;X-APPLE-RADIUS=500;X-TITLE=Council Chamber | 101 West Main Street | Prattville:geo:-86.4732051,32.4591716
END:VEVENT
BEGIN:VEVENT
DTSTART;TZID=America/Chicago:20280217T150000
DTEND;TZID=America/Chicago:20280217T160000
DTSTAMP:20260421T210500
CREATED:20250103T202358Z
LAST-MODIFIED:20250828T162209Z
UID:10000949-1834412400-1834416000@prattvilleal.gov
SUMMARY:Planning Commission Meeting
DESCRIPTION:The Planning Commission meets on the 3rd Thursday of the month in the Council Chambers. \nClick the button below to view agenda\, minutes\, and packets. \nPlanning Commission Public Portal
URL:https://prattvilleal.gov/event/planning-commission-meeting-2/2028-02-17/
LOCATION:City Hall Council Chambers\, Council Chamber | 101 West Main Street | Prattville
CATEGORIES:Government Meetings
GEO:32.4591716;-86.4732051
X-APPLE-STRUCTURED-LOCATION;VALUE=URI;X-ADDRESS=City Hall Council Chambers Council Chamber | 101 West Main Street | Prattville;X-APPLE-RADIUS=500;X-TITLE=Council Chamber | 101 West Main Street | Prattville:geo:-86.4732051,32.4591716
END:VEVENT
BEGIN:VEVENT
DTSTART;TZID=America/Chicago:20280224T163000
DTEND;TZID=America/Chicago:20280224T173000
DTSTAMP:20260421T210500
CREATED:20260105T151033Z
LAST-MODIFIED:20260105T151033Z
UID:10002514-1835022600-1835026200@prattvilleal.gov
SUMMARY:Historic Preservation Commission Meeting
DESCRIPTION:The Historic Preservation Commission meets on the 4th Thursday of the month in the Council Chambers. \nClick the link below to view agendas\, minutes\, and packets. \nHPC Portal Access
URL:https://prattvilleal.gov/event/historic-preservation-commission-meeting-4-4-2-2-2/2028-02-24/
LOCATION:City Hall Council Chambers\, Council Chamber | 101 West Main Street | Prattville
CATEGORIES:Government Meetings
GEO:32.4591716;-86.4732051
X-APPLE-STRUCTURED-LOCATION;VALUE=URI;X-ADDRESS=City Hall Council Chambers Council Chamber | 101 West Main Street | Prattville;X-APPLE-RADIUS=500;X-TITLE=Council Chamber | 101 West Main Street | Prattville:geo:-86.4732051,32.4591716
END:VEVENT
BEGIN:VEVENT
DTSTART;TZID=America/Chicago:20280307T180000
DTEND;TZID=America/Chicago:20280307T193000
DTSTAMP:20260421T210500
CREATED:20231213T142354Z
LAST-MODIFIED:20250827T215919Z
UID:10001815-1836064800-1836070200@prattvilleal.gov
SUMMARY:City Council Meeting
DESCRIPTION:
URL:https://prattvilleal.gov/event/city-council-meeting-1-tuesday/2028-03-07/
LOCATION:City Hall Council Chambers\, Council Chamber | 101 West Main Street | Prattville
CATEGORIES:Government Meetings
ORGANIZER;CN="City Clerk":MAILTO:cityclerk@prattvilleal.gov
GEO:32.4591716;-86.4732051
X-APPLE-STRUCTURED-LOCATION;VALUE=URI;X-ADDRESS=City Hall Council Chambers Council Chamber | 101 West Main Street | Prattville;X-APPLE-RADIUS=500;X-TITLE=Council Chamber | 101 West Main Street | Prattville:geo:-86.4732051,32.4591716
END:VEVENT
BEGIN:VEVENT
DTSTART;TZID=America/Chicago:20280314T160000
DTEND;TZID=America/Chicago:20280314T170000
DTSTAMP:20260421T210500
CREATED:20250103T201946Z
LAST-MODIFIED:20250828T162414Z
UID:10001016-1836662400-1836666000@prattvilleal.gov
SUMMARY:Board of Zoning Adjustments Meeting
DESCRIPTION:The Board of Zoning Adjustments (BZA) meets on the 2nd Tuesday of the month in the Council Chambers. \nClick the link below to view agendas\, minutes\, and packets. \nBZA Public Portal Access
URL:https://prattvilleal.gov/event/board-of-zoning-adjustments-meeting-2/2028-03-14/
LOCATION:City Hall Council Chambers\, Council Chamber | 101 West Main Street | Prattville
CATEGORIES:Government Meetings
GEO:32.4591716;-86.4732051
X-APPLE-STRUCTURED-LOCATION;VALUE=URI;X-ADDRESS=City Hall Council Chambers Council Chamber | 101 West Main Street | Prattville;X-APPLE-RADIUS=500;X-TITLE=Council Chamber | 101 West Main Street | Prattville:geo:-86.4732051,32.4591716
END:VEVENT
BEGIN:VEVENT
DTSTART;TZID=America/Chicago:20280316T150000
DTEND;TZID=America/Chicago:20280316T160000
DTSTAMP:20260421T210500
CREATED:20250103T202358Z
LAST-MODIFIED:20250828T162209Z
UID:10000950-1836831600-1836835200@prattvilleal.gov
SUMMARY:Planning Commission Meeting
DESCRIPTION:The Planning Commission meets on the 3rd Thursday of the month in the Council Chambers. \nClick the button below to view agenda\, minutes\, and packets. \nPlanning Commission Public Portal
URL:https://prattvilleal.gov/event/planning-commission-meeting-2/2028-03-16/
LOCATION:City Hall Council Chambers\, Council Chamber | 101 West Main Street | Prattville
CATEGORIES:Government Meetings
GEO:32.4591716;-86.4732051
X-APPLE-STRUCTURED-LOCATION;VALUE=URI;X-ADDRESS=City Hall Council Chambers Council Chamber | 101 West Main Street | Prattville;X-APPLE-RADIUS=500;X-TITLE=Council Chamber | 101 West Main Street | Prattville:geo:-86.4732051,32.4591716
END:VEVENT
BEGIN:VEVENT
DTSTART;TZID=America/Chicago:20280321T180000
DTEND;TZID=America/Chicago:20280321T193000
DTSTAMP:20260421T210500
CREATED:20231213T143009Z
LAST-MODIFIED:20250827T220001Z
UID:10001875-1837274400-1837279800@prattvilleal.gov
SUMMARY:City Council Meeting
DESCRIPTION:
URL:https://prattvilleal.gov/event/city-council-meeting-3rd-tuesday/2028-03-21/
LOCATION:City Hall Council Chambers\, Council Chamber | 101 West Main Street | Prattville
CATEGORIES:Government Meetings
ORGANIZER;CN="City Clerk":MAILTO:cityclerk@prattvilleal.gov
GEO:32.4591716;-86.4732051
X-APPLE-STRUCTURED-LOCATION;VALUE=URI;X-ADDRESS=City Hall Council Chambers Council Chamber | 101 West Main Street | Prattville;X-APPLE-RADIUS=500;X-TITLE=Council Chamber | 101 West Main Street | Prattville:geo:-86.4732051,32.4591716
END:VEVENT
BEGIN:VEVENT
DTSTART;TZID=America/Chicago:20280323T163000
DTEND;TZID=America/Chicago:20280323T173000
DTSTAMP:20260421T210500
CREATED:20260105T151033Z
LAST-MODIFIED:20260105T151033Z
UID:10002515-1837441800-1837445400@prattvilleal.gov
SUMMARY:Historic Preservation Commission Meeting
DESCRIPTION:The Historic Preservation Commission meets on the 4th Thursday of the month in the Council Chambers. \nClick the link below to view agendas\, minutes\, and packets. \nHPC Portal Access
URL:https://prattvilleal.gov/event/historic-preservation-commission-meeting-4-4-2-2-2/2028-03-23/
LOCATION:City Hall Council Chambers\, Council Chamber | 101 West Main Street | Prattville
CATEGORIES:Government Meetings
GEO:32.4591716;-86.4732051
X-APPLE-STRUCTURED-LOCATION;VALUE=URI;X-ADDRESS=City Hall Council Chambers Council Chamber | 101 West Main Street | Prattville;X-APPLE-RADIUS=500;X-TITLE=Council Chamber | 101 West Main Street | Prattville:geo:-86.4732051,32.4591716
END:VEVENT
BEGIN:VEVENT
DTSTART;TZID=America/Chicago:20280404T180000
DTEND;TZID=America/Chicago:20280404T193000
DTSTAMP:20260421T210500
CREATED:20231213T142354Z
LAST-MODIFIED:20250827T215919Z
UID:10001816-1838484000-1838489400@prattvilleal.gov
SUMMARY:City Council Meeting
DESCRIPTION:
URL:https://prattvilleal.gov/event/city-council-meeting-1-tuesday/2028-04-04/
LOCATION:City Hall Council Chambers\, Council Chamber | 101 West Main Street | Prattville
CATEGORIES:Government Meetings
ORGANIZER;CN="City Clerk":MAILTO:cityclerk@prattvilleal.gov
GEO:32.4591716;-86.4732051
X-APPLE-STRUCTURED-LOCATION;VALUE=URI;X-ADDRESS=City Hall Council Chambers Council Chamber | 101 West Main Street | Prattville;X-APPLE-RADIUS=500;X-TITLE=Council Chamber | 101 West Main Street | Prattville:geo:-86.4732051,32.4591716
END:VEVENT
BEGIN:VEVENT
DTSTART;TZID=America/Chicago:20280411T160000
DTEND;TZID=America/Chicago:20280411T170000
DTSTAMP:20260421T210500
CREATED:20250103T201946Z
LAST-MODIFIED:20250828T162414Z
UID:10001017-1839081600-1839085200@prattvilleal.gov
SUMMARY:Board of Zoning Adjustments Meeting
DESCRIPTION:The Board of Zoning Adjustments (BZA) meets on the 2nd Tuesday of the month in the Council Chambers. \nClick the link below to view agendas\, minutes\, and packets. \nBZA Public Portal Access
URL:https://prattvilleal.gov/event/board-of-zoning-adjustments-meeting-2/2028-04-11/
LOCATION:City Hall Council Chambers\, Council Chamber | 101 West Main Street | Prattville
CATEGORIES:Government Meetings
GEO:32.4591716;-86.4732051
X-APPLE-STRUCTURED-LOCATION;VALUE=URI;X-ADDRESS=City Hall Council Chambers Council Chamber | 101 West Main Street | Prattville;X-APPLE-RADIUS=500;X-TITLE=Council Chamber | 101 West Main Street | Prattville:geo:-86.4732051,32.4591716
END:VEVENT
BEGIN:VEVENT
DTSTART;TZID=America/Chicago:20280418T180000
DTEND;TZID=America/Chicago:20280418T193000
DTSTAMP:20260421T210500
CREATED:20231213T143009Z
LAST-MODIFIED:20250827T220001Z
UID:10001876-1839693600-1839699000@prattvilleal.gov
SUMMARY:City Council Meeting
DESCRIPTION:
URL:https://prattvilleal.gov/event/city-council-meeting-3rd-tuesday/2028-04-18/
LOCATION:City Hall Council Chambers\, Council Chamber | 101 West Main Street | Prattville
CATEGORIES:Government Meetings
ORGANIZER;CN="City Clerk":MAILTO:cityclerk@prattvilleal.gov
GEO:32.4591716;-86.4732051
X-APPLE-STRUCTURED-LOCATION;VALUE=URI;X-ADDRESS=City Hall Council Chambers Council Chamber | 101 West Main Street | Prattville;X-APPLE-RADIUS=500;X-TITLE=Council Chamber | 101 West Main Street | Prattville:geo:-86.4732051,32.4591716
END:VEVENT
BEGIN:VEVENT
DTSTART;TZID=America/Chicago:20280420T150000
DTEND;TZID=America/Chicago:20280420T160000
DTSTAMP:20260421T210500
CREATED:20250103T202358Z
LAST-MODIFIED:20250828T162209Z
UID:10000951-1839855600-1839859200@prattvilleal.gov
SUMMARY:Planning Commission Meeting
DESCRIPTION:The Planning Commission meets on the 3rd Thursday of the month in the Council Chambers. \nClick the button below to view agenda\, minutes\, and packets. \nPlanning Commission Public Portal
URL:https://prattvilleal.gov/event/planning-commission-meeting-2/2028-04-20/
LOCATION:City Hall Council Chambers\, Council Chamber | 101 West Main Street | Prattville
CATEGORIES:Government Meetings
GEO:32.4591716;-86.4732051
X-APPLE-STRUCTURED-LOCATION;VALUE=URI;X-ADDRESS=City Hall Council Chambers Council Chamber | 101 West Main Street | Prattville;X-APPLE-RADIUS=500;X-TITLE=Council Chamber | 101 West Main Street | Prattville:geo:-86.4732051,32.4591716
END:VEVENT
BEGIN:VEVENT
DTSTART;TZID=America/Chicago:20280427T163000
DTEND;TZID=America/Chicago:20280427T173000
DTSTAMP:20260421T210500
CREATED:20260105T151033Z
LAST-MODIFIED:20260105T151033Z
UID:10002516-1840465800-1840469400@prattvilleal.gov
SUMMARY:Historic Preservation Commission Meeting
DESCRIPTION:The Historic Preservation Commission meets on the 4th Thursday of the month in the Council Chambers. \nClick the link below to view agendas\, minutes\, and packets. \nHPC Portal Access
URL:https://prattvilleal.gov/event/historic-preservation-commission-meeting-4-4-2-2-2/2028-04-27/
LOCATION:City Hall Council Chambers\, Council Chamber | 101 West Main Street | Prattville
CATEGORIES:Government Meetings
GEO:32.4591716;-86.4732051
X-APPLE-STRUCTURED-LOCATION;VALUE=URI;X-ADDRESS=City Hall Council Chambers Council Chamber | 101 West Main Street | Prattville;X-APPLE-RADIUS=500;X-TITLE=Council Chamber | 101 West Main Street | Prattville:geo:-86.4732051,32.4591716
END:VEVENT
BEGIN:VEVENT
DTSTART;TZID=America/Chicago:20280502T180000
DTEND;TZID=America/Chicago:20280502T193000
DTSTAMP:20260421T210500
CREATED:20231213T142354Z
LAST-MODIFIED:20250827T215919Z
UID:10001817-1840903200-1840908600@prattvilleal.gov
SUMMARY:City Council Meeting
DESCRIPTION:
URL:https://prattvilleal.gov/event/city-council-meeting-1-tuesday/2028-05-02/
LOCATION:City Hall Council Chambers\, Council Chamber | 101 West Main Street | Prattville
CATEGORIES:Government Meetings
ORGANIZER;CN="City Clerk":MAILTO:cityclerk@prattvilleal.gov
GEO:32.4591716;-86.4732051
X-APPLE-STRUCTURED-LOCATION;VALUE=URI;X-ADDRESS=City Hall Council Chambers Council Chamber | 101 West Main Street | Prattville;X-APPLE-RADIUS=500;X-TITLE=Council Chamber | 101 West Main Street | Prattville:geo:-86.4732051,32.4591716
END:VEVENT
BEGIN:VEVENT
DTSTART;TZID=America/Chicago:20280509T160000
DTEND;TZID=America/Chicago:20280509T170000
DTSTAMP:20260421T210500
CREATED:20250103T201946Z
LAST-MODIFIED:20250828T162414Z
UID:10001018-1841500800-1841504400@prattvilleal.gov
SUMMARY:Board of Zoning Adjustments Meeting
DESCRIPTION:The Board of Zoning Adjustments (BZA) meets on the 2nd Tuesday of the month in the Council Chambers. \nClick the link below to view agendas\, minutes\, and packets. \nBZA Public Portal Access
URL:https://prattvilleal.gov/event/board-of-zoning-adjustments-meeting-2/2028-05-09/
LOCATION:City Hall Council Chambers\, Council Chamber | 101 West Main Street | Prattville
CATEGORIES:Government Meetings
GEO:32.4591716;-86.4732051
X-APPLE-STRUCTURED-LOCATION;VALUE=URI;X-ADDRESS=City Hall Council Chambers Council Chamber | 101 West Main Street | Prattville;X-APPLE-RADIUS=500;X-TITLE=Council Chamber | 101 West Main Street | Prattville:geo:-86.4732051,32.4591716
END:VEVENT
BEGIN:VEVENT
DTSTART;TZID=America/Chicago:20280516T180000
DTEND;TZID=America/Chicago:20280516T193000
DTSTAMP:20260421T210500
CREATED:20231213T143009Z
LAST-MODIFIED:20250827T220001Z
UID:10001877-1842112800-1842118200@prattvilleal.gov
SUMMARY:City Council Meeting
DESCRIPTION:
URL:https://prattvilleal.gov/event/city-council-meeting-3rd-tuesday/2028-05-16/
LOCATION:City Hall Council Chambers\, Council Chamber | 101 West Main Street | Prattville
CATEGORIES:Government Meetings
ORGANIZER;CN="City Clerk":MAILTO:cityclerk@prattvilleal.gov
GEO:32.4591716;-86.4732051
X-APPLE-STRUCTURED-LOCATION;VALUE=URI;X-ADDRESS=City Hall Council Chambers Council Chamber | 101 West Main Street | Prattville;X-APPLE-RADIUS=500;X-TITLE=Council Chamber | 101 West Main Street | Prattville:geo:-86.4732051,32.4591716
END:VEVENT
BEGIN:VEVENT
DTSTART;TZID=America/Chicago:20280518T150000
DTEND;TZID=America/Chicago:20280518T160000
DTSTAMP:20260421T210500
CREATED:20250103T202358Z
LAST-MODIFIED:20250828T162209Z
UID:10000952-1842274800-1842278400@prattvilleal.gov
SUMMARY:Planning Commission Meeting
DESCRIPTION:The Planning Commission meets on the 3rd Thursday of the month in the Council Chambers. \nClick the button below to view agenda\, minutes\, and packets. \nPlanning Commission Public Portal
URL:https://prattvilleal.gov/event/planning-commission-meeting-2/2028-05-18/
LOCATION:City Hall Council Chambers\, Council Chamber | 101 West Main Street | Prattville
CATEGORIES:Government Meetings
GEO:32.4591716;-86.4732051
X-APPLE-STRUCTURED-LOCATION;VALUE=URI;X-ADDRESS=City Hall Council Chambers Council Chamber | 101 West Main Street | Prattville;X-APPLE-RADIUS=500;X-TITLE=Council Chamber | 101 West Main Street | Prattville:geo:-86.4732051,32.4591716
END:VEVENT
BEGIN:VEVENT
DTSTART;TZID=America/Chicago:20280525T163000
DTEND;TZID=America/Chicago:20280525T173000
DTSTAMP:20260421T210500
CREATED:20260105T151033Z
LAST-MODIFIED:20260105T151033Z
UID:10002517-1842885000-1842888600@prattvilleal.gov
SUMMARY:Historic Preservation Commission Meeting
DESCRIPTION:The Historic Preservation Commission meets on the 4th Thursday of the month in the Council Chambers. \nClick the link below to view agendas\, minutes\, and packets. \nHPC Portal Access
URL:https://prattvilleal.gov/event/historic-preservation-commission-meeting-4-4-2-2-2/2028-05-25/
LOCATION:City Hall Council Chambers\, Council Chamber | 101 West Main Street | Prattville
CATEGORIES:Government Meetings
GEO:32.4591716;-86.4732051
X-APPLE-STRUCTURED-LOCATION;VALUE=URI;X-ADDRESS=City Hall Council Chambers Council Chamber | 101 West Main Street | Prattville;X-APPLE-RADIUS=500;X-TITLE=Council Chamber | 101 West Main Street | Prattville:geo:-86.4732051,32.4591716
END:VEVENT
BEGIN:VEVENT
DTSTART;TZID=America/Chicago:20280606T180000
DTEND;TZID=America/Chicago:20280606T193000
DTSTAMP:20260421T210500
CREATED:20231213T142354Z
LAST-MODIFIED:20250827T215919Z
UID:10001818-1843927200-1843932600@prattvilleal.gov
SUMMARY:City Council Meeting
DESCRIPTION:
URL:https://prattvilleal.gov/event/city-council-meeting-1-tuesday/2028-06-06/
LOCATION:City Hall Council Chambers\, Council Chamber | 101 West Main Street | Prattville
CATEGORIES:Government Meetings
ORGANIZER;CN="City Clerk":MAILTO:cityclerk@prattvilleal.gov
GEO:32.4591716;-86.4732051
X-APPLE-STRUCTURED-LOCATION;VALUE=URI;X-ADDRESS=City Hall Council Chambers Council Chamber | 101 West Main Street | Prattville;X-APPLE-RADIUS=500;X-TITLE=Council Chamber | 101 West Main Street | Prattville:geo:-86.4732051,32.4591716
END:VEVENT
BEGIN:VEVENT
DTSTART;TZID=America/Chicago:20280613T160000
DTEND;TZID=America/Chicago:20280613T170000
DTSTAMP:20260421T210500
CREATED:20250103T201946Z
LAST-MODIFIED:20250828T162414Z
UID:10001019-1844524800-1844528400@prattvilleal.gov
SUMMARY:Board of Zoning Adjustments Meeting
DESCRIPTION:The Board of Zoning Adjustments (BZA) meets on the 2nd Tuesday of the month in the Council Chambers. \nClick the link below to view agendas\, minutes\, and packets. \nBZA Public Portal Access
URL:https://prattvilleal.gov/event/board-of-zoning-adjustments-meeting-2/2028-06-13/
LOCATION:City Hall Council Chambers\, Council Chamber | 101 West Main Street | Prattville
CATEGORIES:Government Meetings
GEO:32.4591716;-86.4732051
X-APPLE-STRUCTURED-LOCATION;VALUE=URI;X-ADDRESS=City Hall Council Chambers Council Chamber | 101 West Main Street | Prattville;X-APPLE-RADIUS=500;X-TITLE=Council Chamber | 101 West Main Street | Prattville:geo:-86.4732051,32.4591716
END:VEVENT
BEGIN:VEVENT
DTSTART;TZID=America/Chicago:20280615T150000
DTEND;TZID=America/Chicago:20280615T160000
DTSTAMP:20260421T210500
CREATED:20250103T202358Z
LAST-MODIFIED:20250828T162209Z
UID:10000953-1844694000-1844697600@prattvilleal.gov
SUMMARY:Planning Commission Meeting
DESCRIPTION:The Planning Commission meets on the 3rd Thursday of the month in the Council Chambers. \nClick the button below to view agenda\, minutes\, and packets. \nPlanning Commission Public Portal
URL:https://prattvilleal.gov/event/planning-commission-meeting-2/2028-06-15/
LOCATION:City Hall Council Chambers\, Council Chamber | 101 West Main Street | Prattville
CATEGORIES:Government Meetings
GEO:32.4591716;-86.4732051
X-APPLE-STRUCTURED-LOCATION;VALUE=URI;X-ADDRESS=City Hall Council Chambers Council Chamber | 101 West Main Street | Prattville;X-APPLE-RADIUS=500;X-TITLE=Council Chamber | 101 West Main Street | Prattville:geo:-86.4732051,32.4591716
END:VEVENT
BEGIN:VEVENT
DTSTART;TZID=America/Chicago:20280620T180000
DTEND;TZID=America/Chicago:20280620T193000
DTSTAMP:20260421T210500
CREATED:20231213T143009Z
LAST-MODIFIED:20250827T220001Z
UID:10001878-1845136800-1845142200@prattvilleal.gov
SUMMARY:City Council Meeting
DESCRIPTION:
URL:https://prattvilleal.gov/event/city-council-meeting-3rd-tuesday/2028-06-20/
LOCATION:City Hall Council Chambers\, Council Chamber | 101 West Main Street | Prattville
CATEGORIES:Government Meetings
ORGANIZER;CN="City Clerk":MAILTO:cityclerk@prattvilleal.gov
GEO:32.4591716;-86.4732051
X-APPLE-STRUCTURED-LOCATION;VALUE=URI;X-ADDRESS=City Hall Council Chambers Council Chamber | 101 West Main Street | Prattville;X-APPLE-RADIUS=500;X-TITLE=Council Chamber | 101 West Main Street | Prattville:geo:-86.4732051,32.4591716
END:VEVENT
BEGIN:VEVENT
DTSTART;TZID=America/Chicago:20280622T163000
DTEND;TZID=America/Chicago:20280622T173000
DTSTAMP:20260421T210500
CREATED:20260105T151033Z
LAST-MODIFIED:20260105T151033Z
UID:10002518-1845304200-1845307800@prattvilleal.gov
SUMMARY:Historic Preservation Commission Meeting
DESCRIPTION:The Historic Preservation Commission meets on the 4th Thursday of the month in the Council Chambers. \nClick the link below to view agendas\, minutes\, and packets. \nHPC Portal Access
URL:https://prattvilleal.gov/event/historic-preservation-commission-meeting-4-4-2-2-2/2028-06-22/
LOCATION:City Hall Council Chambers\, Council Chamber | 101 West Main Street | Prattville
CATEGORIES:Government Meetings
GEO:32.4591716;-86.4732051
X-APPLE-STRUCTURED-LOCATION;VALUE=URI;X-ADDRESS=City Hall Council Chambers Council Chamber | 101 West Main Street | Prattville;X-APPLE-RADIUS=500;X-TITLE=Council Chamber | 101 West Main Street | Prattville:geo:-86.4732051,32.4591716
END:VEVENT
BEGIN:VEVENT
DTSTART;TZID=America/Chicago:20280704T180000
DTEND;TZID=America/Chicago:20280704T193000
DTSTAMP:20260421T210500
CREATED:20231213T142354Z
LAST-MODIFIED:20250827T215919Z
UID:10001819-1846346400-1846351800@prattvilleal.gov
SUMMARY:City Council Meeting
DESCRIPTION:
URL:https://prattvilleal.gov/event/city-council-meeting-1-tuesday/2028-07-04/
LOCATION:City Hall Council Chambers\, Council Chamber | 101 West Main Street | Prattville
CATEGORIES:Government Meetings
ORGANIZER;CN="City Clerk":MAILTO:cityclerk@prattvilleal.gov
GEO:32.4591716;-86.4732051
X-APPLE-STRUCTURED-LOCATION;VALUE=URI;X-ADDRESS=City Hall Council Chambers Council Chamber | 101 West Main Street | Prattville;X-APPLE-RADIUS=500;X-TITLE=Council Chamber | 101 West Main Street | Prattville:geo:-86.4732051,32.4591716
END:VEVENT
BEGIN:VEVENT
DTSTART;TZID=America/Chicago:20280711T160000
DTEND;TZID=America/Chicago:20280711T170000
DTSTAMP:20260421T210500
CREATED:20250103T201946Z
LAST-MODIFIED:20250828T162414Z
UID:10002146-1846944000-1846947600@prattvilleal.gov
SUMMARY:Board of Zoning Adjustments Meeting
DESCRIPTION:The Board of Zoning Adjustments (BZA) meets on the 2nd Tuesday of the month in the Council Chambers. \nClick the link below to view agendas\, minutes\, and packets. \nBZA Public Portal Access
URL:https://prattvilleal.gov/event/board-of-zoning-adjustments-meeting-2/2028-07-11/
LOCATION:City Hall Council Chambers\, Council Chamber | 101 West Main Street | Prattville
CATEGORIES:Government Meetings
GEO:32.4591716;-86.4732051
X-APPLE-STRUCTURED-LOCATION;VALUE=URI;X-ADDRESS=City Hall Council Chambers Council Chamber | 101 West Main Street | Prattville;X-APPLE-RADIUS=500;X-TITLE=Council Chamber | 101 West Main Street | Prattville:geo:-86.4732051,32.4591716
END:VEVENT
BEGIN:VEVENT
DTSTART;TZID=America/Chicago:20280718T180000
DTEND;TZID=America/Chicago:20280718T193000
DTSTAMP:20260421T210500
CREATED:20231213T143009Z
LAST-MODIFIED:20250827T220001Z
UID:10001879-1847556000-1847561400@prattvilleal.gov
SUMMARY:City Council Meeting
DESCRIPTION:
URL:https://prattvilleal.gov/event/city-council-meeting-3rd-tuesday/2028-07-18/
LOCATION:City Hall Council Chambers\, Council Chamber | 101 West Main Street | Prattville
CATEGORIES:Government Meetings
ORGANIZER;CN="City Clerk":MAILTO:cityclerk@prattvilleal.gov
GEO:32.4591716;-86.4732051
X-APPLE-STRUCTURED-LOCATION;VALUE=URI;X-ADDRESS=City Hall Council Chambers Council Chamber | 101 West Main Street | Prattville;X-APPLE-RADIUS=500;X-TITLE=Council Chamber | 101 West Main Street | Prattville:geo:-86.4732051,32.4591716
END:VEVENT
BEGIN:VEVENT
DTSTART;TZID=America/Chicago:20280720T150000
DTEND;TZID=America/Chicago:20280720T160000
DTSTAMP:20260421T210500
CREATED:20250103T202358Z
LAST-MODIFIED:20250828T162209Z
UID:10002164-1847718000-1847721600@prattvilleal.gov
SUMMARY:Planning Commission Meeting
DESCRIPTION:The Planning Commission meets on the 3rd Thursday of the month in the Council Chambers. \nClick the button below to view agenda\, minutes\, and packets. \nPlanning Commission Public Portal
URL:https://prattvilleal.gov/event/planning-commission-meeting-2/2028-07-20/
LOCATION:City Hall Council Chambers\, Council Chamber | 101 West Main Street | Prattville
CATEGORIES:Government Meetings
GEO:32.4591716;-86.4732051
X-APPLE-STRUCTURED-LOCATION;VALUE=URI;X-ADDRESS=City Hall Council Chambers Council Chamber | 101 West Main Street | Prattville;X-APPLE-RADIUS=500;X-TITLE=Council Chamber | 101 West Main Street | Prattville:geo:-86.4732051,32.4591716
END:VEVENT
END:VCALENDAR