BEGIN:VCALENDAR
VERSION:2.0
PRODID:-//City of Prattville - ECPv6.15.20//NONSGML v1.0//EN
CALSCALE:GREGORIAN
METHOD:PUBLISH
X-ORIGINAL-URL:https://prattvilleal.gov
X-WR-CALDESC:Events for City of Prattville
REFRESH-INTERVAL;VALUE=DURATION:PT1H
X-Robots-Tag:noindex
X-PUBLISHED-TTL:PT1H
BEGIN:VTIMEZONE
TZID:America/Chicago
BEGIN:DAYLIGHT
TZOFFSETFROM:-0600
TZOFFSETTO:-0500
TZNAME:CDT
DTSTART:20240310T080000
END:DAYLIGHT
BEGIN:STANDARD
TZOFFSETFROM:-0500
TZOFFSETTO:-0600
TZNAME:CST
DTSTART:20241103T070000
END:STANDARD
BEGIN:DAYLIGHT
TZOFFSETFROM:-0600
TZOFFSETTO:-0500
TZNAME:CDT
DTSTART:20250309T080000
END:DAYLIGHT
BEGIN:STANDARD
TZOFFSETFROM:-0500
TZOFFSETTO:-0600
TZNAME:CST
DTSTART:20251102T070000
END:STANDARD
BEGIN:DAYLIGHT
TZOFFSETFROM:-0600
TZOFFSETTO:-0500
TZNAME:CDT
DTSTART:20260308T080000
END:DAYLIGHT
BEGIN:STANDARD
TZOFFSETFROM:-0500
TZOFFSETTO:-0600
TZNAME:CST
DTSTART:20261101T070000
END:STANDARD
END:VTIMEZONE
BEGIN:VEVENT
DTSTART;TZID=America/Chicago:20250715T180000
DTEND;TZID=America/Chicago:20250715T193000
DTSTAMP:20260421T173751
CREATED:20231213T143009Z
LAST-MODIFIED:20250827T220001Z
UID:10001843-1752602400-1752607800@prattvilleal.gov
SUMMARY:City Council Meeting
DESCRIPTION:
URL:https://prattvilleal.gov/event/city-council-meeting-3rd-tuesday/2025-07-15/
LOCATION:City Hall Council Chambers\, Council Chamber | 101 West Main Street | Prattville
CATEGORIES:Government Meetings
ORGANIZER;CN="City Clerk":MAILTO:cityclerk@prattvilleal.gov
GEO:32.4591716;-86.4732051
X-APPLE-STRUCTURED-LOCATION;VALUE=URI;X-ADDRESS=City Hall Council Chambers Council Chamber | 101 West Main Street | Prattville;X-APPLE-RADIUS=500;X-TITLE=Council Chamber | 101 West Main Street | Prattville:geo:-86.4732051,32.4591716
END:VEVENT
BEGIN:VEVENT
DTSTART;TZID=America/Chicago:20250708T160000
DTEND;TZID=America/Chicago:20250708T170000
DTSTAMP:20260421T173751
CREATED:20250103T201946Z
LAST-MODIFIED:20250828T162414Z
UID:10000984-1751990400-1751994000@prattvilleal.gov
SUMMARY:Board of Zoning Adjustments Meeting
DESCRIPTION:The Board of Zoning Adjustments (BZA) meets on the 2nd Tuesday of the month in the Council Chambers. \nClick the link below to view agendas\, minutes\, and packets. \nBZA Public Portal Access
URL:https://prattvilleal.gov/event/board-of-zoning-adjustments-meeting-2/2025-07-08/
LOCATION:City Hall Council Chambers\, Council Chamber | 101 West Main Street | Prattville
CATEGORIES:Government Meetings
GEO:32.4591716;-86.4732051
X-APPLE-STRUCTURED-LOCATION;VALUE=URI;X-ADDRESS=City Hall Council Chambers Council Chamber | 101 West Main Street | Prattville;X-APPLE-RADIUS=500;X-TITLE=Council Chamber | 101 West Main Street | Prattville:geo:-86.4732051,32.4591716
END:VEVENT
BEGIN:VEVENT
DTSTART;TZID=America/Chicago:20250701T180000
DTEND;TZID=America/Chicago:20250701T193000
DTSTAMP:20260421T173751
CREATED:20231213T142354Z
LAST-MODIFIED:20250827T215919Z
UID:10001783-1751392800-1751398200@prattvilleal.gov
SUMMARY:City Council Meeting
DESCRIPTION:
URL:https://prattvilleal.gov/event/city-council-meeting-1-tuesday/2025-07-01/
LOCATION:City Hall Council Chambers\, Council Chamber | 101 West Main Street | Prattville
CATEGORIES:Government Meetings
ORGANIZER;CN="City Clerk":MAILTO:cityclerk@prattvilleal.gov
GEO:32.4591716;-86.4732051
X-APPLE-STRUCTURED-LOCATION;VALUE=URI;X-ADDRESS=City Hall Council Chambers Council Chamber | 101 West Main Street | Prattville;X-APPLE-RADIUS=500;X-TITLE=Council Chamber | 101 West Main Street | Prattville:geo:-86.4732051,32.4591716
END:VEVENT
BEGIN:VEVENT
DTSTART;TZID=America/Chicago:20250626T163000
DTEND;TZID=America/Chicago:20250626T173000
DTSTAMP:20260421T173751
CREATED:20250103T202537Z
LAST-MODIFIED:20250828T162726Z
UID:10001902-1750955400-1750959000@prattvilleal.gov
SUMMARY:Historic Preservation Commission Meeting
DESCRIPTION:The Historic Preservation Commission meets on the 4th Thursday of the month in the Council Chambers. \nClick the link below to view agendas\, minutes\, and packets. \nHPC Portal Access
URL:https://prattvilleal.gov/event/historic-preservation-commission-meeting-4-4/2025-06-26/
LOCATION:City Hall Council Chambers\, Council Chamber | 101 West Main Street | Prattville
CATEGORIES:Government Meetings
GEO:32.4591716;-86.4732051
X-APPLE-STRUCTURED-LOCATION;VALUE=URI;X-ADDRESS=City Hall Council Chambers Council Chamber | 101 West Main Street | Prattville;X-APPLE-RADIUS=500;X-TITLE=Council Chamber | 101 West Main Street | Prattville:geo:-86.4732051,32.4591716
END:VEVENT
BEGIN:VEVENT
DTSTART;TZID=America/Chicago:20250617T180000
DTEND;TZID=America/Chicago:20250617T193000
DTSTAMP:20260421T173751
CREATED:20231213T143009Z
LAST-MODIFIED:20250827T220001Z
UID:10001842-1750183200-1750188600@prattvilleal.gov
SUMMARY:City Council Meeting
DESCRIPTION:
URL:https://prattvilleal.gov/event/city-council-meeting-3rd-tuesday/2025-06-17/
LOCATION:City Hall Council Chambers\, Council Chamber | 101 West Main Street | Prattville
CATEGORIES:Government Meetings
ORGANIZER;CN="City Clerk":MAILTO:cityclerk@prattvilleal.gov
GEO:32.4591716;-86.4732051
X-APPLE-STRUCTURED-LOCATION;VALUE=URI;X-ADDRESS=City Hall Council Chambers Council Chamber | 101 West Main Street | Prattville;X-APPLE-RADIUS=500;X-TITLE=Council Chamber | 101 West Main Street | Prattville:geo:-86.4732051,32.4591716
END:VEVENT
BEGIN:VEVENT
DTSTART;TZID=America/Chicago:20250610T160000
DTEND;TZID=America/Chicago:20250610T170000
DTSTAMP:20260421T173751
CREATED:20250103T201946Z
LAST-MODIFIED:20250828T162414Z
UID:10000983-1749571200-1749574800@prattvilleal.gov
SUMMARY:Board of Zoning Adjustments Meeting
DESCRIPTION:The Board of Zoning Adjustments (BZA) meets on the 2nd Tuesday of the month in the Council Chambers. \nClick the link below to view agendas\, minutes\, and packets. \nBZA Public Portal Access
URL:https://prattvilleal.gov/event/board-of-zoning-adjustments-meeting-2/2025-06-10/
LOCATION:City Hall Council Chambers\, Council Chamber | 101 West Main Street | Prattville
CATEGORIES:Government Meetings
GEO:32.4591716;-86.4732051
X-APPLE-STRUCTURED-LOCATION;VALUE=URI;X-ADDRESS=City Hall Council Chambers Council Chamber | 101 West Main Street | Prattville;X-APPLE-RADIUS=500;X-TITLE=Council Chamber | 101 West Main Street | Prattville:geo:-86.4732051,32.4591716
END:VEVENT
BEGIN:VEVENT
DTSTART;TZID=America/Chicago:20250603T180000
DTEND;TZID=America/Chicago:20250603T193000
DTSTAMP:20260421T173751
CREATED:20231213T142354Z
LAST-MODIFIED:20250827T215919Z
UID:10001782-1748973600-1748979000@prattvilleal.gov
SUMMARY:City Council Meeting
DESCRIPTION:
URL:https://prattvilleal.gov/event/city-council-meeting-1-tuesday/2025-06-03/
LOCATION:City Hall Council Chambers\, Council Chamber | 101 West Main Street | Prattville
CATEGORIES:Government Meetings
ORGANIZER;CN="City Clerk":MAILTO:cityclerk@prattvilleal.gov
GEO:32.4591716;-86.4732051
X-APPLE-STRUCTURED-LOCATION;VALUE=URI;X-ADDRESS=City Hall Council Chambers Council Chamber | 101 West Main Street | Prattville;X-APPLE-RADIUS=500;X-TITLE=Council Chamber | 101 West Main Street | Prattville:geo:-86.4732051,32.4591716
END:VEVENT
BEGIN:VEVENT
DTSTART;TZID=America/Chicago:20250522T163000
DTEND;TZID=America/Chicago:20250522T173000
DTSTAMP:20260421T173751
CREATED:20250103T202537Z
LAST-MODIFIED:20250828T162726Z
UID:10001901-1747931400-1747935000@prattvilleal.gov
SUMMARY:Historic Preservation Commission Meeting
DESCRIPTION:The Historic Preservation Commission meets on the 4th Thursday of the month in the Council Chambers. \nClick the link below to view agendas\, minutes\, and packets. \nHPC Portal Access
URL:https://prattvilleal.gov/event/historic-preservation-commission-meeting-4-4/2025-05-22/
LOCATION:City Hall Council Chambers\, Council Chamber | 101 West Main Street | Prattville
CATEGORIES:Government Meetings
GEO:32.4591716;-86.4732051
X-APPLE-STRUCTURED-LOCATION;VALUE=URI;X-ADDRESS=City Hall Council Chambers Council Chamber | 101 West Main Street | Prattville;X-APPLE-RADIUS=500;X-TITLE=Council Chamber | 101 West Main Street | Prattville:geo:-86.4732051,32.4591716
END:VEVENT
BEGIN:VEVENT
DTSTART;TZID=America/Chicago:20250520T180000
DTEND;TZID=America/Chicago:20250520T193000
DTSTAMP:20260421T173751
CREATED:20231213T143009Z
LAST-MODIFIED:20250827T220001Z
UID:10001841-1747764000-1747769400@prattvilleal.gov
SUMMARY:City Council Meeting
DESCRIPTION:
URL:https://prattvilleal.gov/event/city-council-meeting-3rd-tuesday/2025-05-20/
LOCATION:City Hall Council Chambers\, Council Chamber | 101 West Main Street | Prattville
CATEGORIES:Government Meetings
ORGANIZER;CN="City Clerk":MAILTO:cityclerk@prattvilleal.gov
GEO:32.4591716;-86.4732051
X-APPLE-STRUCTURED-LOCATION;VALUE=URI;X-ADDRESS=City Hall Council Chambers Council Chamber | 101 West Main Street | Prattville;X-APPLE-RADIUS=500;X-TITLE=Council Chamber | 101 West Main Street | Prattville:geo:-86.4732051,32.4591716
END:VEVENT
BEGIN:VEVENT
DTSTART;TZID=America/Chicago:20250515T150000
DTEND;TZID=America/Chicago:20250515T160000
DTSTAMP:20260421T173751
CREATED:20250103T202358Z
LAST-MODIFIED:20250828T162209Z
UID:10000916-1747321200-1747324800@prattvilleal.gov
SUMMARY:Planning Commission Meeting
DESCRIPTION:The Planning Commission meets on the 3rd Thursday of the month in the Council Chambers. \nClick the button below to view agenda\, minutes\, and packets. \nPlanning Commission Public Portal
URL:https://prattvilleal.gov/event/planning-commission-meeting-2/2025-05-15/
LOCATION:City Hall Council Chambers\, Council Chamber | 101 West Main Street | Prattville
CATEGORIES:Government Meetings
GEO:32.4591716;-86.4732051
X-APPLE-STRUCTURED-LOCATION;VALUE=URI;X-ADDRESS=City Hall Council Chambers Council Chamber | 101 West Main Street | Prattville;X-APPLE-RADIUS=500;X-TITLE=Council Chamber | 101 West Main Street | Prattville:geo:-86.4732051,32.4591716
END:VEVENT
BEGIN:VEVENT
DTSTART;TZID=America/Chicago:20250513T160000
DTEND;TZID=America/Chicago:20250513T170000
DTSTAMP:20260421T173751
CREATED:20250103T201946Z
LAST-MODIFIED:20250828T162414Z
UID:10000982-1747152000-1747155600@prattvilleal.gov
SUMMARY:Board of Zoning Adjustments Meeting
DESCRIPTION:The Board of Zoning Adjustments (BZA) meets on the 2nd Tuesday of the month in the Council Chambers. \nClick the link below to view agendas\, minutes\, and packets. \nBZA Public Portal Access
URL:https://prattvilleal.gov/event/board-of-zoning-adjustments-meeting-2/2025-05-13/
LOCATION:City Hall Council Chambers\, Council Chamber | 101 West Main Street | Prattville
CATEGORIES:Government Meetings
GEO:32.4591716;-86.4732051
X-APPLE-STRUCTURED-LOCATION;VALUE=URI;X-ADDRESS=City Hall Council Chambers Council Chamber | 101 West Main Street | Prattville;X-APPLE-RADIUS=500;X-TITLE=Council Chamber | 101 West Main Street | Prattville:geo:-86.4732051,32.4591716
END:VEVENT
BEGIN:VEVENT
DTSTART;TZID=America/Chicago:20250506T180000
DTEND;TZID=America/Chicago:20250506T193000
DTSTAMP:20260421T173751
CREATED:20231213T142354Z
LAST-MODIFIED:20250827T215919Z
UID:10001781-1746554400-1746559800@prattvilleal.gov
SUMMARY:City Council Meeting
DESCRIPTION:
URL:https://prattvilleal.gov/event/city-council-meeting-1-tuesday/2025-05-06/
LOCATION:City Hall Council Chambers\, Council Chamber | 101 West Main Street | Prattville
CATEGORIES:Government Meetings
ORGANIZER;CN="City Clerk":MAILTO:cityclerk@prattvilleal.gov
GEO:32.4591716;-86.4732051
X-APPLE-STRUCTURED-LOCATION;VALUE=URI;X-ADDRESS=City Hall Council Chambers Council Chamber | 101 West Main Street | Prattville;X-APPLE-RADIUS=500;X-TITLE=Council Chamber | 101 West Main Street | Prattville:geo:-86.4732051,32.4591716
END:VEVENT
BEGIN:VEVENT
DTSTART;TZID=America/Chicago:20250424T163000
DTEND;TZID=America/Chicago:20250424T173000
DTSTAMP:20260421T173751
CREATED:20250103T202537Z
LAST-MODIFIED:20250828T162726Z
UID:10001900-1745512200-1745515800@prattvilleal.gov
SUMMARY:Historic Preservation Commission Meeting
DESCRIPTION:The Historic Preservation Commission meets on the 4th Thursday of the month in the Council Chambers. \nClick the link below to view agendas\, minutes\, and packets. \nHPC Portal Access
URL:https://prattvilleal.gov/event/historic-preservation-commission-meeting-4-4/2025-04-24/
LOCATION:City Hall Council Chambers\, Council Chamber | 101 West Main Street | Prattville
CATEGORIES:Government Meetings
GEO:32.4591716;-86.4732051
X-APPLE-STRUCTURED-LOCATION;VALUE=URI;X-ADDRESS=City Hall Council Chambers Council Chamber | 101 West Main Street | Prattville;X-APPLE-RADIUS=500;X-TITLE=Council Chamber | 101 West Main Street | Prattville:geo:-86.4732051,32.4591716
END:VEVENT
BEGIN:VEVENT
DTSTART;TZID=America/Chicago:20250417T150000
DTEND;TZID=America/Chicago:20250417T160000
DTSTAMP:20260421T173751
CREATED:20250103T202358Z
LAST-MODIFIED:20250828T162209Z
UID:10000915-1744902000-1744905600@prattvilleal.gov
SUMMARY:Planning Commission Meeting
DESCRIPTION:The Planning Commission meets on the 3rd Thursday of the month in the Council Chambers. \nClick the button below to view agenda\, minutes\, and packets. \nPlanning Commission Public Portal
URL:https://prattvilleal.gov/event/planning-commission-meeting-2/2025-04-17/
LOCATION:City Hall Council Chambers\, Council Chamber | 101 West Main Street | Prattville
CATEGORIES:Government Meetings
GEO:32.4591716;-86.4732051
X-APPLE-STRUCTURED-LOCATION;VALUE=URI;X-ADDRESS=City Hall Council Chambers Council Chamber | 101 West Main Street | Prattville;X-APPLE-RADIUS=500;X-TITLE=Council Chamber | 101 West Main Street | Prattville:geo:-86.4732051,32.4591716
END:VEVENT
BEGIN:VEVENT
DTSTART;TZID=America/Chicago:20250415T180000
DTEND;TZID=America/Chicago:20250415T193000
DTSTAMP:20260421T173751
CREATED:20231213T143009Z
LAST-MODIFIED:20250827T220001Z
UID:10001840-1744740000-1744745400@prattvilleal.gov
SUMMARY:City Council Meeting
DESCRIPTION:
URL:https://prattvilleal.gov/event/city-council-meeting-3rd-tuesday/2025-04-15/
LOCATION:City Hall Council Chambers\, Council Chamber | 101 West Main Street | Prattville
CATEGORIES:Government Meetings
ORGANIZER;CN="City Clerk":MAILTO:cityclerk@prattvilleal.gov
GEO:32.4591716;-86.4732051
X-APPLE-STRUCTURED-LOCATION;VALUE=URI;X-ADDRESS=City Hall Council Chambers Council Chamber | 101 West Main Street | Prattville;X-APPLE-RADIUS=500;X-TITLE=Council Chamber | 101 West Main Street | Prattville:geo:-86.4732051,32.4591716
END:VEVENT
BEGIN:VEVENT
DTSTART;TZID=America/Chicago:20250408T160000
DTEND;TZID=America/Chicago:20250408T170000
DTSTAMP:20260421T173751
CREATED:20250103T201946Z
LAST-MODIFIED:20250828T162414Z
UID:10000981-1744128000-1744131600@prattvilleal.gov
SUMMARY:Board of Zoning Adjustments Meeting
DESCRIPTION:The Board of Zoning Adjustments (BZA) meets on the 2nd Tuesday of the month in the Council Chambers. \nClick the link below to view agendas\, minutes\, and packets. \nBZA Public Portal Access
URL:https://prattvilleal.gov/event/board-of-zoning-adjustments-meeting-2/2025-04-08/
LOCATION:City Hall Council Chambers\, Council Chamber | 101 West Main Street | Prattville
CATEGORIES:Government Meetings
GEO:32.4591716;-86.4732051
X-APPLE-STRUCTURED-LOCATION;VALUE=URI;X-ADDRESS=City Hall Council Chambers Council Chamber | 101 West Main Street | Prattville;X-APPLE-RADIUS=500;X-TITLE=Council Chamber | 101 West Main Street | Prattville:geo:-86.4732051,32.4591716
END:VEVENT
BEGIN:VEVENT
DTSTART;TZID=America/Chicago:20250401T180000
DTEND;TZID=America/Chicago:20250401T193000
DTSTAMP:20260421T173751
CREATED:20231213T142354Z
LAST-MODIFIED:20250827T215919Z
UID:10001780-1743530400-1743535800@prattvilleal.gov
SUMMARY:City Council Meeting
DESCRIPTION:
URL:https://prattvilleal.gov/event/city-council-meeting-1-tuesday/2025-04-01/
LOCATION:City Hall Council Chambers\, Council Chamber | 101 West Main Street | Prattville
CATEGORIES:Government Meetings
ORGANIZER;CN="City Clerk":MAILTO:cityclerk@prattvilleal.gov
GEO:32.4591716;-86.4732051
X-APPLE-STRUCTURED-LOCATION;VALUE=URI;X-ADDRESS=City Hall Council Chambers Council Chamber | 101 West Main Street | Prattville;X-APPLE-RADIUS=500;X-TITLE=Council Chamber | 101 West Main Street | Prattville:geo:-86.4732051,32.4591716
END:VEVENT
BEGIN:VEVENT
DTSTART;TZID=America/Chicago:20250327T163000
DTEND;TZID=America/Chicago:20250327T173000
DTSTAMP:20260421T173751
CREATED:20250103T202537Z
LAST-MODIFIED:20250828T162726Z
UID:10001899-1743093000-1743096600@prattvilleal.gov
SUMMARY:Historic Preservation Commission Meeting
DESCRIPTION:The Historic Preservation Commission meets on the 4th Thursday of the month in the Council Chambers. \nClick the link below to view agendas\, minutes\, and packets. \nHPC Portal Access
URL:https://prattvilleal.gov/event/historic-preservation-commission-meeting-4-4/2025-03-27/
LOCATION:City Hall Council Chambers\, Council Chamber | 101 West Main Street | Prattville
CATEGORIES:Government Meetings
GEO:32.4591716;-86.4732051
X-APPLE-STRUCTURED-LOCATION;VALUE=URI;X-ADDRESS=City Hall Council Chambers Council Chamber | 101 West Main Street | Prattville;X-APPLE-RADIUS=500;X-TITLE=Council Chamber | 101 West Main Street | Prattville:geo:-86.4732051,32.4591716
END:VEVENT
BEGIN:VEVENT
DTSTART;TZID=America/Chicago:20250320T150000
DTEND;TZID=America/Chicago:20250320T160000
DTSTAMP:20260421T173751
CREATED:20250103T202358Z
LAST-MODIFIED:20250828T162209Z
UID:10000914-1742482800-1742486400@prattvilleal.gov
SUMMARY:Planning Commission Meeting
DESCRIPTION:The Planning Commission meets on the 3rd Thursday of the month in the Council Chambers. \nClick the button below to view agenda\, minutes\, and packets. \nPlanning Commission Public Portal
URL:https://prattvilleal.gov/event/planning-commission-meeting-2/2025-03-20/
LOCATION:City Hall Council Chambers\, Council Chamber | 101 West Main Street | Prattville
CATEGORIES:Government Meetings
GEO:32.4591716;-86.4732051
X-APPLE-STRUCTURED-LOCATION;VALUE=URI;X-ADDRESS=City Hall Council Chambers Council Chamber | 101 West Main Street | Prattville;X-APPLE-RADIUS=500;X-TITLE=Council Chamber | 101 West Main Street | Prattville:geo:-86.4732051,32.4591716
END:VEVENT
BEGIN:VEVENT
DTSTART;TZID=America/Chicago:20250318T180000
DTEND;TZID=America/Chicago:20250318T193000
DTSTAMP:20260421T173751
CREATED:20231213T143009Z
LAST-MODIFIED:20250827T220001Z
UID:10001839-1742320800-1742326200@prattvilleal.gov
SUMMARY:City Council Meeting
DESCRIPTION:
URL:https://prattvilleal.gov/event/city-council-meeting-3rd-tuesday/2025-03-18/
LOCATION:City Hall Council Chambers\, Council Chamber | 101 West Main Street | Prattville
CATEGORIES:Government Meetings
ORGANIZER;CN="City Clerk":MAILTO:cityclerk@prattvilleal.gov
GEO:32.4591716;-86.4732051
X-APPLE-STRUCTURED-LOCATION;VALUE=URI;X-ADDRESS=City Hall Council Chambers Council Chamber | 101 West Main Street | Prattville;X-APPLE-RADIUS=500;X-TITLE=Council Chamber | 101 West Main Street | Prattville:geo:-86.4732051,32.4591716
END:VEVENT
BEGIN:VEVENT
DTSTART;TZID=America/Chicago:20250311T160000
DTEND;TZID=America/Chicago:20250311T170000
DTSTAMP:20260421T173751
CREATED:20250103T201946Z
LAST-MODIFIED:20250828T162414Z
UID:10000980-1741708800-1741712400@prattvilleal.gov
SUMMARY:Board of Zoning Adjustments Meeting
DESCRIPTION:The Board of Zoning Adjustments (BZA) meets on the 2nd Tuesday of the month in the Council Chambers. \nClick the link below to view agendas\, minutes\, and packets. \nBZA Public Portal Access
URL:https://prattvilleal.gov/event/board-of-zoning-adjustments-meeting-2/2025-03-11/
LOCATION:City Hall Council Chambers\, Council Chamber | 101 West Main Street | Prattville
CATEGORIES:Government Meetings
GEO:32.4591716;-86.4732051
X-APPLE-STRUCTURED-LOCATION;VALUE=URI;X-ADDRESS=City Hall Council Chambers Council Chamber | 101 West Main Street | Prattville;X-APPLE-RADIUS=500;X-TITLE=Council Chamber | 101 West Main Street | Prattville:geo:-86.4732051,32.4591716
END:VEVENT
BEGIN:VEVENT
DTSTART;TZID=America/Chicago:20250304T180000
DTEND;TZID=America/Chicago:20250304T193000
DTSTAMP:20260421T173751
CREATED:20231213T142354Z
LAST-MODIFIED:20250827T215919Z
UID:10001779-1741111200-1741116600@prattvilleal.gov
SUMMARY:City Council Meeting
DESCRIPTION:
URL:https://prattvilleal.gov/event/city-council-meeting-1-tuesday/2025-03-04/
LOCATION:City Hall Council Chambers\, Council Chamber | 101 West Main Street | Prattville
CATEGORIES:Government Meetings
ORGANIZER;CN="City Clerk":MAILTO:cityclerk@prattvilleal.gov
GEO:32.4591716;-86.4732051
X-APPLE-STRUCTURED-LOCATION;VALUE=URI;X-ADDRESS=City Hall Council Chambers Council Chamber | 101 West Main Street | Prattville;X-APPLE-RADIUS=500;X-TITLE=Council Chamber | 101 West Main Street | Prattville:geo:-86.4732051,32.4591716
END:VEVENT
BEGIN:VEVENT
DTSTART;TZID=America/Chicago:20250227T163000
DTEND;TZID=America/Chicago:20250227T173000
DTSTAMP:20260421T173751
CREATED:20250103T202537Z
LAST-MODIFIED:20250828T162726Z
UID:10001898-1740673800-1740677400@prattvilleal.gov
SUMMARY:Historic Preservation Commission Meeting
DESCRIPTION:The Historic Preservation Commission meets on the 4th Thursday of the month in the Council Chambers. \nClick the link below to view agendas\, minutes\, and packets. \nHPC Portal Access
URL:https://prattvilleal.gov/event/historic-preservation-commission-meeting-4-4/2025-02-27/
LOCATION:City Hall Council Chambers\, Council Chamber | 101 West Main Street | Prattville
CATEGORIES:Government Meetings
GEO:32.4591716;-86.4732051
X-APPLE-STRUCTURED-LOCATION;VALUE=URI;X-ADDRESS=City Hall Council Chambers Council Chamber | 101 West Main Street | Prattville;X-APPLE-RADIUS=500;X-TITLE=Council Chamber | 101 West Main Street | Prattville:geo:-86.4732051,32.4591716
END:VEVENT
BEGIN:VEVENT
DTSTART;TZID=America/Chicago:20250220T150000
DTEND;TZID=America/Chicago:20250220T160000
DTSTAMP:20260421T173751
CREATED:20250103T202358Z
LAST-MODIFIED:20250828T162209Z
UID:10000913-1740063600-1740067200@prattvilleal.gov
SUMMARY:Planning Commission Meeting
DESCRIPTION:The Planning Commission meets on the 3rd Thursday of the month in the Council Chambers. \nClick the button below to view agenda\, minutes\, and packets. \nPlanning Commission Public Portal
URL:https://prattvilleal.gov/event/planning-commission-meeting-2/2025-02-20/
LOCATION:City Hall Council Chambers\, Council Chamber | 101 West Main Street | Prattville
CATEGORIES:Government Meetings
GEO:32.4591716;-86.4732051
X-APPLE-STRUCTURED-LOCATION;VALUE=URI;X-ADDRESS=City Hall Council Chambers Council Chamber | 101 West Main Street | Prattville;X-APPLE-RADIUS=500;X-TITLE=Council Chamber | 101 West Main Street | Prattville:geo:-86.4732051,32.4591716
END:VEVENT
BEGIN:VEVENT
DTSTART;TZID=America/Chicago:20250218T180000
DTEND;TZID=America/Chicago:20250218T193000
DTSTAMP:20260421T173751
CREATED:20231213T143009Z
LAST-MODIFIED:20250827T220001Z
UID:10001838-1739901600-1739907000@prattvilleal.gov
SUMMARY:City Council Meeting
DESCRIPTION:
URL:https://prattvilleal.gov/event/city-council-meeting-3rd-tuesday/2025-02-18/
LOCATION:City Hall Council Chambers\, Council Chamber | 101 West Main Street | Prattville
CATEGORIES:Government Meetings
ORGANIZER;CN="City Clerk":MAILTO:cityclerk@prattvilleal.gov
GEO:32.4591716;-86.4732051
X-APPLE-STRUCTURED-LOCATION;VALUE=URI;X-ADDRESS=City Hall Council Chambers Council Chamber | 101 West Main Street | Prattville;X-APPLE-RADIUS=500;X-TITLE=Council Chamber | 101 West Main Street | Prattville:geo:-86.4732051,32.4591716
END:VEVENT
BEGIN:VEVENT
DTSTART;TZID=America/Chicago:20250211T160000
DTEND;TZID=America/Chicago:20250211T170000
DTSTAMP:20260421T173751
CREATED:20250103T201946Z
LAST-MODIFIED:20250828T162414Z
UID:10000979-1739289600-1739293200@prattvilleal.gov
SUMMARY:Board of Zoning Adjustments Meeting
DESCRIPTION:The Board of Zoning Adjustments (BZA) meets on the 2nd Tuesday of the month in the Council Chambers. \nClick the link below to view agendas\, minutes\, and packets. \nBZA Public Portal Access
URL:https://prattvilleal.gov/event/board-of-zoning-adjustments-meeting-2/2025-02-11/
LOCATION:City Hall Council Chambers\, Council Chamber | 101 West Main Street | Prattville
CATEGORIES:Government Meetings
GEO:32.4591716;-86.4732051
X-APPLE-STRUCTURED-LOCATION;VALUE=URI;X-ADDRESS=City Hall Council Chambers Council Chamber | 101 West Main Street | Prattville;X-APPLE-RADIUS=500;X-TITLE=Council Chamber | 101 West Main Street | Prattville:geo:-86.4732051,32.4591716
END:VEVENT
BEGIN:VEVENT
DTSTART;TZID=America/Chicago:20250204T180000
DTEND;TZID=America/Chicago:20250204T193000
DTSTAMP:20260421T173751
CREATED:20231213T142354Z
LAST-MODIFIED:20250827T215919Z
UID:10001778-1738692000-1738697400@prattvilleal.gov
SUMMARY:City Council Meeting
DESCRIPTION:
URL:https://prattvilleal.gov/event/city-council-meeting-1-tuesday/2025-02-04/
LOCATION:City Hall Council Chambers\, Council Chamber | 101 West Main Street | Prattville
CATEGORIES:Government Meetings
ORGANIZER;CN="City Clerk":MAILTO:cityclerk@prattvilleal.gov
GEO:32.4591716;-86.4732051
X-APPLE-STRUCTURED-LOCATION;VALUE=URI;X-ADDRESS=City Hall Council Chambers Council Chamber | 101 West Main Street | Prattville;X-APPLE-RADIUS=500;X-TITLE=Council Chamber | 101 West Main Street | Prattville:geo:-86.4732051,32.4591716
END:VEVENT
BEGIN:VEVENT
DTSTART;TZID=America/Chicago:20250123T163000
DTEND;TZID=America/Chicago:20250123T173000
DTSTAMP:20260421T173751
CREATED:20250103T202537Z
LAST-MODIFIED:20250828T162726Z
UID:10001897-1737649800-1737653400@prattvilleal.gov
SUMMARY:Historic Preservation Commission Meeting
DESCRIPTION:The Historic Preservation Commission meets on the 4th Thursday of the month in the Council Chambers. \nClick the link below to view agendas\, minutes\, and packets. \nHPC Portal Access
URL:https://prattvilleal.gov/event/historic-preservation-commission-meeting-4-4/2025-01-23/
LOCATION:City Hall Council Chambers\, Council Chamber | 101 West Main Street | Prattville
CATEGORIES:Government Meetings
GEO:32.4591716;-86.4732051
X-APPLE-STRUCTURED-LOCATION;VALUE=URI;X-ADDRESS=City Hall Council Chambers Council Chamber | 101 West Main Street | Prattville;X-APPLE-RADIUS=500;X-TITLE=Council Chamber | 101 West Main Street | Prattville:geo:-86.4732051,32.4591716
END:VEVENT
BEGIN:VEVENT
DTSTART;TZID=America/Chicago:20250121T180000
DTEND;TZID=America/Chicago:20250121T193000
DTSTAMP:20260421T173751
CREATED:20231213T143009Z
LAST-MODIFIED:20250827T220001Z
UID:10002328-1737482400-1737487800@prattvilleal.gov
SUMMARY:City Council Meeting
DESCRIPTION:
URL:https://prattvilleal.gov/event/city-council-meeting-3rd-tuesday/2025-01-21/
LOCATION:City Hall Council Chambers\, Council Chamber | 101 West Main Street | Prattville
CATEGORIES:Government Meetings
ORGANIZER;CN="City Clerk":MAILTO:cityclerk@prattvilleal.gov
GEO:32.4591716;-86.4732051
X-APPLE-STRUCTURED-LOCATION;VALUE=URI;X-ADDRESS=City Hall Council Chambers Council Chamber | 101 West Main Street | Prattville;X-APPLE-RADIUS=500;X-TITLE=Council Chamber | 101 West Main Street | Prattville:geo:-86.4732051,32.4591716
END:VEVENT
BEGIN:VEVENT
DTSTART;TZID=America/Chicago:20250116T150000
DTEND;TZID=America/Chicago:20250116T160000
DTSTAMP:20260421T173751
CREATED:20250103T202358Z
LAST-MODIFIED:20250828T162209Z
UID:10000912-1737039600-1737043200@prattvilleal.gov
SUMMARY:Planning Commission Meeting
DESCRIPTION:The Planning Commission meets on the 3rd Thursday of the month in the Council Chambers. \nClick the button below to view agenda\, minutes\, and packets. \nPlanning Commission Public Portal
URL:https://prattvilleal.gov/event/planning-commission-meeting-2/2025-01-16/
LOCATION:City Hall Council Chambers\, Council Chamber | 101 West Main Street | Prattville
CATEGORIES:Government Meetings
GEO:32.4591716;-86.4732051
X-APPLE-STRUCTURED-LOCATION;VALUE=URI;X-ADDRESS=City Hall Council Chambers Council Chamber | 101 West Main Street | Prattville;X-APPLE-RADIUS=500;X-TITLE=Council Chamber | 101 West Main Street | Prattville:geo:-86.4732051,32.4591716
END:VEVENT
END:VCALENDAR