BEGIN:VCALENDAR
VERSION:2.0
PRODID:-//City of Prattville - ECPv6.15.20//NONSGML v1.0//EN
CALSCALE:GREGORIAN
METHOD:PUBLISH
X-WR-CALNAME:City of Prattville
X-ORIGINAL-URL:https://prattvilleal.gov
X-WR-CALDESC:Events for City of Prattville
REFRESH-INTERVAL;VALUE=DURATION:PT1H
X-Robots-Tag:noindex
X-PUBLISHED-TTL:PT1H
BEGIN:VTIMEZONE
TZID:America/Chicago
BEGIN:DAYLIGHT
TZOFFSETFROM:-0600
TZOFFSETTO:-0500
TZNAME:CDT
DTSTART:20250309T080000
END:DAYLIGHT
BEGIN:STANDARD
TZOFFSETFROM:-0500
TZOFFSETTO:-0600
TZNAME:CST
DTSTART:20251102T070000
END:STANDARD
BEGIN:DAYLIGHT
TZOFFSETFROM:-0600
TZOFFSETTO:-0500
TZNAME:CDT
DTSTART:20260308T080000
END:DAYLIGHT
BEGIN:STANDARD
TZOFFSETFROM:-0500
TZOFFSETTO:-0600
TZNAME:CST
DTSTART:20261101T070000
END:STANDARD
BEGIN:DAYLIGHT
TZOFFSETFROM:-0600
TZOFFSETTO:-0500
TZNAME:CDT
DTSTART:20270314T080000
END:DAYLIGHT
BEGIN:STANDARD
TZOFFSETFROM:-0500
TZOFFSETTO:-0600
TZNAME:CST
DTSTART:20271107T070000
END:STANDARD
BEGIN:DAYLIGHT
TZOFFSETFROM:-0600
TZOFFSETTO:-0500
TZNAME:CDT
DTSTART:20280312T080000
END:DAYLIGHT
BEGIN:STANDARD
TZOFFSETFROM:-0500
TZOFFSETTO:-0600
TZNAME:CST
DTSTART:20281105T070000
END:STANDARD
END:VTIMEZONE
BEGIN:VEVENT
DTSTART;TZID=America/Chicago:20260721T180000
DTEND;TZID=America/Chicago:20260721T193000
DTSTAMP:20260421T094007
CREATED:20231213T143009Z
LAST-MODIFIED:20250827T220001Z
UID:10001855-1784656800-1784662200@prattvilleal.gov
SUMMARY:City Council Meeting
DESCRIPTION:
URL:https://prattvilleal.gov/event/city-council-meeting-3rd-tuesday/2026-07-21/
LOCATION:City Hall Council Chambers\, Council Chamber | 101 West Main Street | Prattville
CATEGORIES:Government Meetings
ORGANIZER;CN="City Clerk":MAILTO:cityclerk@prattvilleal.gov
GEO:32.4591716;-86.4732051
X-APPLE-STRUCTURED-LOCATION;VALUE=URI;X-ADDRESS=City Hall Council Chambers Council Chamber | 101 West Main Street | Prattville;X-APPLE-RADIUS=500;X-TITLE=Council Chamber | 101 West Main Street | Prattville:geo:-86.4732051,32.4591716
END:VEVENT
BEGIN:VEVENT
DTSTART;TZID=America/Chicago:20260723T163000
DTEND;TZID=America/Chicago:20260723T173000
DTSTAMP:20260421T094007
CREATED:20260105T151033Z
LAST-MODIFIED:20260105T151033Z
UID:10002495-1784824200-1784827800@prattvilleal.gov
SUMMARY:Historic Preservation Commission Meeting
DESCRIPTION:The Historic Preservation Commission meets on the 4th Thursday of the month in the Council Chambers. \nClick the link below to view agendas\, minutes\, and packets. \nHPC Portal Access
URL:https://prattvilleal.gov/event/historic-preservation-commission-meeting-4-4-2-2-2/2026-07-23/
LOCATION:City Hall Council Chambers\, Council Chamber | 101 West Main Street | Prattville
CATEGORIES:Government Meetings
GEO:32.4591716;-86.4732051
X-APPLE-STRUCTURED-LOCATION;VALUE=URI;X-ADDRESS=City Hall Council Chambers Council Chamber | 101 West Main Street | Prattville;X-APPLE-RADIUS=500;X-TITLE=Council Chamber | 101 West Main Street | Prattville:geo:-86.4732051,32.4591716
END:VEVENT
BEGIN:VEVENT
DTSTART;TZID=America/Chicago:20260804T180000
DTEND;TZID=America/Chicago:20260804T193000
DTSTAMP:20260421T094007
CREATED:20231213T142354Z
LAST-MODIFIED:20250827T215919Z
UID:10001796-1785866400-1785871800@prattvilleal.gov
SUMMARY:City Council Meeting
DESCRIPTION:
URL:https://prattvilleal.gov/event/city-council-meeting-1-tuesday/2026-08-04/
LOCATION:City Hall Council Chambers\, Council Chamber | 101 West Main Street | Prattville
CATEGORIES:Government Meetings
ORGANIZER;CN="City Clerk":MAILTO:cityclerk@prattvilleal.gov
GEO:32.4591716;-86.4732051
X-APPLE-STRUCTURED-LOCATION;VALUE=URI;X-ADDRESS=City Hall Council Chambers Council Chamber | 101 West Main Street | Prattville;X-APPLE-RADIUS=500;X-TITLE=Council Chamber | 101 West Main Street | Prattville:geo:-86.4732051,32.4591716
END:VEVENT
BEGIN:VEVENT
DTSTART;TZID=America/Chicago:20260811T160000
DTEND;TZID=America/Chicago:20260811T170000
DTSTAMP:20260421T094007
CREATED:20250103T201946Z
LAST-MODIFIED:20250828T162414Z
UID:10000997-1786464000-1786467600@prattvilleal.gov
SUMMARY:Board of Zoning Adjustments Meeting
DESCRIPTION:The Board of Zoning Adjustments (BZA) meets on the 2nd Tuesday of the month in the Council Chambers. \nClick the link below to view agendas\, minutes\, and packets. \nBZA Public Portal Access
URL:https://prattvilleal.gov/event/board-of-zoning-adjustments-meeting-2/2026-08-11/
LOCATION:City Hall Council Chambers\, Council Chamber | 101 West Main Street | Prattville
CATEGORIES:Government Meetings
GEO:32.4591716;-86.4732051
X-APPLE-STRUCTURED-LOCATION;VALUE=URI;X-ADDRESS=City Hall Council Chambers Council Chamber | 101 West Main Street | Prattville;X-APPLE-RADIUS=500;X-TITLE=Council Chamber | 101 West Main Street | Prattville:geo:-86.4732051,32.4591716
END:VEVENT
BEGIN:VEVENT
DTSTART;TZID=America/Chicago:20260818T180000
DTEND;TZID=America/Chicago:20260818T193000
DTSTAMP:20260421T094007
CREATED:20231213T143009Z
LAST-MODIFIED:20250827T220001Z
UID:10001856-1787076000-1787081400@prattvilleal.gov
SUMMARY:City Council Meeting
DESCRIPTION:
URL:https://prattvilleal.gov/event/city-council-meeting-3rd-tuesday/2026-08-18/
LOCATION:City Hall Council Chambers\, Council Chamber | 101 West Main Street | Prattville
CATEGORIES:Government Meetings
ORGANIZER;CN="City Clerk":MAILTO:cityclerk@prattvilleal.gov
GEO:32.4591716;-86.4732051
X-APPLE-STRUCTURED-LOCATION;VALUE=URI;X-ADDRESS=City Hall Council Chambers Council Chamber | 101 West Main Street | Prattville;X-APPLE-RADIUS=500;X-TITLE=Council Chamber | 101 West Main Street | Prattville:geo:-86.4732051,32.4591716
END:VEVENT
BEGIN:VEVENT
DTSTART;TZID=America/Chicago:20260820T150000
DTEND;TZID=America/Chicago:20260820T160000
DTSTAMP:20260421T094007
CREATED:20250103T202358Z
LAST-MODIFIED:20250828T162209Z
UID:10000931-1787238000-1787241600@prattvilleal.gov
SUMMARY:Planning Commission Meeting
DESCRIPTION:The Planning Commission meets on the 3rd Thursday of the month in the Council Chambers. \nClick the button below to view agenda\, minutes\, and packets. \nPlanning Commission Public Portal
URL:https://prattvilleal.gov/event/planning-commission-meeting-2/2026-08-20/
LOCATION:City Hall Council Chambers\, Council Chamber | 101 West Main Street | Prattville
CATEGORIES:Government Meetings
GEO:32.4591716;-86.4732051
X-APPLE-STRUCTURED-LOCATION;VALUE=URI;X-ADDRESS=City Hall Council Chambers Council Chamber | 101 West Main Street | Prattville;X-APPLE-RADIUS=500;X-TITLE=Council Chamber | 101 West Main Street | Prattville:geo:-86.4732051,32.4591716
END:VEVENT
BEGIN:VEVENT
DTSTART;TZID=America/Chicago:20260827T163000
DTEND;TZID=America/Chicago:20260827T173000
DTSTAMP:20260421T094007
CREATED:20260105T151033Z
LAST-MODIFIED:20260105T151033Z
UID:10002496-1787848200-1787851800@prattvilleal.gov
SUMMARY:Historic Preservation Commission Meeting
DESCRIPTION:The Historic Preservation Commission meets on the 4th Thursday of the month in the Council Chambers. \nClick the link below to view agendas\, minutes\, and packets. \nHPC Portal Access
URL:https://prattvilleal.gov/event/historic-preservation-commission-meeting-4-4-2-2-2/2026-08-27/
LOCATION:City Hall Council Chambers\, Council Chamber | 101 West Main Street | Prattville
CATEGORIES:Government Meetings
GEO:32.4591716;-86.4732051
X-APPLE-STRUCTURED-LOCATION;VALUE=URI;X-ADDRESS=City Hall Council Chambers Council Chamber | 101 West Main Street | Prattville;X-APPLE-RADIUS=500;X-TITLE=Council Chamber | 101 West Main Street | Prattville:geo:-86.4732051,32.4591716
END:VEVENT
BEGIN:VEVENT
DTSTART;TZID=America/Chicago:20260901T180000
DTEND;TZID=America/Chicago:20260901T193000
DTSTAMP:20260421T094007
CREATED:20231213T142354Z
LAST-MODIFIED:20250827T215919Z
UID:10001797-1788285600-1788291000@prattvilleal.gov
SUMMARY:City Council Meeting
DESCRIPTION:
URL:https://prattvilleal.gov/event/city-council-meeting-1-tuesday/2026-09-01/
LOCATION:City Hall Council Chambers\, Council Chamber | 101 West Main Street | Prattville
CATEGORIES:Government Meetings
ORGANIZER;CN="City Clerk":MAILTO:cityclerk@prattvilleal.gov
GEO:32.4591716;-86.4732051
X-APPLE-STRUCTURED-LOCATION;VALUE=URI;X-ADDRESS=City Hall Council Chambers Council Chamber | 101 West Main Street | Prattville;X-APPLE-RADIUS=500;X-TITLE=Council Chamber | 101 West Main Street | Prattville:geo:-86.4732051,32.4591716
END:VEVENT
BEGIN:VEVENT
DTSTART;TZID=America/Chicago:20260908T160000
DTEND;TZID=America/Chicago:20260908T170000
DTSTAMP:20260421T094007
CREATED:20250103T201946Z
LAST-MODIFIED:20250828T162414Z
UID:10000998-1788883200-1788886800@prattvilleal.gov
SUMMARY:Board of Zoning Adjustments Meeting
DESCRIPTION:The Board of Zoning Adjustments (BZA) meets on the 2nd Tuesday of the month in the Council Chambers. \nClick the link below to view agendas\, minutes\, and packets. \nBZA Public Portal Access
URL:https://prattvilleal.gov/event/board-of-zoning-adjustments-meeting-2/2026-09-08/
LOCATION:City Hall Council Chambers\, Council Chamber | 101 West Main Street | Prattville
CATEGORIES:Government Meetings
GEO:32.4591716;-86.4732051
X-APPLE-STRUCTURED-LOCATION;VALUE=URI;X-ADDRESS=City Hall Council Chambers Council Chamber | 101 West Main Street | Prattville;X-APPLE-RADIUS=500;X-TITLE=Council Chamber | 101 West Main Street | Prattville:geo:-86.4732051,32.4591716
END:VEVENT
BEGIN:VEVENT
DTSTART;TZID=America/Chicago:20260915T180000
DTEND;TZID=America/Chicago:20260915T193000
DTSTAMP:20260421T094007
CREATED:20231213T143009Z
LAST-MODIFIED:20250827T220001Z
UID:10001857-1789495200-1789500600@prattvilleal.gov
SUMMARY:City Council Meeting
DESCRIPTION:
URL:https://prattvilleal.gov/event/city-council-meeting-3rd-tuesday/2026-09-15/
LOCATION:City Hall Council Chambers\, Council Chamber | 101 West Main Street | Prattville
CATEGORIES:Government Meetings
ORGANIZER;CN="City Clerk":MAILTO:cityclerk@prattvilleal.gov
GEO:32.4591716;-86.4732051
X-APPLE-STRUCTURED-LOCATION;VALUE=URI;X-ADDRESS=City Hall Council Chambers Council Chamber | 101 West Main Street | Prattville;X-APPLE-RADIUS=500;X-TITLE=Council Chamber | 101 West Main Street | Prattville:geo:-86.4732051,32.4591716
END:VEVENT
BEGIN:VEVENT
DTSTART;TZID=America/Chicago:20260917T150000
DTEND;TZID=America/Chicago:20260917T160000
DTSTAMP:20260421T094007
CREATED:20250103T202358Z
LAST-MODIFIED:20250828T162209Z
UID:10000932-1789657200-1789660800@prattvilleal.gov
SUMMARY:Planning Commission Meeting
DESCRIPTION:The Planning Commission meets on the 3rd Thursday of the month in the Council Chambers. \nClick the button below to view agenda\, minutes\, and packets. \nPlanning Commission Public Portal
URL:https://prattvilleal.gov/event/planning-commission-meeting-2/2026-09-17/
LOCATION:City Hall Council Chambers\, Council Chamber | 101 West Main Street | Prattville
CATEGORIES:Government Meetings
GEO:32.4591716;-86.4732051
X-APPLE-STRUCTURED-LOCATION;VALUE=URI;X-ADDRESS=City Hall Council Chambers Council Chamber | 101 West Main Street | Prattville;X-APPLE-RADIUS=500;X-TITLE=Council Chamber | 101 West Main Street | Prattville:geo:-86.4732051,32.4591716
END:VEVENT
BEGIN:VEVENT
DTSTART;TZID=America/Chicago:20260924T163000
DTEND;TZID=America/Chicago:20260924T173000
DTSTAMP:20260421T094007
CREATED:20260105T151033Z
LAST-MODIFIED:20260105T151033Z
UID:10002497-1790267400-1790271000@prattvilleal.gov
SUMMARY:Historic Preservation Commission Meeting
DESCRIPTION:The Historic Preservation Commission meets on the 4th Thursday of the month in the Council Chambers. \nClick the link below to view agendas\, minutes\, and packets. \nHPC Portal Access
URL:https://prattvilleal.gov/event/historic-preservation-commission-meeting-4-4-2-2-2/2026-09-24/
LOCATION:City Hall Council Chambers\, Council Chamber | 101 West Main Street | Prattville
CATEGORIES:Government Meetings
GEO:32.4591716;-86.4732051
X-APPLE-STRUCTURED-LOCATION;VALUE=URI;X-ADDRESS=City Hall Council Chambers Council Chamber | 101 West Main Street | Prattville;X-APPLE-RADIUS=500;X-TITLE=Council Chamber | 101 West Main Street | Prattville:geo:-86.4732051,32.4591716
END:VEVENT
BEGIN:VEVENT
DTSTART;TZID=America/Chicago:20261006T180000
DTEND;TZID=America/Chicago:20261006T193000
DTSTAMP:20260421T094007
CREATED:20231213T142354Z
LAST-MODIFIED:20250827T215919Z
UID:10001798-1791309600-1791315000@prattvilleal.gov
SUMMARY:City Council Meeting
DESCRIPTION:
URL:https://prattvilleal.gov/event/city-council-meeting-1-tuesday/2026-10-06/
LOCATION:City Hall Council Chambers\, Council Chamber | 101 West Main Street | Prattville
CATEGORIES:Government Meetings
ORGANIZER;CN="City Clerk":MAILTO:cityclerk@prattvilleal.gov
GEO:32.4591716;-86.4732051
X-APPLE-STRUCTURED-LOCATION;VALUE=URI;X-ADDRESS=City Hall Council Chambers Council Chamber | 101 West Main Street | Prattville;X-APPLE-RADIUS=500;X-TITLE=Council Chamber | 101 West Main Street | Prattville:geo:-86.4732051,32.4591716
END:VEVENT
BEGIN:VEVENT
DTSTART;TZID=America/Chicago:20261013T160000
DTEND;TZID=America/Chicago:20261013T170000
DTSTAMP:20260421T094007
CREATED:20250103T201946Z
LAST-MODIFIED:20250828T162414Z
UID:10000999-1791907200-1791910800@prattvilleal.gov
SUMMARY:Board of Zoning Adjustments Meeting
DESCRIPTION:The Board of Zoning Adjustments (BZA) meets on the 2nd Tuesday of the month in the Council Chambers. \nClick the link below to view agendas\, minutes\, and packets. \nBZA Public Portal Access
URL:https://prattvilleal.gov/event/board-of-zoning-adjustments-meeting-2/2026-10-13/
LOCATION:City Hall Council Chambers\, Council Chamber | 101 West Main Street | Prattville
CATEGORIES:Government Meetings
GEO:32.4591716;-86.4732051
X-APPLE-STRUCTURED-LOCATION;VALUE=URI;X-ADDRESS=City Hall Council Chambers Council Chamber | 101 West Main Street | Prattville;X-APPLE-RADIUS=500;X-TITLE=Council Chamber | 101 West Main Street | Prattville:geo:-86.4732051,32.4591716
END:VEVENT
BEGIN:VEVENT
DTSTART;TZID=America/Chicago:20261015T150000
DTEND;TZID=America/Chicago:20261015T160000
DTSTAMP:20260421T094007
CREATED:20250103T202358Z
LAST-MODIFIED:20250828T162209Z
UID:10000933-1792076400-1792080000@prattvilleal.gov
SUMMARY:Planning Commission Meeting
DESCRIPTION:The Planning Commission meets on the 3rd Thursday of the month in the Council Chambers. \nClick the button below to view agenda\, minutes\, and packets. \nPlanning Commission Public Portal
URL:https://prattvilleal.gov/event/planning-commission-meeting-2/2026-10-15/
LOCATION:City Hall Council Chambers\, Council Chamber | 101 West Main Street | Prattville
CATEGORIES:Government Meetings
GEO:32.4591716;-86.4732051
X-APPLE-STRUCTURED-LOCATION;VALUE=URI;X-ADDRESS=City Hall Council Chambers Council Chamber | 101 West Main Street | Prattville;X-APPLE-RADIUS=500;X-TITLE=Council Chamber | 101 West Main Street | Prattville:geo:-86.4732051,32.4591716
END:VEVENT
BEGIN:VEVENT
DTSTART;TZID=America/Chicago:20261020T180000
DTEND;TZID=America/Chicago:20261020T193000
DTSTAMP:20260421T094007
CREATED:20231213T143009Z
LAST-MODIFIED:20250827T220001Z
UID:10001858-1792519200-1792524600@prattvilleal.gov
SUMMARY:City Council Meeting
DESCRIPTION:
URL:https://prattvilleal.gov/event/city-council-meeting-3rd-tuesday/2026-10-20/
LOCATION:City Hall Council Chambers\, Council Chamber | 101 West Main Street | Prattville
CATEGORIES:Government Meetings
ORGANIZER;CN="City Clerk":MAILTO:cityclerk@prattvilleal.gov
GEO:32.4591716;-86.4732051
X-APPLE-STRUCTURED-LOCATION;VALUE=URI;X-ADDRESS=City Hall Council Chambers Council Chamber | 101 West Main Street | Prattville;X-APPLE-RADIUS=500;X-TITLE=Council Chamber | 101 West Main Street | Prattville:geo:-86.4732051,32.4591716
END:VEVENT
BEGIN:VEVENT
DTSTART;TZID=America/Chicago:20261022T163000
DTEND;TZID=America/Chicago:20261022T173000
DTSTAMP:20260421T094007
CREATED:20260105T151033Z
LAST-MODIFIED:20260105T151033Z
UID:10002498-1792686600-1792690200@prattvilleal.gov
SUMMARY:Historic Preservation Commission Meeting
DESCRIPTION:The Historic Preservation Commission meets on the 4th Thursday of the month in the Council Chambers. \nClick the link below to view agendas\, minutes\, and packets. \nHPC Portal Access
URL:https://prattvilleal.gov/event/historic-preservation-commission-meeting-4-4-2-2-2/2026-10-22/
LOCATION:City Hall Council Chambers\, Council Chamber | 101 West Main Street | Prattville
CATEGORIES:Government Meetings
GEO:32.4591716;-86.4732051
X-APPLE-STRUCTURED-LOCATION;VALUE=URI;X-ADDRESS=City Hall Council Chambers Council Chamber | 101 West Main Street | Prattville;X-APPLE-RADIUS=500;X-TITLE=Council Chamber | 101 West Main Street | Prattville:geo:-86.4732051,32.4591716
END:VEVENT
BEGIN:VEVENT
DTSTART;TZID=America/Chicago:20261103T180000
DTEND;TZID=America/Chicago:20261103T193000
DTSTAMP:20260421T094007
CREATED:20231213T142354Z
LAST-MODIFIED:20250827T215919Z
UID:10001799-1793728800-1793734200@prattvilleal.gov
SUMMARY:City Council Meeting
DESCRIPTION:
URL:https://prattvilleal.gov/event/city-council-meeting-1-tuesday/2026-11-03/
LOCATION:City Hall Council Chambers\, Council Chamber | 101 West Main Street | Prattville
CATEGORIES:Government Meetings
ORGANIZER;CN="City Clerk":MAILTO:cityclerk@prattvilleal.gov
GEO:32.4591716;-86.4732051
X-APPLE-STRUCTURED-LOCATION;VALUE=URI;X-ADDRESS=City Hall Council Chambers Council Chamber | 101 West Main Street | Prattville;X-APPLE-RADIUS=500;X-TITLE=Council Chamber | 101 West Main Street | Prattville:geo:-86.4732051,32.4591716
END:VEVENT
BEGIN:VEVENT
DTSTART;TZID=America/Chicago:20261110T160000
DTEND;TZID=America/Chicago:20261110T170000
DTSTAMP:20260421T094007
CREATED:20250103T201946Z
LAST-MODIFIED:20250828T162414Z
UID:10001000-1794326400-1794330000@prattvilleal.gov
SUMMARY:Board of Zoning Adjustments Meeting
DESCRIPTION:The Board of Zoning Adjustments (BZA) meets on the 2nd Tuesday of the month in the Council Chambers. \nClick the link below to view agendas\, minutes\, and packets. \nBZA Public Portal Access
URL:https://prattvilleal.gov/event/board-of-zoning-adjustments-meeting-2/2026-11-10/
LOCATION:City Hall Council Chambers\, Council Chamber | 101 West Main Street | Prattville
CATEGORIES:Government Meetings
GEO:32.4591716;-86.4732051
X-APPLE-STRUCTURED-LOCATION;VALUE=URI;X-ADDRESS=City Hall Council Chambers Council Chamber | 101 West Main Street | Prattville;X-APPLE-RADIUS=500;X-TITLE=Council Chamber | 101 West Main Street | Prattville:geo:-86.4732051,32.4591716
END:VEVENT
BEGIN:VEVENT
DTSTART;TZID=America/Chicago:20261117T180000
DTEND;TZID=America/Chicago:20261117T193000
DTSTAMP:20260421T094007
CREATED:20231213T143009Z
LAST-MODIFIED:20250827T220001Z
UID:10001859-1794938400-1794943800@prattvilleal.gov
SUMMARY:City Council Meeting
DESCRIPTION:
URL:https://prattvilleal.gov/event/city-council-meeting-3rd-tuesday/2026-11-17/
LOCATION:City Hall Council Chambers\, Council Chamber | 101 West Main Street | Prattville
CATEGORIES:Government Meetings
ORGANIZER;CN="City Clerk":MAILTO:cityclerk@prattvilleal.gov
GEO:32.4591716;-86.4732051
X-APPLE-STRUCTURED-LOCATION;VALUE=URI;X-ADDRESS=City Hall Council Chambers Council Chamber | 101 West Main Street | Prattville;X-APPLE-RADIUS=500;X-TITLE=Council Chamber | 101 West Main Street | Prattville:geo:-86.4732051,32.4591716
END:VEVENT
BEGIN:VEVENT
DTSTART;TZID=America/Chicago:20261119T150000
DTEND;TZID=America/Chicago:20261119T160000
DTSTAMP:20260421T094007
CREATED:20250103T202358Z
LAST-MODIFIED:20250828T162209Z
UID:10000934-1795100400-1795104000@prattvilleal.gov
SUMMARY:Planning Commission Meeting
DESCRIPTION:The Planning Commission meets on the 3rd Thursday of the month in the Council Chambers. \nClick the button below to view agenda\, minutes\, and packets. \nPlanning Commission Public Portal
URL:https://prattvilleal.gov/event/planning-commission-meeting-2/2026-11-19/
LOCATION:City Hall Council Chambers\, Council Chamber | 101 West Main Street | Prattville
CATEGORIES:Government Meetings
GEO:32.4591716;-86.4732051
X-APPLE-STRUCTURED-LOCATION;VALUE=URI;X-ADDRESS=City Hall Council Chambers Council Chamber | 101 West Main Street | Prattville;X-APPLE-RADIUS=500;X-TITLE=Council Chamber | 101 West Main Street | Prattville:geo:-86.4732051,32.4591716
END:VEVENT
BEGIN:VEVENT
DTSTART;TZID=America/Chicago:20261126T163000
DTEND;TZID=America/Chicago:20261126T173000
DTSTAMP:20260421T094007
CREATED:20260105T151033Z
LAST-MODIFIED:20260105T151033Z
UID:10002499-1795710600-1795714200@prattvilleal.gov
SUMMARY:Historic Preservation Commission Meeting
DESCRIPTION:The Historic Preservation Commission meets on the 4th Thursday of the month in the Council Chambers. \nClick the link below to view agendas\, minutes\, and packets. \nHPC Portal Access
URL:https://prattvilleal.gov/event/historic-preservation-commission-meeting-4-4-2-2-2/2026-11-26/
LOCATION:City Hall Council Chambers\, Council Chamber | 101 West Main Street | Prattville
CATEGORIES:Government Meetings
GEO:32.4591716;-86.4732051
X-APPLE-STRUCTURED-LOCATION;VALUE=URI;X-ADDRESS=City Hall Council Chambers Council Chamber | 101 West Main Street | Prattville;X-APPLE-RADIUS=500;X-TITLE=Council Chamber | 101 West Main Street | Prattville:geo:-86.4732051,32.4591716
END:VEVENT
BEGIN:VEVENT
DTSTART;TZID=America/Chicago:20261201T180000
DTEND;TZID=America/Chicago:20261201T193000
DTSTAMP:20260421T094007
CREATED:20231213T142354Z
LAST-MODIFIED:20250827T215919Z
UID:10001800-1796148000-1796153400@prattvilleal.gov
SUMMARY:City Council Meeting
DESCRIPTION:
URL:https://prattvilleal.gov/event/city-council-meeting-1-tuesday/2026-12-01/
LOCATION:City Hall Council Chambers\, Council Chamber | 101 West Main Street | Prattville
CATEGORIES:Government Meetings
ORGANIZER;CN="City Clerk":MAILTO:cityclerk@prattvilleal.gov
GEO:32.4591716;-86.4732051
X-APPLE-STRUCTURED-LOCATION;VALUE=URI;X-ADDRESS=City Hall Council Chambers Council Chamber | 101 West Main Street | Prattville;X-APPLE-RADIUS=500;X-TITLE=Council Chamber | 101 West Main Street | Prattville:geo:-86.4732051,32.4591716
END:VEVENT
BEGIN:VEVENT
DTSTART;TZID=America/Chicago:20261208T160000
DTEND;TZID=America/Chicago:20261208T170000
DTSTAMP:20260421T094007
CREATED:20250103T201946Z
LAST-MODIFIED:20250828T162414Z
UID:10001001-1796745600-1796749200@prattvilleal.gov
SUMMARY:Board of Zoning Adjustments Meeting
DESCRIPTION:The Board of Zoning Adjustments (BZA) meets on the 2nd Tuesday of the month in the Council Chambers. \nClick the link below to view agendas\, minutes\, and packets. \nBZA Public Portal Access
URL:https://prattvilleal.gov/event/board-of-zoning-adjustments-meeting-2/2026-12-08/
LOCATION:City Hall Council Chambers\, Council Chamber | 101 West Main Street | Prattville
CATEGORIES:Government Meetings
GEO:32.4591716;-86.4732051
X-APPLE-STRUCTURED-LOCATION;VALUE=URI;X-ADDRESS=City Hall Council Chambers Council Chamber | 101 West Main Street | Prattville;X-APPLE-RADIUS=500;X-TITLE=Council Chamber | 101 West Main Street | Prattville:geo:-86.4732051,32.4591716
END:VEVENT
BEGIN:VEVENT
DTSTART;TZID=America/Chicago:20261215T180000
DTEND;TZID=America/Chicago:20261215T193000
DTSTAMP:20260421T094007
CREATED:20231213T143009Z
LAST-MODIFIED:20250827T220001Z
UID:10001860-1797357600-1797363000@prattvilleal.gov
SUMMARY:City Council Meeting
DESCRIPTION:
URL:https://prattvilleal.gov/event/city-council-meeting-3rd-tuesday/2026-12-15/
LOCATION:City Hall Council Chambers\, Council Chamber | 101 West Main Street | Prattville
CATEGORIES:Government Meetings
ORGANIZER;CN="City Clerk":MAILTO:cityclerk@prattvilleal.gov
GEO:32.4591716;-86.4732051
X-APPLE-STRUCTURED-LOCATION;VALUE=URI;X-ADDRESS=City Hall Council Chambers Council Chamber | 101 West Main Street | Prattville;X-APPLE-RADIUS=500;X-TITLE=Council Chamber | 101 West Main Street | Prattville:geo:-86.4732051,32.4591716
END:VEVENT
BEGIN:VEVENT
DTSTART;TZID=America/Chicago:20261217T150000
DTEND;TZID=America/Chicago:20261217T160000
DTSTAMP:20260421T094007
CREATED:20250103T202358Z
LAST-MODIFIED:20250828T162209Z
UID:10000935-1797519600-1797523200@prattvilleal.gov
SUMMARY:Planning Commission Meeting
DESCRIPTION:The Planning Commission meets on the 3rd Thursday of the month in the Council Chambers. \nClick the button below to view agenda\, minutes\, and packets. \nPlanning Commission Public Portal
URL:https://prattvilleal.gov/event/planning-commission-meeting-2/2026-12-17/
LOCATION:City Hall Council Chambers\, Council Chamber | 101 West Main Street | Prattville
CATEGORIES:Government Meetings
GEO:32.4591716;-86.4732051
X-APPLE-STRUCTURED-LOCATION;VALUE=URI;X-ADDRESS=City Hall Council Chambers Council Chamber | 101 West Main Street | Prattville;X-APPLE-RADIUS=500;X-TITLE=Council Chamber | 101 West Main Street | Prattville:geo:-86.4732051,32.4591716
END:VEVENT
BEGIN:VEVENT
DTSTART;TZID=America/Chicago:20261224T163000
DTEND;TZID=America/Chicago:20261224T173000
DTSTAMP:20260421T094007
CREATED:20260105T151033Z
LAST-MODIFIED:20260105T151033Z
UID:10002500-1798129800-1798133400@prattvilleal.gov
SUMMARY:Historic Preservation Commission Meeting
DESCRIPTION:The Historic Preservation Commission meets on the 4th Thursday of the month in the Council Chambers. \nClick the link below to view agendas\, minutes\, and packets. \nHPC Portal Access
URL:https://prattvilleal.gov/event/historic-preservation-commission-meeting-4-4-2-2-2/2026-12-24/
LOCATION:City Hall Council Chambers\, Council Chamber | 101 West Main Street | Prattville
CATEGORIES:Government Meetings
GEO:32.4591716;-86.4732051
X-APPLE-STRUCTURED-LOCATION;VALUE=URI;X-ADDRESS=City Hall Council Chambers Council Chamber | 101 West Main Street | Prattville;X-APPLE-RADIUS=500;X-TITLE=Council Chamber | 101 West Main Street | Prattville:geo:-86.4732051,32.4591716
END:VEVENT
BEGIN:VEVENT
DTSTART;TZID=America/Chicago:20270105T180000
DTEND;TZID=America/Chicago:20270105T193000
DTSTAMP:20260421T094007
CREATED:20231213T142354Z
LAST-MODIFIED:20250827T215919Z
UID:10001801-1799172000-1799177400@prattvilleal.gov
SUMMARY:City Council Meeting
DESCRIPTION:
URL:https://prattvilleal.gov/event/city-council-meeting-1-tuesday/2027-01-05/
LOCATION:City Hall Council Chambers\, Council Chamber | 101 West Main Street | Prattville
CATEGORIES:Government Meetings
ORGANIZER;CN="City Clerk":MAILTO:cityclerk@prattvilleal.gov
GEO:32.4591716;-86.4732051
X-APPLE-STRUCTURED-LOCATION;VALUE=URI;X-ADDRESS=City Hall Council Chambers Council Chamber | 101 West Main Street | Prattville;X-APPLE-RADIUS=500;X-TITLE=Council Chamber | 101 West Main Street | Prattville:geo:-86.4732051,32.4591716
END:VEVENT
BEGIN:VEVENT
DTSTART;TZID=America/Chicago:20270112T160000
DTEND;TZID=America/Chicago:20270112T170000
DTSTAMP:20260421T094007
CREATED:20250103T201946Z
LAST-MODIFIED:20250828T162414Z
UID:10001002-1799769600-1799773200@prattvilleal.gov
SUMMARY:Board of Zoning Adjustments Meeting
DESCRIPTION:The Board of Zoning Adjustments (BZA) meets on the 2nd Tuesday of the month in the Council Chambers. \nClick the link below to view agendas\, minutes\, and packets. \nBZA Public Portal Access
URL:https://prattvilleal.gov/event/board-of-zoning-adjustments-meeting-2/2027-01-12/
LOCATION:City Hall Council Chambers\, Council Chamber | 101 West Main Street | Prattville
CATEGORIES:Government Meetings
GEO:32.4591716;-86.4732051
X-APPLE-STRUCTURED-LOCATION;VALUE=URI;X-ADDRESS=City Hall Council Chambers Council Chamber | 101 West Main Street | Prattville;X-APPLE-RADIUS=500;X-TITLE=Council Chamber | 101 West Main Street | Prattville:geo:-86.4732051,32.4591716
END:VEVENT
BEGIN:VEVENT
DTSTART;TZID=America/Chicago:20270119T180000
DTEND;TZID=America/Chicago:20270119T193000
DTSTAMP:20260421T094007
CREATED:20231213T143009Z
LAST-MODIFIED:20250827T220001Z
UID:10001861-1800381600-1800387000@prattvilleal.gov
SUMMARY:City Council Meeting
DESCRIPTION:
URL:https://prattvilleal.gov/event/city-council-meeting-3rd-tuesday/2027-01-19/
LOCATION:City Hall Council Chambers\, Council Chamber | 101 West Main Street | Prattville
CATEGORIES:Government Meetings
ORGANIZER;CN="City Clerk":MAILTO:cityclerk@prattvilleal.gov
GEO:32.4591716;-86.4732051
X-APPLE-STRUCTURED-LOCATION;VALUE=URI;X-ADDRESS=City Hall Council Chambers Council Chamber | 101 West Main Street | Prattville;X-APPLE-RADIUS=500;X-TITLE=Council Chamber | 101 West Main Street | Prattville:geo:-86.4732051,32.4591716
END:VEVENT
END:VCALENDAR