BEGIN:VCALENDAR
VERSION:2.0
PRODID:-//City of Prattville - ECPv6.15.20//NONSGML v1.0//EN
CALSCALE:GREGORIAN
METHOD:PUBLISH
X-WR-CALNAME:City of Prattville
X-ORIGINAL-URL:https://prattvilleal.gov
X-WR-CALDESC:Events for City of Prattville
REFRESH-INTERVAL;VALUE=DURATION:PT1H
X-Robots-Tag:noindex
X-PUBLISHED-TTL:PT1H
BEGIN:VTIMEZONE
TZID:America/Chicago
BEGIN:DAYLIGHT
TZOFFSETFROM:-0600
TZOFFSETTO:-0500
TZNAME:CDT
DTSTART:20220313T080000
END:DAYLIGHT
BEGIN:STANDARD
TZOFFSETFROM:-0500
TZOFFSETTO:-0600
TZNAME:CST
DTSTART:20221106T070000
END:STANDARD
BEGIN:DAYLIGHT
TZOFFSETFROM:-0600
TZOFFSETTO:-0500
TZNAME:CDT
DTSTART:20230312T080000
END:DAYLIGHT
BEGIN:STANDARD
TZOFFSETFROM:-0500
TZOFFSETTO:-0600
TZNAME:CST
DTSTART:20231105T070000
END:STANDARD
BEGIN:DAYLIGHT
TZOFFSETFROM:-0600
TZOFFSETTO:-0500
TZNAME:CDT
DTSTART:20240310T080000
END:DAYLIGHT
BEGIN:STANDARD
TZOFFSETFROM:-0500
TZOFFSETTO:-0600
TZNAME:CST
DTSTART:20241103T070000
END:STANDARD
END:VTIMEZONE
BEGIN:VEVENT
DTSTART;TZID=America/Chicago:20230815T180000
DTEND;TZID=America/Chicago:20230815T180000
DTSTAMP:20260422T130605
CREATED:20230112T170618Z
LAST-MODIFIED:20231027T173752Z
UID:10000567-1692122400-1692122400@prattvilleal.gov
SUMMARY:City Council Meetings
DESCRIPTION:1st and 3rd Tuesday of each Month. To view draft agenda and minutes\, please visit Laserfiche.
URL:https://prattvilleal.gov/event/city-council-meetings-2/2023-08-15/
LOCATION:City Hall Council Chambers\, Council Chamber | 101 West Main Street | Prattville
CATEGORIES:Government Meetings
ORGANIZER;CN="City Clerk":MAILTO:cityclerk@prattvilleal.gov
GEO:32.4591716;-86.4732051
X-APPLE-STRUCTURED-LOCATION;VALUE=URI;X-ADDRESS=City Hall Council Chambers Council Chamber | 101 West Main Street | Prattville;X-APPLE-RADIUS=500;X-TITLE=Council Chamber | 101 West Main Street | Prattville:geo:-86.4732051,32.4591716
END:VEVENT
BEGIN:VEVENT
DTSTART;TZID=America/Chicago:20230810T170000
DTEND;TZID=America/Chicago:20230810T180000
DTSTAMP:20260422T130605
CREATED:20230803T153148Z
LAST-MODIFIED:20230803T153148Z
UID:10001385-1691686800-1691690400@prattvilleal.gov
SUMMARY:Sanitation Committee Meeting 8-10
DESCRIPTION:PUBLIC NOTICE \nSanitation Committee Meeting \nThe Sanitation Committee will meet on Thursday\, August 10\, 2023\, at 5:00 p.m. in the Council Chambers at City Hall\, 101 West Main Street. \nDraft Agenda Items \n1) Sanitation Financial Status\n2) Fleet Status\n3) Renewal of the Solid Waste Disposal Recycling Contract\n4) Solid Waste Management Plan Discussion\n5) Review Sanitation 2023-2024 Budget \nPlease contact the City Clerk’s Office at 595-0120 for additional information.
URL:https://prattvilleal.gov/event/sanitation-committee-meeting-8-10/
LOCATION:City Hall Council Chambers\, Council Chamber | 101 West Main Street | Prattville
CATEGORIES:Government Meetings
GEO:32.4591716;-86.4732051
X-APPLE-STRUCTURED-LOCATION;VALUE=URI;X-ADDRESS=City Hall Council Chambers Council Chamber | 101 West Main Street | Prattville;X-APPLE-RADIUS=500;X-TITLE=Council Chamber | 101 West Main Street | Prattville:geo:-86.4732051,32.4591716
END:VEVENT
BEGIN:VEVENT
DTSTART;TZID=America/Chicago:20230808T180000
DTEND;TZID=America/Chicago:20230808T180000
DTSTAMP:20260422T130605
CREATED:20230628T180212Z
LAST-MODIFIED:20230724T203456Z
UID:10000883-1691517600-1691517600@prattvilleal.gov
SUMMARY:City Council Meeting
DESCRIPTION:The July 4\, 2023 City Council Meeting has been rescheduled to July 11\, 2023 due to Independence Day. \n 
URL:https://prattvilleal.gov/event/city-council-meeting-2/2023-08-08/
LOCATION:City Hall Council Chambers\, Council Chamber | 101 West Main Street | Prattville
CATEGORIES:Government Meetings
ORGANIZER;CN="City Clerk":MAILTO:cityclerk@prattvilleal.gov
GEO:32.4591716;-86.4732051
X-APPLE-STRUCTURED-LOCATION;VALUE=URI;X-ADDRESS=City Hall Council Chambers Council Chamber | 101 West Main Street | Prattville;X-APPLE-RADIUS=500;X-TITLE=Council Chamber | 101 West Main Street | Prattville:geo:-86.4732051,32.4591716
END:VEVENT
BEGIN:VEVENT
DTSTART;TZID=America/Chicago:20230808T160000
DTEND;TZID=America/Chicago:20230808T170000
DTSTAMP:20260422T130605
CREATED:20230628T212945Z
LAST-MODIFIED:20230628T213000Z
UID:10000961-1691510400-1691514000@prattvilleal.gov
SUMMARY:Board of Zoning Adjustments Meeting
DESCRIPTION:The Board of Zoning Adjustments (BZA) meets on the 2nd Tuesday of the month in the Council Chambers. \nClick the link below to view agendas\, minutes\, and packets. \nBZA Public Portal Access
URL:https://prattvilleal.gov/event/board-of-zoning-adjustments-meeting/2023-08-08/
LOCATION:City Hall Council Chambers\, Council Chamber | 101 West Main Street | Prattville
CATEGORIES:Government Meetings
GEO:32.4591716;-86.4732051
X-APPLE-STRUCTURED-LOCATION;VALUE=URI;X-ADDRESS=City Hall Council Chambers Council Chamber | 101 West Main Street | Prattville;X-APPLE-RADIUS=500;X-TITLE=Council Chamber | 101 West Main Street | Prattville:geo:-86.4732051,32.4591716
END:VEVENT
BEGIN:VEVENT
DTSTART;TZID=America/Chicago:20230803T153000
DTEND;TZID=America/Chicago:20230803T163000
DTSTAMP:20260422T130605
CREATED:20230718T185925Z
LAST-MODIFIED:20230718T185925Z
UID:10001369-1691076600-1691080200@prattvilleal.gov
SUMMARY:Bid-Opening 023-010 Parking Lot Improvements San & PW
DESCRIPTION:Bid Opening – 023-010 Parking Lot Improvements: Sanitation Department and Public Works
URL:https://prattvilleal.gov/event/bid-opening-023-010-parking-lot-improvements-san-pw/
LOCATION:City Hall Council Chambers\, Council Chamber | 101 West Main Street | Prattville
CATEGORIES:Bid Openings
GEO:32.4591716;-86.4732051
X-APPLE-STRUCTURED-LOCATION;VALUE=URI;X-ADDRESS=City Hall Council Chambers Council Chamber | 101 West Main Street | Prattville;X-APPLE-RADIUS=500;X-TITLE=Council Chamber | 101 West Main Street | Prattville:geo:-86.4732051,32.4591716
END:VEVENT
BEGIN:VEVENT
DTSTART;TZID=America/Chicago:20230727T163000
DTEND;TZID=America/Chicago:20230727T173000
DTSTAMP:20260422T130605
CREATED:20230628T213548Z
LAST-MODIFIED:20231023T205845Z
UID:10001026-1690475400-1690479000@prattvilleal.gov
SUMMARY:Historic Preservation Commission Meeting
DESCRIPTION:The Historic Preservation Commission meets on the 4th Thursday of the month in the Council Chambers. \nClick the link below to view agendas\, minutes and packets. \nHPC Portal Access
URL:https://prattvilleal.gov/event/historic-preservation-commission-meeting/2023-07-27/
LOCATION:City Hall Council Chambers\, Council Chamber | 101 West Main Street | Prattville
CATEGORIES:Government Meetings
GEO:32.4591716;-86.4732051
X-APPLE-STRUCTURED-LOCATION;VALUE=URI;X-ADDRESS=City Hall Council Chambers Council Chamber | 101 West Main Street | Prattville;X-APPLE-RADIUS=500;X-TITLE=Council Chamber | 101 West Main Street | Prattville:geo:-86.4732051,32.4591716
END:VEVENT
BEGIN:VEVENT
DTSTART;TZID=America/Chicago:20230720T150000
DTEND;TZID=America/Chicago:20230720T160000
DTSTAMP:20260422T130605
CREATED:20230628T211636Z
LAST-MODIFIED:20230628T212143Z
UID:10000894-1689865200-1689868800@prattvilleal.gov
SUMMARY:Planning Commission Meeting
DESCRIPTION:The Planning Commission meets on the 3rd Thursday of the month in the Council Chambers. \nClick the button below to view agenda\, minutes\, and packets. \nPlanning Commission Public Portal
URL:https://prattvilleal.gov/event/planning-commission-meeting/2023-07-20/
LOCATION:City Hall Council Chambers\, Council Chamber | 101 West Main Street | Prattville
CATEGORIES:Government Meetings
GEO:32.4591716;-86.4732051
X-APPLE-STRUCTURED-LOCATION;VALUE=URI;X-ADDRESS=City Hall Council Chambers Council Chamber | 101 West Main Street | Prattville;X-APPLE-RADIUS=500;X-TITLE=Council Chamber | 101 West Main Street | Prattville:geo:-86.4732051,32.4591716
END:VEVENT
BEGIN:VEVENT
DTSTART;TZID=America/Chicago:20230718T180000
DTEND;TZID=America/Chicago:20230718T180000
DTSTAMP:20260422T130605
CREATED:20230112T170618Z
LAST-MODIFIED:20231027T173752Z
UID:10000566-1689703200-1689703200@prattvilleal.gov
SUMMARY:City Council Meetings
DESCRIPTION:1st and 3rd Tuesday of each Month. To view draft agenda and minutes\, please visit Laserfiche.
URL:https://prattvilleal.gov/event/city-council-meetings-2/2023-07-18/
LOCATION:City Hall Council Chambers\, Council Chamber | 101 West Main Street | Prattville
CATEGORIES:Government Meetings
ORGANIZER;CN="City Clerk":MAILTO:cityclerk@prattvilleal.gov
GEO:32.4591716;-86.4732051
X-APPLE-STRUCTURED-LOCATION;VALUE=URI;X-ADDRESS=City Hall Council Chambers Council Chamber | 101 West Main Street | Prattville;X-APPLE-RADIUS=500;X-TITLE=Council Chamber | 101 West Main Street | Prattville:geo:-86.4732051,32.4591716
END:VEVENT
BEGIN:VEVENT
DTSTART;TZID=America/Chicago:20230711T180000
DTEND;TZID=America/Chicago:20230711T180000
DTSTAMP:20260422T130605
CREATED:20230628T180212Z
LAST-MODIFIED:20230724T203456Z
UID:10000519-1689098400-1689098400@prattvilleal.gov
SUMMARY:City Council Meeting
DESCRIPTION:The July 4\, 2023 City Council Meeting has been rescheduled to July 11\, 2023 due to Independence Day. \n 
URL:https://prattvilleal.gov/event/city-council-meeting-2/2023-07-11/
LOCATION:City Hall Council Chambers\, Council Chamber | 101 West Main Street | Prattville
CATEGORIES:Government Meetings
ORGANIZER;CN="City Clerk":MAILTO:cityclerk@prattvilleal.gov
GEO:32.4591716;-86.4732051
X-APPLE-STRUCTURED-LOCATION;VALUE=URI;X-ADDRESS=City Hall Council Chambers Council Chamber | 101 West Main Street | Prattville;X-APPLE-RADIUS=500;X-TITLE=Council Chamber | 101 West Main Street | Prattville:geo:-86.4732051,32.4591716
END:VEVENT
BEGIN:VEVENT
DTSTART;TZID=America/Chicago:20230711T160000
DTEND;TZID=America/Chicago:20230711T170000
DTSTAMP:20260422T130605
CREATED:20230628T212945Z
LAST-MODIFIED:20230628T213000Z
UID:10000960-1689091200-1689094800@prattvilleal.gov
SUMMARY:Board of Zoning Adjustments Meeting
DESCRIPTION:The Board of Zoning Adjustments (BZA) meets on the 2nd Tuesday of the month in the Council Chambers. \nClick the link below to view agendas\, minutes\, and packets. \nBZA Public Portal Access
URL:https://prattvilleal.gov/event/board-of-zoning-adjustments-meeting/2023-07-11/
LOCATION:City Hall Council Chambers\, Council Chamber | 101 West Main Street | Prattville
CATEGORIES:Government Meetings
GEO:32.4591716;-86.4732051
X-APPLE-STRUCTURED-LOCATION;VALUE=URI;X-ADDRESS=City Hall Council Chambers Council Chamber | 101 West Main Street | Prattville;X-APPLE-RADIUS=500;X-TITLE=Council Chamber | 101 West Main Street | Prattville:geo:-86.4732051,32.4591716
END:VEVENT
BEGIN:VEVENT
DTSTART;TZID=America/Chicago:20230622T163000
DTEND;TZID=America/Chicago:20230622T173000
DTSTAMP:20260422T130605
CREATED:20230628T213548Z
LAST-MODIFIED:20231023T205845Z
UID:10001025-1687451400-1687455000@prattvilleal.gov
SUMMARY:Historic Preservation Commission Meeting
DESCRIPTION:The Historic Preservation Commission meets on the 4th Thursday of the month in the Council Chambers. \nClick the link below to view agendas\, minutes and packets. \nHPC Portal Access
URL:https://prattvilleal.gov/event/historic-preservation-commission-meeting/2023-06-22/
LOCATION:City Hall Council Chambers\, Council Chamber | 101 West Main Street | Prattville
CATEGORIES:Government Meetings
GEO:32.4591716;-86.4732051
X-APPLE-STRUCTURED-LOCATION;VALUE=URI;X-ADDRESS=City Hall Council Chambers Council Chamber | 101 West Main Street | Prattville;X-APPLE-RADIUS=500;X-TITLE=Council Chamber | 101 West Main Street | Prattville:geo:-86.4732051,32.4591716
END:VEVENT
BEGIN:VEVENT
DTSTART;TZID=America/Chicago:20230620T180000
DTEND;TZID=America/Chicago:20230620T180000
DTSTAMP:20260422T130605
CREATED:20230112T170618Z
LAST-MODIFIED:20231027T173752Z
UID:10000565-1687284000-1687284000@prattvilleal.gov
SUMMARY:City Council Meetings
DESCRIPTION:1st and 3rd Tuesday of each Month. To view draft agenda and minutes\, please visit Laserfiche.
URL:https://prattvilleal.gov/event/city-council-meetings-2/2023-06-20/
LOCATION:City Hall Council Chambers\, Council Chamber | 101 West Main Street | Prattville
CATEGORIES:Government Meetings
ORGANIZER;CN="City Clerk":MAILTO:cityclerk@prattvilleal.gov
GEO:32.4591716;-86.4732051
X-APPLE-STRUCTURED-LOCATION;VALUE=URI;X-ADDRESS=City Hall Council Chambers Council Chamber | 101 West Main Street | Prattville;X-APPLE-RADIUS=500;X-TITLE=Council Chamber | 101 West Main Street | Prattville:geo:-86.4732051,32.4591716
END:VEVENT
BEGIN:VEVENT
DTSTART;TZID=America/Chicago:20230615T150000
DTEND;TZID=America/Chicago:20230615T160000
DTSTAMP:20260422T130605
CREATED:20230628T211636Z
LAST-MODIFIED:20230628T212143Z
UID:10000893-1686841200-1686844800@prattvilleal.gov
SUMMARY:Planning Commission Meeting
DESCRIPTION:The Planning Commission meets on the 3rd Thursday of the month in the Council Chambers. \nClick the button below to view agenda\, minutes\, and packets. \nPlanning Commission Public Portal
URL:https://prattvilleal.gov/event/planning-commission-meeting/2023-06-15/
LOCATION:City Hall Council Chambers\, Council Chamber | 101 West Main Street | Prattville
CATEGORIES:Government Meetings
GEO:32.4591716;-86.4732051
X-APPLE-STRUCTURED-LOCATION;VALUE=URI;X-ADDRESS=City Hall Council Chambers Council Chamber | 101 West Main Street | Prattville;X-APPLE-RADIUS=500;X-TITLE=Council Chamber | 101 West Main Street | Prattville:geo:-86.4732051,32.4591716
END:VEVENT
BEGIN:VEVENT
DTSTART;TZID=America/Chicago:20230613T160000
DTEND;TZID=America/Chicago:20230613T170000
DTSTAMP:20260422T130605
CREATED:20230628T212945Z
LAST-MODIFIED:20230628T213000Z
UID:10000959-1686672000-1686675600@prattvilleal.gov
SUMMARY:Board of Zoning Adjustments Meeting
DESCRIPTION:The Board of Zoning Adjustments (BZA) meets on the 2nd Tuesday of the month in the Council Chambers. \nClick the link below to view agendas\, minutes\, and packets. \nBZA Public Portal Access
URL:https://prattvilleal.gov/event/board-of-zoning-adjustments-meeting/2023-06-13/
LOCATION:City Hall Council Chambers\, Council Chamber | 101 West Main Street | Prattville
CATEGORIES:Government Meetings
GEO:32.4591716;-86.4732051
X-APPLE-STRUCTURED-LOCATION;VALUE=URI;X-ADDRESS=City Hall Council Chambers Council Chamber | 101 West Main Street | Prattville;X-APPLE-RADIUS=500;X-TITLE=Council Chamber | 101 West Main Street | Prattville:geo:-86.4732051,32.4591716
END:VEVENT
BEGIN:VEVENT
DTSTART;TZID=America/Chicago:20230606T180000
DTEND;TZID=America/Chicago:20230606T180000
DTSTAMP:20260422T130605
CREATED:20230110T223614Z
LAST-MODIFIED:20230110T223614Z
UID:10000518-1686074400-1686074400@prattvilleal.gov
SUMMARY:City Council Meeting
DESCRIPTION:
URL:https://prattvilleal.gov/event/city-council-meeting/2023-06-06/
LOCATION:City Hall Council Chambers\, Council Chamber | 101 West Main Street | Prattville
CATEGORIES:Government Meetings
ORGANIZER;CN="City Clerk":MAILTO:cityclerk@prattvilleal.gov
GEO:32.4591716;-86.4732051
X-APPLE-STRUCTURED-LOCATION;VALUE=URI;X-ADDRESS=City Hall Council Chambers Council Chamber | 101 West Main Street | Prattville;X-APPLE-RADIUS=500;X-TITLE=Council Chamber | 101 West Main Street | Prattville:geo:-86.4732051,32.4591716
END:VEVENT
BEGIN:VEVENT
DTSTART;TZID=America/Chicago:20230525T163000
DTEND;TZID=America/Chicago:20230525T173000
DTSTAMP:20260422T130605
CREATED:20230628T213548Z
LAST-MODIFIED:20231023T205845Z
UID:10001024-1685032200-1685035800@prattvilleal.gov
SUMMARY:Historic Preservation Commission Meeting
DESCRIPTION:The Historic Preservation Commission meets on the 4th Thursday of the month in the Council Chambers. \nClick the link below to view agendas\, minutes and packets. \nHPC Portal Access
URL:https://prattvilleal.gov/event/historic-preservation-commission-meeting/2023-05-25/
LOCATION:City Hall Council Chambers\, Council Chamber | 101 West Main Street | Prattville
CATEGORIES:Government Meetings
GEO:32.4591716;-86.4732051
X-APPLE-STRUCTURED-LOCATION;VALUE=URI;X-ADDRESS=City Hall Council Chambers Council Chamber | 101 West Main Street | Prattville;X-APPLE-RADIUS=500;X-TITLE=Council Chamber | 101 West Main Street | Prattville:geo:-86.4732051,32.4591716
END:VEVENT
BEGIN:VEVENT
DTSTART;TZID=America/Chicago:20230518T150000
DTEND;TZID=America/Chicago:20230518T160000
DTSTAMP:20260422T130605
CREATED:20230628T211636Z
LAST-MODIFIED:20230628T212143Z
UID:10000892-1684422000-1684425600@prattvilleal.gov
SUMMARY:Planning Commission Meeting
DESCRIPTION:The Planning Commission meets on the 3rd Thursday of the month in the Council Chambers. \nClick the button below to view agenda\, minutes\, and packets. \nPlanning Commission Public Portal
URL:https://prattvilleal.gov/event/planning-commission-meeting/2023-05-18/
LOCATION:City Hall Council Chambers\, Council Chamber | 101 West Main Street | Prattville
CATEGORIES:Government Meetings
GEO:32.4591716;-86.4732051
X-APPLE-STRUCTURED-LOCATION;VALUE=URI;X-ADDRESS=City Hall Council Chambers Council Chamber | 101 West Main Street | Prattville;X-APPLE-RADIUS=500;X-TITLE=Council Chamber | 101 West Main Street | Prattville:geo:-86.4732051,32.4591716
END:VEVENT
BEGIN:VEVENT
DTSTART;TZID=America/Chicago:20230516T180000
DTEND;TZID=America/Chicago:20230516T180000
DTSTAMP:20260422T130605
CREATED:20230112T170618Z
LAST-MODIFIED:20231027T173752Z
UID:10000564-1684260000-1684260000@prattvilleal.gov
SUMMARY:City Council Meetings
DESCRIPTION:1st and 3rd Tuesday of each Month. To view draft agenda and minutes\, please visit Laserfiche.
URL:https://prattvilleal.gov/event/city-council-meetings-2/2023-05-16/
LOCATION:City Hall Council Chambers\, Council Chamber | 101 West Main Street | Prattville
CATEGORIES:Government Meetings
ORGANIZER;CN="City Clerk":MAILTO:cityclerk@prattvilleal.gov
GEO:32.4591716;-86.4732051
X-APPLE-STRUCTURED-LOCATION;VALUE=URI;X-ADDRESS=City Hall Council Chambers Council Chamber | 101 West Main Street | Prattville;X-APPLE-RADIUS=500;X-TITLE=Council Chamber | 101 West Main Street | Prattville:geo:-86.4732051,32.4591716
END:VEVENT
BEGIN:VEVENT
DTSTART;TZID=America/Chicago:20230509T160000
DTEND;TZID=America/Chicago:20230509T170000
DTSTAMP:20260422T130605
CREATED:20230628T212945Z
LAST-MODIFIED:20230628T213000Z
UID:10000958-1683648000-1683651600@prattvilleal.gov
SUMMARY:Board of Zoning Adjustments Meeting
DESCRIPTION:The Board of Zoning Adjustments (BZA) meets on the 2nd Tuesday of the month in the Council Chambers. \nClick the link below to view agendas\, minutes\, and packets. \nBZA Public Portal Access
URL:https://prattvilleal.gov/event/board-of-zoning-adjustments-meeting/2023-05-09/
LOCATION:City Hall Council Chambers\, Council Chamber | 101 West Main Street | Prattville
CATEGORIES:Government Meetings
GEO:32.4591716;-86.4732051
X-APPLE-STRUCTURED-LOCATION;VALUE=URI;X-ADDRESS=City Hall Council Chambers Council Chamber | 101 West Main Street | Prattville;X-APPLE-RADIUS=500;X-TITLE=Council Chamber | 101 West Main Street | Prattville:geo:-86.4732051,32.4591716
END:VEVENT
BEGIN:VEVENT
DTSTART;TZID=America/Chicago:20230502T180000
DTEND;TZID=America/Chicago:20230502T180000
DTSTAMP:20260422T130605
CREATED:20230110T223614Z
LAST-MODIFIED:20230110T223614Z
UID:10000517-1683050400-1683050400@prattvilleal.gov
SUMMARY:City Council Meeting
DESCRIPTION:
URL:https://prattvilleal.gov/event/city-council-meeting/2023-05-02/
LOCATION:City Hall Council Chambers\, Council Chamber | 101 West Main Street | Prattville
CATEGORIES:Government Meetings
ORGANIZER;CN="City Clerk":MAILTO:cityclerk@prattvilleal.gov
GEO:32.4591716;-86.4732051
X-APPLE-STRUCTURED-LOCATION;VALUE=URI;X-ADDRESS=City Hall Council Chambers Council Chamber | 101 West Main Street | Prattville;X-APPLE-RADIUS=500;X-TITLE=Council Chamber | 101 West Main Street | Prattville:geo:-86.4732051,32.4591716
END:VEVENT
BEGIN:VEVENT
DTSTART;TZID=America/Chicago:20230427T163000
DTEND;TZID=America/Chicago:20230427T173000
DTSTAMP:20260422T130605
CREATED:20230628T213548Z
LAST-MODIFIED:20231023T205845Z
UID:10001023-1682613000-1682616600@prattvilleal.gov
SUMMARY:Historic Preservation Commission Meeting
DESCRIPTION:The Historic Preservation Commission meets on the 4th Thursday of the month in the Council Chambers. \nClick the link below to view agendas\, minutes and packets. \nHPC Portal Access
URL:https://prattvilleal.gov/event/historic-preservation-commission-meeting/2023-04-27/
LOCATION:City Hall Council Chambers\, Council Chamber | 101 West Main Street | Prattville
CATEGORIES:Government Meetings
GEO:32.4591716;-86.4732051
X-APPLE-STRUCTURED-LOCATION;VALUE=URI;X-ADDRESS=City Hall Council Chambers Council Chamber | 101 West Main Street | Prattville;X-APPLE-RADIUS=500;X-TITLE=Council Chamber | 101 West Main Street | Prattville:geo:-86.4732051,32.4591716
END:VEVENT
BEGIN:VEVENT
DTSTART;TZID=America/Chicago:20230420T150000
DTEND;TZID=America/Chicago:20230420T160000
DTSTAMP:20260422T130605
CREATED:20230628T211636Z
LAST-MODIFIED:20230628T212143Z
UID:10000891-1682002800-1682006400@prattvilleal.gov
SUMMARY:Planning Commission Meeting
DESCRIPTION:The Planning Commission meets on the 3rd Thursday of the month in the Council Chambers. \nClick the button below to view agenda\, minutes\, and packets. \nPlanning Commission Public Portal
URL:https://prattvilleal.gov/event/planning-commission-meeting/2023-04-20/
LOCATION:City Hall Council Chambers\, Council Chamber | 101 West Main Street | Prattville
CATEGORIES:Government Meetings
GEO:32.4591716;-86.4732051
X-APPLE-STRUCTURED-LOCATION;VALUE=URI;X-ADDRESS=City Hall Council Chambers Council Chamber | 101 West Main Street | Prattville;X-APPLE-RADIUS=500;X-TITLE=Council Chamber | 101 West Main Street | Prattville:geo:-86.4732051,32.4591716
END:VEVENT
BEGIN:VEVENT
DTSTART;TZID=America/Chicago:20230418T180000
DTEND;TZID=America/Chicago:20230418T180000
DTSTAMP:20260422T130605
CREATED:20230112T170618Z
LAST-MODIFIED:20231027T173752Z
UID:10000563-1681840800-1681840800@prattvilleal.gov
SUMMARY:City Council Meetings
DESCRIPTION:1st and 3rd Tuesday of each Month. To view draft agenda and minutes\, please visit Laserfiche.
URL:https://prattvilleal.gov/event/city-council-meetings-2/2023-04-18/
LOCATION:City Hall Council Chambers\, Council Chamber | 101 West Main Street | Prattville
CATEGORIES:Government Meetings
ORGANIZER;CN="City Clerk":MAILTO:cityclerk@prattvilleal.gov
GEO:32.4591716;-86.4732051
X-APPLE-STRUCTURED-LOCATION;VALUE=URI;X-ADDRESS=City Hall Council Chambers Council Chamber | 101 West Main Street | Prattville;X-APPLE-RADIUS=500;X-TITLE=Council Chamber | 101 West Main Street | Prattville:geo:-86.4732051,32.4591716
END:VEVENT
BEGIN:VEVENT
DTSTART;TZID=America/Chicago:20230411T160000
DTEND;TZID=America/Chicago:20230411T170000
DTSTAMP:20260422T130605
CREATED:20230628T212945Z
LAST-MODIFIED:20230628T213000Z
UID:10000957-1681228800-1681232400@prattvilleal.gov
SUMMARY:Board of Zoning Adjustments Meeting
DESCRIPTION:The Board of Zoning Adjustments (BZA) meets on the 2nd Tuesday of the month in the Council Chambers. \nClick the link below to view agendas\, minutes\, and packets. \nBZA Public Portal Access
URL:https://prattvilleal.gov/event/board-of-zoning-adjustments-meeting/2023-04-11/
LOCATION:City Hall Council Chambers\, Council Chamber | 101 West Main Street | Prattville
CATEGORIES:Government Meetings
GEO:32.4591716;-86.4732051
X-APPLE-STRUCTURED-LOCATION;VALUE=URI;X-ADDRESS=City Hall Council Chambers Council Chamber | 101 West Main Street | Prattville;X-APPLE-RADIUS=500;X-TITLE=Council Chamber | 101 West Main Street | Prattville:geo:-86.4732051,32.4591716
END:VEVENT
BEGIN:VEVENT
DTSTART;TZID=America/Chicago:20230404T180000
DTEND;TZID=America/Chicago:20230404T180000
DTSTAMP:20260422T130605
CREATED:20230110T223614Z
LAST-MODIFIED:20230110T223614Z
UID:10000516-1680631200-1680631200@prattvilleal.gov
SUMMARY:City Council Meeting
DESCRIPTION:
URL:https://prattvilleal.gov/event/city-council-meeting/2023-04-04/
LOCATION:City Hall Council Chambers\, Council Chamber | 101 West Main Street | Prattville
CATEGORIES:Government Meetings
ORGANIZER;CN="City Clerk":MAILTO:cityclerk@prattvilleal.gov
GEO:32.4591716;-86.4732051
X-APPLE-STRUCTURED-LOCATION;VALUE=URI;X-ADDRESS=City Hall Council Chambers Council Chamber | 101 West Main Street | Prattville;X-APPLE-RADIUS=500;X-TITLE=Council Chamber | 101 West Main Street | Prattville:geo:-86.4732051,32.4591716
END:VEVENT
BEGIN:VEVENT
DTSTART;TZID=America/Chicago:20230323T163000
DTEND;TZID=America/Chicago:20230323T173000
DTSTAMP:20260422T130605
CREATED:20230628T213548Z
LAST-MODIFIED:20231023T205845Z
UID:10001022-1679589000-1679592600@prattvilleal.gov
SUMMARY:Historic Preservation Commission Meeting
DESCRIPTION:The Historic Preservation Commission meets on the 4th Thursday of the month in the Council Chambers. \nClick the link below to view agendas\, minutes and packets. \nHPC Portal Access
URL:https://prattvilleal.gov/event/historic-preservation-commission-meeting/2023-03-23/
LOCATION:City Hall Council Chambers\, Council Chamber | 101 West Main Street | Prattville
CATEGORIES:Government Meetings
GEO:32.4591716;-86.4732051
X-APPLE-STRUCTURED-LOCATION;VALUE=URI;X-ADDRESS=City Hall Council Chambers Council Chamber | 101 West Main Street | Prattville;X-APPLE-RADIUS=500;X-TITLE=Council Chamber | 101 West Main Street | Prattville:geo:-86.4732051,32.4591716
END:VEVENT
BEGIN:VEVENT
DTSTART;TZID=America/Chicago:20230321T180000
DTEND;TZID=America/Chicago:20230321T180000
DTSTAMP:20260422T130605
CREATED:20230112T170618Z
LAST-MODIFIED:20231027T173752Z
UID:10000562-1679421600-1679421600@prattvilleal.gov
SUMMARY:City Council Meetings
DESCRIPTION:1st and 3rd Tuesday of each Month. To view draft agenda and minutes\, please visit Laserfiche.
URL:https://prattvilleal.gov/event/city-council-meetings-2/2023-03-21/
LOCATION:City Hall Council Chambers\, Council Chamber | 101 West Main Street | Prattville
CATEGORIES:Government Meetings
ORGANIZER;CN="City Clerk":MAILTO:cityclerk@prattvilleal.gov
GEO:32.4591716;-86.4732051
X-APPLE-STRUCTURED-LOCATION;VALUE=URI;X-ADDRESS=City Hall Council Chambers Council Chamber | 101 West Main Street | Prattville;X-APPLE-RADIUS=500;X-TITLE=Council Chamber | 101 West Main Street | Prattville:geo:-86.4732051,32.4591716
END:VEVENT
BEGIN:VEVENT
DTSTART;TZID=America/Chicago:20230316T150000
DTEND;TZID=America/Chicago:20230316T160000
DTSTAMP:20260422T130605
CREATED:20230628T211636Z
LAST-MODIFIED:20230628T212143Z
UID:10000890-1678978800-1678982400@prattvilleal.gov
SUMMARY:Planning Commission Meeting
DESCRIPTION:The Planning Commission meets on the 3rd Thursday of the month in the Council Chambers. \nClick the button below to view agenda\, minutes\, and packets. \nPlanning Commission Public Portal
URL:https://prattvilleal.gov/event/planning-commission-meeting/2023-03-16/
LOCATION:City Hall Council Chambers\, Council Chamber | 101 West Main Street | Prattville
CATEGORIES:Government Meetings
GEO:32.4591716;-86.4732051
X-APPLE-STRUCTURED-LOCATION;VALUE=URI;X-ADDRESS=City Hall Council Chambers Council Chamber | 101 West Main Street | Prattville;X-APPLE-RADIUS=500;X-TITLE=Council Chamber | 101 West Main Street | Prattville:geo:-86.4732051,32.4591716
END:VEVENT
BEGIN:VEVENT
DTSTART;TZID=America/Chicago:20230314T160000
DTEND;TZID=America/Chicago:20230314T170000
DTSTAMP:20260422T130605
CREATED:20230628T212945Z
LAST-MODIFIED:20230628T213000Z
UID:10000956-1678809600-1678813200@prattvilleal.gov
SUMMARY:Board of Zoning Adjustments Meeting
DESCRIPTION:The Board of Zoning Adjustments (BZA) meets on the 2nd Tuesday of the month in the Council Chambers. \nClick the link below to view agendas\, minutes\, and packets. \nBZA Public Portal Access
URL:https://prattvilleal.gov/event/board-of-zoning-adjustments-meeting/2023-03-14/
LOCATION:City Hall Council Chambers\, Council Chamber | 101 West Main Street | Prattville
CATEGORIES:Government Meetings
GEO:32.4591716;-86.4732051
X-APPLE-STRUCTURED-LOCATION;VALUE=URI;X-ADDRESS=City Hall Council Chambers Council Chamber | 101 West Main Street | Prattville;X-APPLE-RADIUS=500;X-TITLE=Council Chamber | 101 West Main Street | Prattville:geo:-86.4732051,32.4591716
END:VEVENT
BEGIN:VEVENT
DTSTART;TZID=America/Chicago:20230307T180000
DTEND;TZID=America/Chicago:20230307T180000
DTSTAMP:20260422T130605
CREATED:20230110T223614Z
LAST-MODIFIED:20230110T223614Z
UID:10000515-1678212000-1678212000@prattvilleal.gov
SUMMARY:City Council Meeting
DESCRIPTION:
URL:https://prattvilleal.gov/event/city-council-meeting/2023-03-07/
LOCATION:City Hall Council Chambers\, Council Chamber | 101 West Main Street | Prattville
CATEGORIES:Government Meetings
ORGANIZER;CN="City Clerk":MAILTO:cityclerk@prattvilleal.gov
GEO:32.4591716;-86.4732051
X-APPLE-STRUCTURED-LOCATION;VALUE=URI;X-ADDRESS=City Hall Council Chambers Council Chamber | 101 West Main Street | Prattville;X-APPLE-RADIUS=500;X-TITLE=Council Chamber | 101 West Main Street | Prattville:geo:-86.4732051,32.4591716
END:VEVENT
END:VCALENDAR