BEGIN:VCALENDAR
VERSION:2.0
PRODID:-//City of Prattville - ECPv6.15.20//NONSGML v1.0//EN
CALSCALE:GREGORIAN
METHOD:PUBLISH
X-WR-CALNAME:City of Prattville
X-ORIGINAL-URL:https://prattvilleal.gov
X-WR-CALDESC:Events for City of Prattville
REFRESH-INTERVAL;VALUE=DURATION:PT1H
X-Robots-Tag:noindex
X-PUBLISHED-TTL:PT1H
BEGIN:VTIMEZONE
TZID:America/Chicago
BEGIN:DAYLIGHT
TZOFFSETFROM:-0600
TZOFFSETTO:-0500
TZNAME:CDT
DTSTART:20230312T080000
END:DAYLIGHT
BEGIN:STANDARD
TZOFFSETFROM:-0500
TZOFFSETTO:-0600
TZNAME:CST
DTSTART:20231105T070000
END:STANDARD
BEGIN:DAYLIGHT
TZOFFSETFROM:-0600
TZOFFSETTO:-0500
TZNAME:CDT
DTSTART:20240310T080000
END:DAYLIGHT
BEGIN:STANDARD
TZOFFSETFROM:-0500
TZOFFSETTO:-0600
TZNAME:CST
DTSTART:20241103T070000
END:STANDARD
BEGIN:DAYLIGHT
TZOFFSETFROM:-0600
TZOFFSETTO:-0500
TZNAME:CDT
DTSTART:20250309T080000
END:DAYLIGHT
BEGIN:STANDARD
TZOFFSETFROM:-0500
TZOFFSETTO:-0600
TZNAME:CST
DTSTART:20251102T070000
END:STANDARD
END:VTIMEZONE
BEGIN:VEVENT
DTSTART;TZID=America/Chicago:20240213T070000
DTEND;TZID=America/Chicago:20240213T190000
DTSTAMP:20260421T075257
CREATED:20240126T170553Z
LAST-MODIFIED:20240126T170801Z
UID:10001963-1707807600-1707850800@prattvilleal.gov
SUMMARY:Special Elections for Councilor of District 5
DESCRIPTION:Special Election for District 5  is Tuesday\, February 13\, 2024\, and polls will be opened at 7:00 a.m. and remain open continuously until 7:00 p.m. at 1357 S. Memorial Drive\, Heritage Baptist Church. For more information visit Resolution Notice for Special Elections -District 5. or call City Clerk at 334-595-0120.
URL:https://prattvilleal.gov/event/special-elections-for-councilor-of-district-5/
LOCATION:Heritage Baptist Church\, 1357 S. Memorial Drive\, Prattville\, AL\, United States
CATEGORIES:Government Meetings
GEO:32.4416394;-86.4281417
X-APPLE-STRUCTURED-LOCATION;VALUE=URI;X-ADDRESS=Heritage Baptist Church 1357 S. Memorial Drive Prattville AL United States;X-APPLE-RADIUS=500;X-TITLE=1357 S. Memorial Drive:geo:-86.4281417,32.4416394
END:VEVENT
BEGIN:VEVENT
DTSTART;TZID=America/Chicago:20240213T160000
DTEND;TZID=America/Chicago:20240213T170000
DTSTAMP:20260421T075257
CREATED:20230628T212945Z
LAST-MODIFIED:20230628T213000Z
UID:10000967-1707840000-1707843600@prattvilleal.gov
SUMMARY:Board of Zoning Adjustments Meeting
DESCRIPTION:The Board of Zoning Adjustments (BZA) meets on the 2nd Tuesday of the month in the Council Chambers. \nClick the link below to view agendas\, minutes\, and packets. \nBZA Public Portal Access
URL:https://prattvilleal.gov/event/board-of-zoning-adjustments-meeting/2024-02-13/
LOCATION:City Hall Council Chambers\, Council Chamber | 101 West Main Street | Prattville
CATEGORIES:Government Meetings
GEO:32.4591716;-86.4732051
X-APPLE-STRUCTURED-LOCATION;VALUE=URI;X-ADDRESS=City Hall Council Chambers Council Chamber | 101 West Main Street | Prattville;X-APPLE-RADIUS=500;X-TITLE=Council Chamber | 101 West Main Street | Prattville:geo:-86.4732051,32.4591716
END:VEVENT
BEGIN:VEVENT
DTSTART;TZID=America/Chicago:20240215T150000
DTEND;TZID=America/Chicago:20240215T160000
DTSTAMP:20260421T075257
CREATED:20230628T211636Z
LAST-MODIFIED:20230628T212143Z
UID:10000901-1708009200-1708012800@prattvilleal.gov
SUMMARY:Planning Commission Meeting
DESCRIPTION:The Planning Commission meets on the 3rd Thursday of the month in the Council Chambers. \nClick the button below to view agenda\, minutes\, and packets. \nPlanning Commission Public Portal
URL:https://prattvilleal.gov/event/planning-commission-meeting/2024-02-15/
LOCATION:City Hall Council Chambers\, Council Chamber | 101 West Main Street | Prattville
CATEGORIES:Government Meetings
GEO:32.4591716;-86.4732051
X-APPLE-STRUCTURED-LOCATION;VALUE=URI;X-ADDRESS=City Hall Council Chambers Council Chamber | 101 West Main Street | Prattville;X-APPLE-RADIUS=500;X-TITLE=Council Chamber | 101 West Main Street | Prattville:geo:-86.4732051,32.4591716
END:VEVENT
BEGIN:VEVENT
DTSTART;TZID=America/Chicago:20240215T153000
DTEND;TZID=America/Chicago:20240215T163000
DTSTAMP:20260421T075257
CREATED:20240108T152707Z
LAST-MODIFIED:20240129T153317Z
UID:10001951-1708011000-1708014600@prattvilleal.gov
SUMMARY:Parks and Recreation Committee Meeting
DESCRIPTION:PUBLIC NOTICE\nParks & Recreation Committee Meeting \nThe Parks & Recreation Committee will meet on Thursday\, February 15\, 2024\, at 3:30 p.m. at the Doster Community Center\, 424 S. Northington Street. \nDRAFT Agenda Item \n\nCurrent Projects\n\nNewton Park\nNorth Highland Park\nStanley Jensen Stadium\n\n\nSpillway Park\nSpring Sports\nPratt Pool/Splashpad\nFuture Park Projects\nBeverage Contracts/Bids\n\nPlease contact the City Clerk’s Office at 595-0120 for additional information.
URL:https://prattvilleal.gov/event/parks-and-recreation-committee-meeting/
LOCATION:Doster Community Center\, 424 S. Northington Street\, Prattville\, AL\, 36067\, United States
CATEGORIES:Government Meetings
GEO:32.457074;-86.4681347
X-APPLE-STRUCTURED-LOCATION;VALUE=URI;X-ADDRESS=Doster Community Center 424 S. Northington Street Prattville AL 36067 United States;X-APPLE-RADIUS=500;X-TITLE=424 S. Northington Street:geo:-86.4681347,32.457074
END:VEVENT
BEGIN:VEVENT
DTSTART;TZID=America/Chicago:20240217T080000
DTEND;TZID=America/Chicago:20240217T110000
DTSTAMP:20260421T075257
CREATED:20240123T150831Z
LAST-MODIFIED:20240123T150831Z
UID:10001960-1708156800-1708167600@prattvilleal.gov
SUMMARY:Annual Arbor Day Celebration
DESCRIPTION:Join us for the annual Arbor Day Celebration and Tree Giveaway on Saturday\, February 17th from 8:00 a.m. -11:00 a.m. at Pratt Park. \n2024 Tree List: \n\nRed Buckeye\nPawpaw\nRiver Birch\nSweetshrub\nPecan\nRedbud\nKousa Dogwood\nEastern Mayhaw\nStrawberry Bush\nAshe Magnolia\nWax Myrtle\nElderberry\nBaldcypress\nArrowwood\nChestnut Oak\nNuttall Oak\nBaldcypress\n\n  \n 
URL:https://prattvilleal.gov/event/annual-arbor-day-celebration/
LOCATION:Pratt Park\, 460 Doster Rd\, Prattville\, AL\, 36067\, United States
CATEGORIES:Special Events
GEO:32.4539057;-86.4669136
X-APPLE-STRUCTURED-LOCATION;VALUE=URI;X-ADDRESS=Pratt Park 460 Doster Rd Prattville AL 36067 United States;X-APPLE-RADIUS=500;X-TITLE=460 Doster Rd:geo:-86.4669136,32.4539057
END:VEVENT
END:VCALENDAR