BEGIN:VCALENDAR
VERSION:2.0
PRODID:-//City of Prattville - ECPv6.15.20//NONSGML v1.0//EN
CALSCALE:GREGORIAN
METHOD:PUBLISH
X-WR-CALNAME:City of Prattville
X-ORIGINAL-URL:https://prattvilleal.gov
X-WR-CALDESC:Events for City of Prattville
REFRESH-INTERVAL;VALUE=DURATION:PT1H
X-Robots-Tag:noindex
X-PUBLISHED-TTL:PT1H
BEGIN:VTIMEZONE
TZID:America/Chicago
BEGIN:DAYLIGHT
TZOFFSETFROM:-0600
TZOFFSETTO:-0500
TZNAME:CDT
DTSTART:20250309T080000
END:DAYLIGHT
BEGIN:STANDARD
TZOFFSETFROM:-0500
TZOFFSETTO:-0600
TZNAME:CST
DTSTART:20251102T070000
END:STANDARD
BEGIN:DAYLIGHT
TZOFFSETFROM:-0600
TZOFFSETTO:-0500
TZNAME:CDT
DTSTART:20260308T080000
END:DAYLIGHT
BEGIN:STANDARD
TZOFFSETFROM:-0500
TZOFFSETTO:-0600
TZNAME:CST
DTSTART:20261101T070000
END:STANDARD
BEGIN:DAYLIGHT
TZOFFSETFROM:-0600
TZOFFSETTO:-0500
TZNAME:CDT
DTSTART:20270314T080000
END:DAYLIGHT
BEGIN:STANDARD
TZOFFSETFROM:-0500
TZOFFSETTO:-0600
TZNAME:CST
DTSTART:20271107T070000
END:STANDARD
END:VTIMEZONE
BEGIN:VEVENT
DTSTART;TZID=America/Chicago:20260117T140000
DTEND;TZID=America/Chicago:20260117T170000
DTSTAMP:20260420T004638
CREATED:20260113T183525Z
LAST-MODIFIED:20260113T183525Z
UID:10002550-1768658400-1768669200@prattvilleal.gov
SUMMARY:Hank Williams IV
DESCRIPTION:
URL:https://prattvilleal.gov/event/hank-williams-iv/
LOCATION:AL
CATEGORIES:Special Events
END:VEVENT
BEGIN:VEVENT
DTSTART;TZID=America/Chicago:20260119T080000
DTEND;TZID=America/Chicago:20260119T170000
DTSTAMP:20260420T004638
CREATED:20240104T010703Z
LAST-MODIFIED:20241231T201535Z
UID:10002142-1768809600-1768842000@prattvilleal.gov
SUMMARY:MLK Day Holiday - Closed
DESCRIPTION:City offices will be closed on the third Monday in January in observance of Martin Luther King\, Jr. Day. Please review the adjusted holiday sanitation schedule.
URL:https://prattvilleal.gov/event/mlk-day-closed/2026-01-19/
LOCATION:City Hall\, 101 West Main Street\, Prattville\, AL\, 36067\, United States
CATEGORIES:Government Meetings,Sanitation Schedule
GEO:32.4591716;-86.4732051
X-APPLE-STRUCTURED-LOCATION;VALUE=URI;X-ADDRESS=City Hall 101 West Main Street Prattville AL 36067 United States;X-APPLE-RADIUS=500;X-TITLE=101 West Main Street:geo:-86.4732051,32.4591716
END:VEVENT
BEGIN:VEVENT
DTSTART;TZID=America/Chicago:20260120T180000
DTEND;TZID=America/Chicago:20260120T193000
DTSTAMP:20260420T004638
CREATED:20231213T143009Z
LAST-MODIFIED:20250827T220001Z
UID:10001849-1768932000-1768937400@prattvilleal.gov
SUMMARY:City Council Meeting
DESCRIPTION:
URL:https://prattvilleal.gov/event/city-council-meeting-3rd-tuesday/2026-01-20/
LOCATION:City Hall Council Chambers\, Council Chamber | 101 West Main Street | Prattville
CATEGORIES:Government Meetings
ORGANIZER;CN="City Clerk":MAILTO:cityclerk@prattvilleal.gov
GEO:32.4591716;-86.4732051
X-APPLE-STRUCTURED-LOCATION;VALUE=URI;X-ADDRESS=City Hall Council Chambers Council Chamber | 101 West Main Street | Prattville;X-APPLE-RADIUS=500;X-TITLE=Council Chamber | 101 West Main Street | Prattville:geo:-86.4732051,32.4591716
END:VEVENT
BEGIN:VEVENT
DTSTART;TZID=America/Chicago:20260122T163000
DTEND;TZID=America/Chicago:20260122T173000
DTSTAMP:20260420T004638
CREATED:20260105T151033Z
LAST-MODIFIED:20260105T151033Z
UID:10002384-1769099400-1769103000@prattvilleal.gov
SUMMARY:Historic Preservation Commission Meeting
DESCRIPTION:The Historic Preservation Commission meets on the 4th Thursday of the month in the Council Chambers. \nClick the link below to view agendas\, minutes\, and packets. \nHPC Portal Access
URL:https://prattvilleal.gov/event/historic-preservation-commission-meeting-4-4-2-2-2/2026-01-22/
LOCATION:City Hall Council Chambers\, Council Chamber | 101 West Main Street | Prattville
CATEGORIES:Government Meetings
GEO:32.4591716;-86.4732051
X-APPLE-STRUCTURED-LOCATION;VALUE=URI;X-ADDRESS=City Hall Council Chambers Council Chamber | 101 West Main Street | Prattville;X-APPLE-RADIUS=500;X-TITLE=Council Chamber | 101 West Main Street | Prattville:geo:-86.4732051,32.4591716
END:VEVENT
BEGIN:VEVENT
DTSTART;TZID=America/Chicago:20260124T140000
DTEND;TZID=America/Chicago:20260124T170000
DTSTAMP:20260420T004638
CREATED:20260120T183519Z
LAST-MODIFIED:20260122T212748Z
UID:10002552-1769263200-1769274000@prattvilleal.gov
SUMMARY:Tommy Darnall Duo
DESCRIPTION:
URL:https://prattvilleal.gov/event/tommy-darnall-duo/
LOCATION:AL
CATEGORIES:Special Events
END:VEVENT
BEGIN:VEVENT
DTSTART;TZID=America/Chicago:20260131T160000
DTEND;TZID=America/Chicago:20260131T190000
DTSTAMP:20260420T004638
CREATED:20260113T183525Z
LAST-MODIFIED:20260127T183513Z
UID:10002551-1769875200-1769886000@prattvilleal.gov
SUMMARY:Mardis Gras Party w/ Gumptown Brass Band
DESCRIPTION:
URL:https://prattvilleal.gov/event/mardis-gras-party-w-gumptown-brass-band/
LOCATION:AL
CATEGORIES:Special Events
END:VEVENT
BEGIN:VEVENT
DTSTART;TZID=America/Chicago:20260202T160000
DTEND;TZID=America/Chicago:20260202T170000
DTSTAMP:20260420T004638
CREATED:20260126T165010Z
LAST-MODIFIED:20260126T165010Z
UID:10002555-1770048000-1770051600@prattvilleal.gov
SUMMARY:Public Safety (Fire and Police)\, Judicial\, Information Technology Committee Meeting
DESCRIPTION:The Public Safety (Fire and Police)\, Judicial\, and Information Technology Committee will meet on Monday\, February 2\, 2026\, at 4:00 p.m. at the Public Safety Training Facility\, 290 Echlin Blvd. \nDRAFT Agenda Items \n\nPolice Department – Goals\, future needs\, and Code Enforcement\nFire Department – Overview\, future needs\, and recruitment and retention\nJudicial – Court programs\, increased caseload\, loitering\, and Metro Jail\nIT – Future needs\, personnel\, and projects\n\nPlease contact the City Clerk’s Office at 595-0120 for additional information.
URL:https://prattvilleal.gov/event/public-safety-fire-and-police-judicial-information-technology-committee-meeting-2/
LOCATION:Public Safety Training Facility\, 290 Echlin Blvd\, Prattville\, 36067\, United States
CATEGORIES:Government Meetings
GEO:32.4315948;-86.4784961
X-APPLE-STRUCTURED-LOCATION;VALUE=URI;X-ADDRESS=Public Safety Training Facility 290 Echlin Blvd Prattville 36067 United States;X-APPLE-RADIUS=500;X-TITLE=290 Echlin Blvd:geo:-86.4784961,32.4315948
END:VEVENT
BEGIN:VEVENT
DTSTART;TZID=America/Chicago:20260203T180000
DTEND;TZID=America/Chicago:20260203T193000
DTSTAMP:20260420T004638
CREATED:20231213T142354Z
LAST-MODIFIED:20250827T215919Z
UID:10001790-1770141600-1770147000@prattvilleal.gov
SUMMARY:City Council Meeting
DESCRIPTION:
URL:https://prattvilleal.gov/event/city-council-meeting-1-tuesday/2026-02-03/
LOCATION:City Hall Council Chambers\, Council Chamber | 101 West Main Street | Prattville
CATEGORIES:Government Meetings
ORGANIZER;CN="City Clerk":MAILTO:cityclerk@prattvilleal.gov
GEO:32.4591716;-86.4732051
X-APPLE-STRUCTURED-LOCATION;VALUE=URI;X-ADDRESS=City Hall Council Chambers Council Chamber | 101 West Main Street | Prattville;X-APPLE-RADIUS=500;X-TITLE=Council Chamber | 101 West Main Street | Prattville:geo:-86.4732051,32.4591716
END:VEVENT
BEGIN:VEVENT
DTSTART;TZID=America/Chicago:20260205T163000
DTEND;TZID=America/Chicago:20260205T173000
DTSTAMP:20260420T004638
CREATED:20260126T164813Z
LAST-MODIFIED:20260126T164813Z
UID:10002554-1770309000-1770312600@prattvilleal.gov
SUMMARY:Parks & Recreation Committee Meeting
DESCRIPTION:The Parks & Recreation Committee will meet on Thursday\, February 5\, 2026\, at 4:30 p.m. \nin the Council Chambers at City Hall\, 101 West Main Street. \n\nDRAFT Agenda  \n\nWhetstone Complex upgrades\nCenterpoint Church/Overlook Park Connection\nCooters Pond Volleyball Court\nPratt Pool Sand Filters\nMiller Park and Pratt Park Walking Trails\nPlayground Upgrades – Miller Park/Lo Pickett Parks\nUpper Kingston Park Community Center/Civic Groups Usage
URL:https://prattvilleal.gov/event/parks-recreation-committee-meeting-2/
LOCATION:City Hall Council Chambers\, Council Chamber | 101 West Main Street | Prattville
CATEGORIES:Government Meetings
GEO:32.4591716;-86.4732051
X-APPLE-STRUCTURED-LOCATION;VALUE=URI;X-ADDRESS=City Hall Council Chambers Council Chamber | 101 West Main Street | Prattville;X-APPLE-RADIUS=500;X-TITLE=Council Chamber | 101 West Main Street | Prattville:geo:-86.4732051,32.4591716
END:VEVENT
BEGIN:VEVENT
DTSTART;TZID=America/Chicago:20260207T140000
DTEND;TZID=America/Chicago:20260207T170000
DTSTAMP:20260420T004638
CREATED:20260120T183520Z
LAST-MODIFIED:20260203T183528Z
UID:10002553-1770472800-1770483600@prattvilleal.gov
SUMMARY:Cheyloe Martin Duo
DESCRIPTION:
URL:https://prattvilleal.gov/event/cheyloe-martin-duo/
LOCATION:AL
CATEGORIES:Special Events
END:VEVENT
END:VCALENDAR